| Back to Multiple platform build/check report for BioC 3.9 | 
 | 
This page was generated on 2019-04-09 13:38:24 -0400 (Tue, 09 Apr 2019).
| Package 393/1703 | Hostname | OS / Arch | INSTALL | BUILD | CHECK | BUILD BIN | ||||||
| decompTumor2Sig 1.99.1 Rosario M. Piro 
 | malbec2 | Linux (Ubuntu 18.04.2 LTS) / x86_64 | OK | OK | OK |  | ||||||
| tokay2 | Windows Server 2012 R2 Standard / x64 | OK | ERROR | skipped | skipped | |||||||
| celaya2 | OS X 10.11.6 El Capitan / x86_64 | OK | OK | OK | OK |  | ||||||
| merida2 | OS X 10.11.6 El Capitan / x86_64 | OK | OK | OK | [ OK ] | 
| Package: decompTumor2Sig | 
| Version: 1.99.1 | 
| Command: rm -rf decompTumor2Sig.buildbin-libdir && mkdir decompTumor2Sig.buildbin-libdir && /Users/biocbuild/BBS/utils/build-universal.sh decompTumor2Sig_1.99.1.tar.gz /Library/Frameworks/R.framework/Versions/Current/Resources/bin/R decompTumor2Sig.buildbin-libdir | 
| StartedAt: 2019-04-09 05:07:58 -0400 (Tue, 09 Apr 2019) | 
| EndedAt: 2019-04-09 05:09:14 -0400 (Tue, 09 Apr 2019) | 
| EllapsedTime: 75.2 seconds | 
| RetCode: 0 | 
| Status: OK | 
| PackageFile: decompTumor2Sig_1.99.1.tgz | 
| PackageFileSize: 2.887 MiB | 
############################################################################## ############################################################################## ### ### Running command: ### ### rm -rf decompTumor2Sig.buildbin-libdir && mkdir decompTumor2Sig.buildbin-libdir && /Users/biocbuild/BBS/utils/build-universal.sh decompTumor2Sig_1.99.1.tar.gz /Library/Frameworks/R.framework/Versions/Current/Resources/bin/R decompTumor2Sig.buildbin-libdir ### ############################################################################## ############################################################################## >>>>>>> >>>>>>> INSTALLATION WITH 'R CMD INSTALL --preclean --no-multiarch --library=decompTumor2Sig.buildbin-libdir decompTumor2Sig_1.99.1.tar.gz' >>>>>>> * installing *source* package ‘decompTumor2Sig’ ... ** R ** inst ** byte-compile and prepare package for lazy loading ** help *** installing help indices ** building package indices ** installing vignettes ** testing if installed package can be loaded * DONE (decompTumor2Sig)