| Back to Multiple platform build/check report for BioC 3.9 | 
 | 
This page was generated on 2019-04-09 11:57:23 -0400 (Tue, 09 Apr 2019).
| Package 387/1703 | Hostname | OS / Arch | INSTALL | BUILD | CHECK | BUILD BIN | ||||||
| ddCt 1.39.0 Jitao David Zhang 
 | malbec2 | Linux (Ubuntu 18.04.2 LTS) / x86_64 | OK | OK | OK |  | ||||||
| tokay2 | Windows Server 2012 R2 Standard / x64 | OK | OK | OK | [ OK ] |  | ||||||
| celaya2 | OS X 10.11.6 El Capitan / x86_64 | OK | OK | OK | OK |  | ||||||
| merida2 | OS X 10.11.6 El Capitan / x86_64 | OK | OK | OK | OK | 
| Package: ddCt | 
| Version: 1.39.0 | 
| Command: rm -rf ddCt.buildbin-libdir && mkdir ddCt.buildbin-libdir && C:\Users\biocbuild\bbs-3.9-bioc\R\bin\R.exe CMD INSTALL --merge-multiarch --build --library=ddCt.buildbin-libdir ddCt_1.39.0.tar.gz | 
| StartedAt: 2019-04-09 07:45:10 -0400 (Tue, 09 Apr 2019) | 
| EndedAt: 2019-04-09 07:45:36 -0400 (Tue, 09 Apr 2019) | 
| EllapsedTime: 26.7 seconds | 
| RetCode: 0 | 
| Status: OK | 
| PackageFile: ddCt_1.39.0.zip | 
| PackageFileSize: 1.202 MiB | 
##############################################################################
##############################################################################
###
### Running command:
###
###   rm -rf ddCt.buildbin-libdir && mkdir ddCt.buildbin-libdir && C:\Users\biocbuild\bbs-3.9-bioc\R\bin\R.exe CMD INSTALL --merge-multiarch --build --library=ddCt.buildbin-libdir ddCt_1.39.0.tar.gz
###
##############################################################################
##############################################################################
install for i386
* installing *source* package 'ddCt' ...
** R
** inst
** byte-compile and prepare package for lazy loading
** help
*** installing help indices
  converting help for package 'ddCt'
    finding HTML links ... done
    InputFrame                              html  
    InputReader-class                       html  
    QuantStudioFrame                        html  
    SDMFrame-class                          html  
    SDMFrame                                html  
    barploterrbar                           html  
    ddCtAbsolute                            html  
    finding level-2 HTML links ... done
    ddCtExpression-class                    html  
    ddCtExpression-methods                  html  
    elistWrite-methods                      html  
    errBarchart-methods                     html  
    errBarchartParameter-class              html  
    getDir                                  html  
    removeNTC-methods                       html  
    replaceVectorByEquality                 html  
    write.htmltable                         html  
    writeSimpleTabCsv                       html  
** building package indices
** installing vignettes
** testing if installed package can be loaded from temporary location
** testing if installed package can be loaded from final location
** testing if installed package keeps a record of temporary installation path
install for x64
* installing *source* package 'ddCt' ...
** testing if installed package can be loaded
* MD5 sums
packaged installation of 'ddCt' as ddCt_1.39.0.zip
* DONE (ddCt)