| Back to Multiple platform build/check report for BioC 3.9 |
|
This page was generated on 2019-04-09 13:33:23 -0400 (Tue, 09 Apr 2019).
| Package 459/1703 | Hostname | OS / Arch | INSTALL | BUILD | CHECK | BUILD BIN | ||||||
| dSimer 1.9.0 Peng Ni
| malbec2 | Linux (Ubuntu 18.04.2 LTS) / x86_64 | ERROR | ERROR | skipped | |||||||
| tokay2 | Windows Server 2012 R2 Standard / x64 | OK | OK | OK | OK | |||||||
| celaya2 | OS X 10.11.6 El Capitan / x86_64 | OK | OK | OK | OK | |||||||
| merida2 | OS X 10.11.6 El Capitan / x86_64 | OK | OK | [ OK ] | OK |
| Package: dSimer |
| Version: 1.9.0 |
| Command: /Library/Frameworks/R.framework/Versions/Current/Resources/bin/R CMD check --install=check:dSimer.install-out.txt --library=/Library/Frameworks/R.framework/Versions/Current/Resources/library --no-vignettes --timings dSimer_1.9.0.tar.gz |
| StartedAt: 2019-04-09 00:37:58 -0400 (Tue, 09 Apr 2019) |
| EndedAt: 2019-04-09 00:42:05 -0400 (Tue, 09 Apr 2019) |
| EllapsedTime: 247.1 seconds |
| RetCode: 0 |
| Status: OK |
| CheckDir: dSimer.Rcheck |
| Warnings: 0 |
##############################################################################
##############################################################################
###
### Running command:
###
### /Library/Frameworks/R.framework/Versions/Current/Resources/bin/R CMD check --install=check:dSimer.install-out.txt --library=/Library/Frameworks/R.framework/Versions/Current/Resources/library --no-vignettes --timings dSimer_1.9.0.tar.gz
###
##############################################################################
##############################################################################
* using log directory ‘/Users/biocbuild/bbs-3.9-bioc/meat/dSimer.Rcheck’
* using R Under development (unstable) (2018-11-27 r75683)
* using platform: x86_64-apple-darwin15.6.0 (64-bit)
* using session charset: UTF-8
* using option ‘--no-vignettes’
* checking for file ‘dSimer/DESCRIPTION’ ... OK
* checking extension type ... Package
* this is package ‘dSimer’ version ‘1.9.0’
* checking package namespace information ... OK
* checking package dependencies ... OK
* checking if this is a source package ... OK
* checking if there is a namespace ... OK
* checking for hidden files and directories ... OK
* checking for portable file names ... OK
* checking for sufficient/correct file permissions ... OK
* checking whether package ‘dSimer’ can be installed ... OK
* checking installed package size ... OK
* checking package directory ... OK
* checking ‘build’ directory ... OK
* checking DESCRIPTION meta-information ... OK
* checking top-level files ... OK
* checking for left-over files ... OK
* checking index information ... OK
* checking package subdirectories ... OK
* checking R files for non-ASCII characters ... OK
* checking R files for syntax errors ... OK
* checking whether the package can be loaded ... OK
* checking whether the package can be loaded with stated dependencies ... OK
* checking whether the package can be unloaded cleanly ... OK
* checking whether the namespace can be loaded with stated dependencies ... OK
* checking whether the namespace can be unloaded cleanly ... OK
* checking dependencies in R code ... OK
* checking S3 generic/method consistency ... OK
* checking replacement functions ... OK
* checking foreign function calls ... OK
* checking R code for possible problems ... OK
* checking Rd files ... OK
* checking Rd metadata ... OK
* checking Rd cross-references ... OK
* checking for missing documentation entries ... OK
* checking for code/documentation mismatches ... OK
* checking Rd \usage sections ... OK
* checking Rd contents ... OK
* checking for unstated dependencies in examples ... OK
* checking contents of ‘data’ directory ... OK
* checking data for non-ASCII characters ... OK
* checking data for ASCII and uncompressed saves ... OK
* checking line endings in C/C++/Fortran sources/headers ... OK
* checking compiled code ... NOTE
Note: information on .o files is not available
* checking files in ‘vignettes’ ... OK
* checking examples ... OK
Examples with CPU or elapsed time > 5s
user system elapsed
get_GOterm2GeneAssos 39.149 7.197 46.677
FunSim 17.133 1.888 19.104
plot_heatmap 14.458 0.132 14.654
PSB 13.509 0.383 14.003
plot_net 12.873 0.135 13.055
HypergeometricTest 12.703 0.082 12.861
x2y_conv2_y2x 6.497 0.049 6.581
* checking for unstated dependencies in vignettes ... OK
* checking package vignettes in ‘inst/doc’ ... OK
* checking running R code from vignettes ... SKIPPED
* checking re-building of vignette outputs ... SKIPPED
* checking PDF version of manual ... OK
* DONE
Status: 1 NOTE
See
‘/Users/biocbuild/bbs-3.9-bioc/meat/dSimer.Rcheck/00check.log’
for details.
dSimer.Rcheck/00install.out
############################################################################## ############################################################################## ### ### Running command: ### ### /Library/Frameworks/R.framework/Versions/Current/Resources/bin/R CMD INSTALL dSimer ### ############################################################################## ############################################################################## * installing to library ‘/Library/Frameworks/R.framework/Versions/3.6/Resources/library’ * installing *source* package ‘dSimer’ ... ** libs clang++ -std=gnu++11 -I"/Library/Frameworks/R.framework/Resources/include" -DNDEBUG -I"/Library/Frameworks/R.framework/Versions/3.6/Resources/library/Rcpp/include" -I/usr/local/include -fPIC -Wall -g -O2 -c BOG.cpp -o BOG.o clang++ -std=gnu++11 -I"/Library/Frameworks/R.framework/Resources/include" -DNDEBUG -I"/Library/Frameworks/R.framework/Versions/3.6/Resources/library/Rcpp/include" -I/usr/local/include -fPIC -Wall -g -O2 -c GO2GeneAssos.cpp -o GO2GeneAssos.o clang++ -std=gnu++11 -I"/Library/Frameworks/R.framework/Resources/include" -DNDEBUG -I"/Library/Frameworks/R.framework/Versions/3.6/Resources/library/Rcpp/include" -I/usr/local/include -fPIC -Wall -g -O2 -c ICod.cpp -o ICod.o clang++ -std=gnu++11 -I"/Library/Frameworks/R.framework/Resources/include" -DNDEBUG -I"/Library/Frameworks/R.framework/Versions/3.6/Resources/library/Rcpp/include" -I/usr/local/include -fPIC -Wall -g -O2 -c PSB.cpp -o PSB.o clang -I"/Library/Frameworks/R.framework/Resources/include" -DNDEBUG -I"/Library/Frameworks/R.framework/Versions/3.6/Resources/library/Rcpp/include" -I/usr/local/include -fPIC -Wall -g -O2 -c R_dSimer_init.c -o R_dSimer_init.o clang++ -std=gnu++11 -I"/Library/Frameworks/R.framework/Resources/include" -DNDEBUG -I"/Library/Frameworks/R.framework/Versions/3.6/Resources/library/Rcpp/include" -I/usr/local/include -fPIC -Wall -g -O2 -c RcppExports.cpp -o RcppExports.o clang++ -std=gnu++11 -I"/Library/Frameworks/R.framework/Resources/include" -DNDEBUG -I"/Library/Frameworks/R.framework/Versions/3.6/Resources/library/Rcpp/include" -I/usr/local/include -fPIC -Wall -g -O2 -c Sun.cpp -o Sun.o clang++ -std=gnu++11 -dynamiclib -Wl,-headerpad_max_install_names -undefined dynamic_lookup -single_module -multiply_defined suppress -L/Library/Frameworks/R.framework/Resources/lib -L/usr/local/lib -o dSimer.so BOG.o GO2GeneAssos.o ICod.o PSB.o R_dSimer_init.o RcppExports.o Sun.o -F/Library/Frameworks/R.framework/.. -framework R -Wl,-framework -Wl,CoreFoundation installing to /Library/Frameworks/R.framework/Versions/3.6/Resources/library/dSimer/libs ** R ** data ** inst ** byte-compile and prepare package for lazy loading ** help *** installing help indices ** building package indices ** installing vignettes ** testing if installed package can be loaded * DONE (dSimer)
dSimer.Rcheck/dSimer-Ex.timings
| name | user | system | elapsed | |
| BOG | 4.687 | 0.017 | 4.728 | |
| CosineDFV | 0.274 | 0.015 | 0.290 | |
| FunSim | 17.133 | 1.888 | 19.104 | |
| HumanNet_sample | 0.020 | 0.003 | 0.021 | |
| HypergeometricTest | 12.703 | 0.082 | 12.861 | |
| ICod | 0.974 | 0.021 | 1.004 | |
| InformationContent | 0.066 | 0.003 | 0.070 | |
| LLSn2List | 0.077 | 0.008 | 0.086 | |
| Normalize | 0.001 | 0.001 | 0.001 | |
| PPI_HPRD | 0.132 | 0.002 | 0.136 | |
| PSB | 13.509 | 0.383 | 14.003 | |
| Separation | 3.246 | 0.051 | 3.315 | |
| Separation2Similarity | 0 | 0 | 0 | |
| Sun_annotation | 0.072 | 0.002 | 0.078 | |
| Sun_function | 0.003 | 0.001 | 0.003 | |
| Sun_topology | 0.209 | 0.018 | 0.228 | |
| d2g_fundo_entrezid | 0.058 | 0.001 | 0.060 | |
| d2g_fundo_symbol | 0.060 | 0.001 | 0.062 | |
| d2g_separation | 0.044 | 0.001 | 0.045 | |
| d2go_sample | 0.001 | 0.001 | 0.002 | |
| d2s_hsdn | 0.110 | 0.007 | 0.118 | |
| d2s_hsdn_sample | 0.005 | 0.001 | 0.005 | |
| get_GOterm2GeneAssos | 39.149 | 7.197 | 46.677 | |
| go2g_sample | 0.096 | 0.003 | 0.099 | |
| graphlet_sig_hprd | 0.121 | 0.013 | 0.135 | |
| interactome | 0.614 | 0.007 | 0.625 | |
| jaccardindex | 0.002 | 0.000 | 0.002 | |
| orbit_dependency_count | 0.001 | 0.000 | 0.002 | |
| plot_bipartite | 0.180 | 0.002 | 0.183 | |
| plot_heatmap | 14.458 | 0.132 | 14.654 | |
| plot_net | 12.873 | 0.135 | 13.055 | |
| plot_topo | 0.213 | 0.009 | 0.223 | |
| setWeight | 0.002 | 0.001 | 0.002 | |
| weight | 0.001 | 0.000 | 0.002 | |
| x2y_conv2_y2x | 6.497 | 0.049 | 6.581 | |
| x2y_df2list | 0.004 | 0.000 | 0.005 | |