| Back to Multiple platform build/check report for BioC 3.9 | 
  | 
This page was generated on 2019-04-09 13:39:00 -0400 (Tue, 09 Apr 2019).
| Package 375/1703 | Hostname | OS / Arch | INSTALL | BUILD | CHECK | BUILD BIN | ||||||
| cytofast 0.99.14 K.A. Stam 
  | malbec2 | Linux (Ubuntu 18.04.2 LTS) / x86_64 | OK | OK | OK | |||||||
| tokay2 | Windows Server 2012 R2 Standard / x64 | OK | OK | OK | OK | |||||||
| celaya2 | OS X 10.11.6 El Capitan / x86_64 | OK | OK | OK | OK | |||||||
| merida2 | OS X 10.11.6 El Capitan / x86_64 | OK | OK | OK | [ OK ] | 
| Package: cytofast | 
| Version: 0.99.14 | 
| Command: rm -rf cytofast.buildbin-libdir && mkdir cytofast.buildbin-libdir && /Users/biocbuild/BBS/utils/build-universal.sh cytofast_0.99.14.tar.gz /Library/Frameworks/R.framework/Versions/Current/Resources/bin/R cytofast.buildbin-libdir | 
| StartedAt: 2019-04-09 05:06:41 -0400 (Tue, 09 Apr 2019) | 
| EndedAt: 2019-04-09 05:07:54 -0400 (Tue, 09 Apr 2019) | 
| EllapsedTime: 73.1 seconds | 
| RetCode: 0 | 
| Status: OK | 
| PackageFile: cytofast_0.99.14.tgz | 
| PackageFileSize: 1.763 MiB | 
############################################################################## ############################################################################## ### ### Running command: ### ### rm -rf cytofast.buildbin-libdir && mkdir cytofast.buildbin-libdir && /Users/biocbuild/BBS/utils/build-universal.sh cytofast_0.99.14.tar.gz /Library/Frameworks/R.framework/Versions/Current/Resources/bin/R cytofast.buildbin-libdir ### ############################################################################## ############################################################################## >>>>>>> >>>>>>> INSTALLATION WITH 'R CMD INSTALL --preclean --no-multiarch --library=cytofast.buildbin-libdir cytofast_0.99.14.tar.gz' >>>>>>> * installing *source* package ‘cytofast’ ... ** R ** data *** moving datasets to lazyload DB ** inst ** byte-compile and prepare package for lazy loading Creating a new generic function for ‘expr’ in package ‘cytofast’ ** help *** installing help indices ** building package indices ** installing vignettes ** testing if installed package can be loaded * DONE (cytofast)