| Back to Multiple platform build/check report for BioC 3.9 |
|
This page was generated on 2019-04-09 13:12:53 -0400 (Tue, 09 Apr 2019).
| Package 363/1703 | Hostname | OS / Arch | INSTALL | BUILD | CHECK | BUILD BIN | ||||||
| csaw 1.17.8 Aaron Lun
| malbec2 | Linux (Ubuntu 18.04.2 LTS) / x86_64 | OK | OK | OK | |||||||
| tokay2 | Windows Server 2012 R2 Standard / x64 | OK | OK | OK | OK | |||||||
| celaya2 | OS X 10.11.6 El Capitan / x86_64 | OK | OK | [ OK ] | OK | |||||||
| merida2 | OS X 10.11.6 El Capitan / x86_64 | OK | OK | OK | OK |
| Package: csaw |
| Version: 1.17.8 |
| Command: /Library/Frameworks/R.framework/Versions/Current/Resources/bin/R CMD check --install=check:csaw.install-out.txt --library=/Library/Frameworks/R.framework/Versions/Current/Resources/library --no-vignettes --timings csaw_1.17.8.tar.gz |
| StartedAt: 2019-04-09 01:06:04 -0400 (Tue, 09 Apr 2019) |
| EndedAt: 2019-04-09 01:16:58 -0400 (Tue, 09 Apr 2019) |
| EllapsedTime: 654.3 seconds |
| RetCode: 0 |
| Status: OK |
| CheckDir: csaw.Rcheck |
| Warnings: 0 |
##############################################################################
##############################################################################
###
### Running command:
###
### /Library/Frameworks/R.framework/Versions/Current/Resources/bin/R CMD check --install=check:csaw.install-out.txt --library=/Library/Frameworks/R.framework/Versions/Current/Resources/library --no-vignettes --timings csaw_1.17.8.tar.gz
###
##############################################################################
##############################################################################
* using log directory ‘/Users/biocbuild/bbs-3.9-bioc/meat/csaw.Rcheck’
* using R Under development (unstable) (2019-03-18 r76245)
* using platform: x86_64-apple-darwin15.6.0 (64-bit)
* using session charset: UTF-8
* using option ‘--no-vignettes’
* checking for file ‘csaw/DESCRIPTION’ ... OK
* this is package ‘csaw’ version ‘1.17.8’
* checking package namespace information ... OK
* checking package dependencies ... OK
* checking if this is a source package ... OK
* checking if there is a namespace ... OK
* checking for hidden files and directories ... OK
* checking for portable file names ... OK
* checking for sufficient/correct file permissions ... OK
* checking whether package ‘csaw’ can be installed ... OK
* checking installed package size ... OK
* checking package directory ... OK
* checking ‘build’ directory ... OK
* checking DESCRIPTION meta-information ... OK
* checking top-level files ... OK
* checking for left-over files ... OK
* checking index information ... OK
* checking package subdirectories ... OK
* checking R files for non-ASCII characters ... OK
* checking R files for syntax errors ... OK
* checking whether the package can be loaded ... OK
* checking whether the package can be loaded with stated dependencies ... OK
* checking whether the package can be unloaded cleanly ... OK
* checking whether the namespace can be loaded with stated dependencies ... OK
* checking whether the namespace can be unloaded cleanly ... OK
* checking dependencies in R code ... OK
* checking S3 generic/method consistency ... OK
* checking replacement functions ... OK
* checking foreign function calls ... OK
* checking R code for possible problems ... OK
* checking Rd files ... OK
* checking Rd metadata ... OK
* checking Rd cross-references ... OK
* checking for missing documentation entries ... OK
* checking for code/documentation mismatches ... OK
* checking Rd \usage sections ... OK
* checking Rd contents ... OK
* checking for unstated dependencies in examples ... OK
* checking line endings in C/C++/Fortran sources/headers ... OK
* checking line endings in Makefiles ... OK
* checking compilation flags in Makevars ... OK
* checking for GNU extensions in Makefiles ... OK
* checking for portable use of $(BLAS_LIBS) and $(LAPACK_LIBS) ... OK
* checking compiled code ... NOTE
Note: information on .o files is not available
File ‘/Library/Frameworks/R.framework/Versions/3.6/Resources/library/csaw/libs/csaw.so’:
Found ‘___assert_rtn’, possibly from ‘assert’ (C)
Found ‘___stderrp’, possibly from ‘stderr’ (C)
Found ‘___stdoutp’, possibly from ‘stdout’ (C)
Found ‘_abort’, possibly from ‘abort’ (C)
Found ‘_exit’, possibly from ‘exit’ (C)
Found ‘_printf’, possibly from ‘printf’ (C)
Found ‘_putchar’, possibly from ‘putchar’ (C)
Found ‘_puts’, possibly from ‘printf’ (C), ‘puts’ (C)
Found ‘_srand48’, possibly from ‘srand48’ (C)
Compiled code should not call entry points which might terminate R nor
write to stdout/stderr instead of to the console, nor use Fortran I/O
nor system RNGs. The detected symbols are linked into the code but
might come from libraries and not actually be called.
See ‘Writing portable packages’ in the ‘Writing R Extensions’ manual.
* checking files in ‘vignettes’ ... OK
* checking examples ... OK
Examples with CPU or elapsed time > 5s
user system elapsed
detailRanges 8.897 0.654 9.653
* checking for unstated dependencies in ‘tests’ ... OK
* checking tests ...
Running ‘testthat.R’
OK
* checking for unstated dependencies in vignettes ... OK
* checking package vignettes in ‘inst/doc’ ... OK
* checking running R code from vignettes ... SKIPPED
* checking re-building of vignette outputs ... SKIPPED
* checking PDF version of manual ... OK
* DONE
Status: 1 NOTE
See
‘/Users/biocbuild/bbs-3.9-bioc/meat/csaw.Rcheck/00check.log’
for details.
csaw.Rcheck/00install.out
############################################################################## ############################################################################## ### ### Running command: ### ### /Library/Frameworks/R.framework/Versions/Current/Resources/bin/R CMD INSTALL csaw ### ############################################################################## ############################################################################## * installing to library ‘/Library/Frameworks/R.framework/Versions/3.6/Resources/library’ * installing *source* package ‘csaw’ ... ** using staged installation ** libs clang++ -std=gnu++11 -I"/Library/Frameworks/R.framework/Resources/include" -DNDEBUG -I"/Library/Frameworks/R.framework/Versions/3.6/Resources/library/Rhtslib/include" -I"/Library/Frameworks/R.framework/Versions/3.6/Resources/library/zlibbioc/include" -I"/Library/Frameworks/R.framework/Versions/3.6/Resources/library/Rcpp/include" -I/usr/local/include -fPIC -Wall -g -O2 -c annotator.cpp -o annotator.o clang++ -std=gnu++11 -I"/Library/Frameworks/R.framework/Resources/include" -DNDEBUG -I"/Library/Frameworks/R.framework/Versions/3.6/Resources/library/Rhtslib/include" -I"/Library/Frameworks/R.framework/Versions/3.6/Resources/library/zlibbioc/include" -I"/Library/Frameworks/R.framework/Versions/3.6/Resources/library/Rcpp/include" -I/usr/local/include -fPIC -Wall -g -O2 -c bam_utils.cpp -o bam_utils.o clang++ -std=gnu++11 -I"/Library/Frameworks/R.framework/Resources/include" -DNDEBUG -I"/Library/Frameworks/R.framework/Versions/3.6/Resources/library/Rhtslib/include" -I"/Library/Frameworks/R.framework/Versions/3.6/Resources/library/zlibbioc/include" -I"/Library/Frameworks/R.framework/Versions/3.6/Resources/library/Rcpp/include" -I/usr/local/include -fPIC -Wall -g -O2 -c best_in_cluster.cpp -o best_in_cluster.o clang++ -std=gnu++11 -I"/Library/Frameworks/R.framework/Resources/include" -DNDEBUG -I"/Library/Frameworks/R.framework/Versions/3.6/Resources/library/Rhtslib/include" -I"/Library/Frameworks/R.framework/Versions/3.6/Resources/library/zlibbioc/include" -I"/Library/Frameworks/R.framework/Versions/3.6/Resources/library/Rcpp/include" -I/usr/local/include -fPIC -Wall -g -O2 -c check_bimodality.cpp -o check_bimodality.o clang++ -std=gnu++11 -I"/Library/Frameworks/R.framework/Resources/include" -DNDEBUG -I"/Library/Frameworks/R.framework/Versions/3.6/Resources/library/Rhtslib/include" -I"/Library/Frameworks/R.framework/Versions/3.6/Resources/library/zlibbioc/include" -I"/Library/Frameworks/R.framework/Versions/3.6/Resources/library/Rcpp/include" -I/usr/local/include -fPIC -Wall -g -O2 -c correlate_reads.cpp -o correlate_reads.o clang++ -std=gnu++11 -I"/Library/Frameworks/R.framework/Resources/include" -DNDEBUG -I"/Library/Frameworks/R.framework/Versions/3.6/Resources/library/Rhtslib/include" -I"/Library/Frameworks/R.framework/Versions/3.6/Resources/library/zlibbioc/include" -I"/Library/Frameworks/R.framework/Versions/3.6/Resources/library/Rcpp/include" -I/usr/local/include -fPIC -Wall -g -O2 -c find_maxima.cpp -o find_maxima.o clang++ -std=gnu++11 -I"/Library/Frameworks/R.framework/Resources/include" -DNDEBUG -I"/Library/Frameworks/R.framework/Versions/3.6/Resources/library/Rhtslib/include" -I"/Library/Frameworks/R.framework/Versions/3.6/Resources/library/zlibbioc/include" -I"/Library/Frameworks/R.framework/Versions/3.6/Resources/library/Rcpp/include" -I/usr/local/include -fPIC -Wall -g -O2 -c get_cluster_stats.cpp -o get_cluster_stats.o clang++ -std=gnu++11 -I"/Library/Frameworks/R.framework/Resources/include" -DNDEBUG -I"/Library/Frameworks/R.framework/Versions/3.6/Resources/library/Rhtslib/include" -I"/Library/Frameworks/R.framework/Versions/3.6/Resources/library/zlibbioc/include" -I"/Library/Frameworks/R.framework/Versions/3.6/Resources/library/Rcpp/include" -I/usr/local/include -fPIC -Wall -g -O2 -c get_profile.cpp -o get_profile.o clang++ -std=gnu++11 -I"/Library/Frameworks/R.framework/Resources/include" -DNDEBUG -I"/Library/Frameworks/R.framework/Versions/3.6/Resources/library/Rhtslib/include" -I"/Library/Frameworks/R.framework/Versions/3.6/Resources/library/zlibbioc/include" -I"/Library/Frameworks/R.framework/Versions/3.6/Resources/library/Rcpp/include" -I/usr/local/include -fPIC -Wall -g -O2 -c get_rle_counts.cpp -o get_rle_counts.o clang++ -std=gnu++11 -I"/Library/Frameworks/R.framework/Resources/include" -DNDEBUG -I"/Library/Frameworks/R.framework/Versions/3.6/Resources/library/Rhtslib/include" -I"/Library/Frameworks/R.framework/Versions/3.6/Resources/library/zlibbioc/include" -I"/Library/Frameworks/R.framework/Versions/3.6/Resources/library/Rcpp/include" -I/usr/local/include -fPIC -Wall -g -O2 -c init.cpp -o init.o clang++ -std=gnu++11 -I"/Library/Frameworks/R.framework/Resources/include" -DNDEBUG -I"/Library/Frameworks/R.framework/Versions/3.6/Resources/library/Rhtslib/include" -I"/Library/Frameworks/R.framework/Versions/3.6/Resources/library/zlibbioc/include" -I"/Library/Frameworks/R.framework/Versions/3.6/Resources/library/Rcpp/include" -I/usr/local/include -fPIC -Wall -g -O2 -c intersector.cpp -o intersector.o clang++ -std=gnu++11 -I"/Library/Frameworks/R.framework/Resources/include" -DNDEBUG -I"/Library/Frameworks/R.framework/Versions/3.6/Resources/library/Rhtslib/include" -I"/Library/Frameworks/R.framework/Versions/3.6/Resources/library/zlibbioc/include" -I"/Library/Frameworks/R.framework/Versions/3.6/Resources/library/Rcpp/include" -I/usr/local/include -fPIC -Wall -g -O2 -c merge_windows.cpp -o merge_windows.o clang++ -std=gnu++11 -I"/Library/Frameworks/R.framework/Resources/include" -DNDEBUG -I"/Library/Frameworks/R.framework/Versions/3.6/Resources/library/Rhtslib/include" -I"/Library/Frameworks/R.framework/Versions/3.6/Resources/library/zlibbioc/include" -I"/Library/Frameworks/R.framework/Versions/3.6/Resources/library/Rcpp/include" -I/usr/local/include -fPIC -Wall -g -O2 -c pair_reads.cpp -o pair_reads.o clang++ -std=gnu++11 -I"/Library/Frameworks/R.framework/Resources/include" -DNDEBUG -I"/Library/Frameworks/R.framework/Versions/3.6/Resources/library/Rhtslib/include" -I"/Library/Frameworks/R.framework/Versions/3.6/Resources/library/zlibbioc/include" -I"/Library/Frameworks/R.framework/Versions/3.6/Resources/library/Rcpp/include" -I/usr/local/include -fPIC -Wall -g -O2 -c single_reads.cpp -o single_reads.o clang++ -std=gnu++11 -I"/Library/Frameworks/R.framework/Resources/include" -DNDEBUG -I"/Library/Frameworks/R.framework/Versions/3.6/Resources/library/Rhtslib/include" -I"/Library/Frameworks/R.framework/Versions/3.6/Resources/library/zlibbioc/include" -I"/Library/Frameworks/R.framework/Versions/3.6/Resources/library/Rcpp/include" -I/usr/local/include -fPIC -Wall -g -O2 -c utils.cpp -o utils.o clang++ -std=gnu++11 -dynamiclib -Wl,-headerpad_max_install_names -undefined dynamic_lookup -single_module -multiply_defined suppress -L/Library/Frameworks/R.framework/Resources/lib -L/usr/local/lib -o csaw.so annotator.o bam_utils.o best_in_cluster.o check_bimodality.o correlate_reads.o find_maxima.o get_cluster_stats.o get_profile.o get_rle_counts.o init.o intersector.o merge_windows.o pair_reads.o single_reads.o utils.o /Library/Frameworks/R.framework/Versions/3.6/Resources/library/Rhtslib/usrlib/libhts.a -F/Library/Frameworks/R.framework/.. -framework R -Wl,-framework -Wl,CoreFoundation installing to /Library/Frameworks/R.framework/Versions/3.6/Resources/library/00LOCK-csaw/00new/csaw/libs ** R ** inst ** byte-compile and prepare package for lazy loading ** help *** installing help indices ** building package indices ** installing vignettes ** testing if installed package can be loaded from temporary location ** checking absolute paths in shared objects and dynamic libraries ** testing if installed package can be loaded from final location ** testing if installed package keeps a record of temporary installation path * DONE (csaw)
csaw.Rcheck/tests/testthat.Rout
R Under development (unstable) (2019-03-18 r76245) -- "Unsuffered Consequences"
Copyright (C) 2019 The R Foundation for Statistical Computing
Platform: x86_64-apple-darwin15.6.0 (64-bit)
R is free software and comes with ABSOLUTELY NO WARRANTY.
You are welcome to redistribute it under certain conditions.
Type 'license()' or 'licence()' for distribution details.
R is a collaborative project with many contributors.
Type 'contributors()' for more information and
'citation()' on how to cite R or R packages in publications.
Type 'demo()' for some demos, 'help()' for on-line help, or
'help.start()' for an HTML browser interface to help.
Type 'q()' to quit R.
> library(testthat)
> library(csaw)
Loading required package: GenomicRanges
Loading required package: stats4
Loading required package: BiocGenerics
Loading required package: parallel
Attaching package: 'BiocGenerics'
The following objects are masked from 'package:parallel':
clusterApply, clusterApplyLB, clusterCall, clusterEvalQ,
clusterExport, clusterMap, parApply, parCapply, parLapply,
parLapplyLB, parRapply, parSapply, parSapplyLB
The following objects are masked from 'package:stats':
IQR, mad, sd, var, xtabs
The following objects are masked from 'package:base':
Filter, Find, Map, Position, Reduce, anyDuplicated, append,
as.data.frame, basename, cbind, colMeans, colSums, colnames,
dirname, do.call, duplicated, eval, evalq, get, grep, grepl,
intersect, is.unsorted, lapply, mapply, match, mget, order, paste,
pmax, pmax.int, pmin, pmin.int, rank, rbind, rowMeans, rowSums,
rownames, sapply, setdiff, sort, table, tapply, union, unique,
unsplit, which, which.max, which.min
Loading required package: S4Vectors
Attaching package: 'S4Vectors'
The following object is masked from 'package:base':
expand.grid
Loading required package: IRanges
Loading required package: GenomeInfoDb
Loading required package: SummarizedExperiment
Loading required package: Biobase
Welcome to Bioconductor
Vignettes contain introductory material; view with
'browseVignettes()'. To cite Bioconductor, see
'citation("Biobase")', and for packages 'citation("pkgname")'.
Loading required package: DelayedArray
Loading required package: matrixStats
Attaching package: 'matrixStats'
The following objects are masked from 'package:Biobase':
anyMissing, rowMedians
Loading required package: BiocParallel
Attaching package: 'DelayedArray'
The following objects are masked from 'package:matrixStats':
colMaxs, colMins, colRanges, rowMaxs, rowMins, rowRanges
The following objects are masked from 'package:base':
aperm, apply, rowsum
>
> test_check("csaw")
══ testthat results ═══════════════════════════════════════════════════════════
OK: 2734 SKIPPED: 0 FAILED: 0
>
>
> proc.time()
user system elapsed
298.685 11.605 312.428
csaw.Rcheck/csaw-Ex.timings
| name | user | system | elapsed | |
| SEmethods | 0.671 | 0.027 | 0.704 | |
| calculateCPM | 0.554 | 0.096 | 0.651 | |
| checkBimodality | 0.509 | 0.092 | 0.605 | |
| clusterFDR | 1.278 | 0.178 | 1.456 | |
| clusterWindows | 1.939 | 0.008 | 1.947 | |
| combineTests | 0.169 | 0.004 | 0.175 | |
| consolidateClusters | 3.589 | 0.008 | 3.598 | |
| consolidateTests | 0.517 | 0.006 | 0.525 | |
| consolidateWindows | 0.478 | 0.005 | 0.483 | |
| correlateReads | 0.259 | 0.007 | 0.266 | |
| csawUsersGuide | 0 | 0 | 0 | |
| detailRanges | 8.897 | 0.654 | 9.653 | |
| empiricalFDR | 0.077 | 0.001 | 0.077 | |
| extractReads | 0.952 | 0.014 | 0.966 | |
| filterWindows | 0.826 | 0.075 | 0.902 | |
| findMaxima | 0.210 | 0.006 | 0.216 | |
| getBestTest | 0.053 | 0.003 | 0.055 | |
| getPESizes | 0.071 | 0.002 | 0.073 | |
| getWidths | 0.570 | 0.007 | 0.577 | |
| maximizeCcf | 0.001 | 0.000 | 0.001 | |
| mergeWindows | 0.071 | 0.003 | 0.073 | |
| mixedClusters | 0.114 | 0.001 | 0.114 | |
| normOffsets | 0.127 | 0.001 | 0.128 | |
| overlapStats | 0.759 | 0.046 | 0.804 | |
| profileSites | 0.667 | 0.011 | 0.679 | |
| readParam | 0.051 | 0.001 | 0.051 | |
| regionCounts | 0.425 | 0.024 | 0.449 | |
| scaledAverage | 0.529 | 0.035 | 0.564 | |
| strandedCounts | 2.286 | 0.084 | 2.371 | |
| upweightSummit | 0.010 | 0.001 | 0.012 | |
| windowCounts | 0.966 | 0.009 | 0.975 | |
| wwhm | 0.110 | 0.001 | 0.111 | |