| Back to Multiple platform build/check report for BioC 3.9 |
|
This page was generated on 2019-04-09 12:26:47 -0400 (Tue, 09 Apr 2019).
| Package 361/1703 | Hostname | OS / Arch | INSTALL | BUILD | CHECK | BUILD BIN | ||||||
| crossmeta 1.9.0 Alex Pickering
| malbec2 | Linux (Ubuntu 18.04.2 LTS) / x86_64 | OK | OK | WARNINGS | |||||||
| tokay2 | Windows Server 2012 R2 Standard / x64 | OK | OK | WARNINGS | [ OK ] | |||||||
| celaya2 | OS X 10.11.6 El Capitan / x86_64 | OK | OK | WARNINGS | OK | |||||||
| merida2 | OS X 10.11.6 El Capitan / x86_64 | OK | OK | WARNINGS | OK |
| Package: crossmeta |
| Version: 1.9.0 |
| Command: rm -rf crossmeta.buildbin-libdir && mkdir crossmeta.buildbin-libdir && C:\Users\biocbuild\bbs-3.9-bioc\R\bin\R.exe CMD INSTALL --merge-multiarch --build --library=crossmeta.buildbin-libdir crossmeta_1.9.0.tar.gz |
| StartedAt: 2019-04-09 07:43:44 -0400 (Tue, 09 Apr 2019) |
| EndedAt: 2019-04-09 07:44:35 -0400 (Tue, 09 Apr 2019) |
| EllapsedTime: 51.1 seconds |
| RetCode: 0 |
| Status: OK |
| PackageFile: crossmeta_1.9.0.zip |
| PackageFileSize: 1.244 MiB |
##############################################################################
##############################################################################
###
### Running command:
###
### rm -rf crossmeta.buildbin-libdir && mkdir crossmeta.buildbin-libdir && C:\Users\biocbuild\bbs-3.9-bioc\R\bin\R.exe CMD INSTALL --merge-multiarch --build --library=crossmeta.buildbin-libdir crossmeta_1.9.0.tar.gz
###
##############################################################################
##############################################################################
install for i386
* installing *source* package 'crossmeta' ...
** R
** inst
** byte-compile and prepare package for lazy loading
** help
*** installing help indices
converting help for package 'crossmeta'
finding HTML links ... done
add_sources html
contribute html
diff_expr html
diff_path html
es_meta html
Rd warning: C:/Users/biocbuild/bbs-3.9-bioc/tmpdir/RtmpKIUlCO/R.INSTALLb80706e49a0/crossmeta/man/es_meta.Rd:37: file link 'zScores' in package 'GeneMeta' does not exist and so has been treated as a topic
explore_paths html
get_raw html
gs.names html
gslist html
load_diff html
load_path html
load_raw html
open_raw_illum html
path_meta html
setup_prev html
symbol_annot html
** building package indices
** installing vignettes
** testing if installed package can be loaded from temporary location
** testing if installed package can be loaded from final location
** testing if installed package keeps a record of temporary installation path
install for x64
* installing *source* package 'crossmeta' ...
** testing if installed package can be loaded
* MD5 sums
packaged installation of 'crossmeta' as crossmeta_1.9.0.zip
* DONE (crossmeta)