| Back to Multiple platform build/check report for BioC 3.9 | 
 | 
This page was generated on 2019-04-09 11:57:04 -0400 (Tue, 09 Apr 2019).
| Package 360/1703 | Hostname | OS / Arch | INSTALL | BUILD | CHECK | BUILD BIN | ||||||
| crlmm 1.41.0 Benilton S Carvalho 
 | malbec2 | Linux (Ubuntu 18.04.2 LTS) / x86_64 | OK | OK | OK | |||||||
| tokay2 | Windows Server 2012 R2 Standard / x64 | OK | OK | WARNINGS | [ OK ] | |||||||
| celaya2 | OS X 10.11.6 El Capitan / x86_64 | OK | OK | OK | OK | |||||||
| merida2 | OS X 10.11.6 El Capitan / x86_64 | OK | OK | OK | OK | 
| Package: crlmm | 
| Version: 1.41.0 | 
| Command: rm -rf crlmm.buildbin-libdir && mkdir crlmm.buildbin-libdir && C:\Users\biocbuild\bbs-3.9-bioc\R\bin\R.exe CMD INSTALL --merge-multiarch --build --library=crlmm.buildbin-libdir crlmm_1.41.0.tar.gz | 
| StartedAt: 2019-04-09 07:43:40 -0400 (Tue, 09 Apr 2019) | 
| EndedAt: 2019-04-09 07:44:31 -0400 (Tue, 09 Apr 2019) | 
| EllapsedTime: 51.4 seconds | 
| RetCode: 0 | 
| Status: OK | 
| PackageFile: crlmm_1.41.0.zip | 
| PackageFileSize: 5.169 MiB | 
##############################################################################
##############################################################################
###
### Running command:
###
###   rm -rf crlmm.buildbin-libdir && mkdir crlmm.buildbin-libdir && C:\Users\biocbuild\bbs-3.9-bioc\R\bin\R.exe CMD INSTALL --merge-multiarch --build --library=crlmm.buildbin-libdir crlmm_1.41.0.tar.gz
###
##############################################################################
##############################################################################
install for i386
* installing *source* package 'crlmm' ...
** libs
C:/Rtools/mingw_32/bin/gcc  -I"C:/Users/BIOCBU˜1/BBS-3˜1.9-B/R/include" -DNDEBUG  -I"C:/Users/biocbuild/bbs-3.9-bioc/R/library/preprocessCore/include"   -I"C:/extsoft/include"     -O3 -Wall  -std=gnu99 -mtune=generic -c gtypeCaller.c -o gtypeCaller.o
C:/Rtools/mingw_32/bin/gcc  -I"C:/Users/BIOCBU˜1/BBS-3˜1.9-B/R/include" -DNDEBUG  -I"C:/Users/biocbuild/bbs-3.9-bioc/R/library/preprocessCore/include"   -I"C:/extsoft/include"     -O3 -Wall  -std=gnu99 -mtune=generic -c init.c -o init.o
C:/Rtools/mingw_32/bin/gcc  -I"C:/Users/BIOCBU˜1/BBS-3˜1.9-B/R/include" -DNDEBUG  -I"C:/Users/biocbuild/bbs-3.9-bioc/R/library/preprocessCore/include"   -I"C:/extsoft/include"     -O3 -Wall  -std=gnu99 -mtune=generic -c trimmed.c -o trimmed.o
C:/Rtools/mingw_32/bin/gcc  -I"C:/Users/BIOCBU˜1/BBS-3˜1.9-B/R/include" -DNDEBUG  -I"C:/Users/biocbuild/bbs-3.9-bioc/R/library/preprocessCore/include"   -I"C:/extsoft/include"     -O3 -Wall  -std=gnu99 -mtune=generic -c utils.c -o utils.o
C:/Rtools/mingw_32/bin/gcc -shared -s -static-libgcc -o crlmm.dll tmp.def gtypeCaller.o init.o trimmed.o utils.o -LC:/extsoft/lib/i386 -LC:/extsoft/lib -LC:/Users/BIOCBU˜1/BBS-3˜1.9-B/R/bin/i386 -lR
installing to C:/Users/biocbuild/bbs-3.9-bioc/meat/crlmm.buildbin-libdir/00LOCK-crlmm/00new/crlmm/libs/i386
** R
** data
** inst
** byte-compile and prepare package for lazy loading
** help
*** installing help indices
  converting help for package 'crlmm'
    finding HTML links ... done
    ABpanel                                 html  
Rd warning: C:/Users/biocbuild/bbs-3.9-bioc/tmpdir/Rtmp4aJhuD/R.INSTALL82c1b4b7ee2/crlmm/man/ABpanel.Rd:57: file link 'lpolygon' in package 'lattice' does not exist and so has been treated as a topic
    AssayData-methods                       html  
    finding level-2 HTML links ... done
    CNSet-methods                           html  
    ListClassConstructors                   html  
    PredictionRegion-class                  html  
    batchStatisticAccessors                 html  
    calculateRBaf                           html  
    celfile-utils                           html  
    cnSetExample                            html  
    cnrmaAffy                               html  
    constructAffyCNSet                      html  
    constructInf                            html  
    copynumberAccessors                     html  
    crlmm-package                           html  
    crlmm                                   html  
    crlmmCopynumber                         html  
    genotype.Illumina                       html  
Rd warning: C:/Users/biocbuild/bbs-3.9-bioc/tmpdir/Rtmp4aJhuD/R.INSTALL82c1b4b7ee2/crlmm/man/genotype.Illumina.Rd:148: file link 'ocSamples' in package 'oligoClasses' does not exist and so has been treated as a topic
    genotype                                html  
Rd warning: C:/Users/biocbuild/bbs-3.9-bioc/tmpdir/Rtmp4aJhuD/R.INSTALL82c1b4b7ee2/crlmm/man/genotype.Rd:88: file link 'ocSamples' in package 'oligoClasses' does not exist and so has been treated as a topic
    genotypeAffy                            html  
    genotypeInf                             html  
    genotypes                               html  
    plotSNPs                                html  
    posteriorProbability                    html  
    predictionRegion                        html  
    preprocessInf                           html  
    readGenCallOutput                       html  
    readIdatFiles                           html  
    snprma                                  html  
    snprmaAffy                              html  
    validCdfNames                           html  
    xyplot                                  html  
** building package indices
** installing vignettes
** testing if installed package can be loaded from temporary location
** testing if installed package can be loaded from final location
** testing if installed package keeps a record of temporary installation path
install for x64
* installing *source* package 'crlmm' ...
** libs
C:/Rtools/mingw_64/bin/gcc  -I"C:/Users/BIOCBU˜1/BBS-3˜1.9-B/R/include" -DNDEBUG  -I"C:/Users/biocbuild/bbs-3.9-bioc/R/library/preprocessCore/include"   -I"C:/extsoft/include"     -O2 -Wall  -std=gnu99 -mtune=generic -c gtypeCaller.c -o gtypeCaller.o
C:/Rtools/mingw_64/bin/gcc  -I"C:/Users/BIOCBU˜1/BBS-3˜1.9-B/R/include" -DNDEBUG  -I"C:/Users/biocbuild/bbs-3.9-bioc/R/library/preprocessCore/include"   -I"C:/extsoft/include"     -O2 -Wall  -std=gnu99 -mtune=generic -c init.c -o init.o
C:/Rtools/mingw_64/bin/gcc  -I"C:/Users/BIOCBU˜1/BBS-3˜1.9-B/R/include" -DNDEBUG  -I"C:/Users/biocbuild/bbs-3.9-bioc/R/library/preprocessCore/include"   -I"C:/extsoft/include"     -O2 -Wall  -std=gnu99 -mtune=generic -c trimmed.c -o trimmed.o
C:/Rtools/mingw_64/bin/gcc  -I"C:/Users/BIOCBU˜1/BBS-3˜1.9-B/R/include" -DNDEBUG  -I"C:/Users/biocbuild/bbs-3.9-bioc/R/library/preprocessCore/include"   -I"C:/extsoft/include"     -O2 -Wall  -std=gnu99 -mtune=generic -c utils.c -o utils.o
C:/Rtools/mingw_64/bin/gcc -shared -s -static-libgcc -o crlmm.dll tmp.def gtypeCaller.o init.o trimmed.o utils.o -LC:/extsoft/lib/x64 -LC:/extsoft/lib -LC:/Users/BIOCBU˜1/BBS-3˜1.9-B/R/bin/x64 -lR
installing to C:/Users/biocbuild/bbs-3.9-bioc/meat/crlmm.buildbin-libdir/crlmm/libs/x64
** testing if installed package can be loaded
* MD5 sums
packaged installation of 'crlmm' as crlmm_1.41.0.zip
* DONE (crlmm)