| Back to Multiple platform build/check report for BioC 3.9 |
|
This page was generated on 2019-04-09 12:26:40 -0400 (Tue, 09 Apr 2019).
| Package 353/1703 | Hostname | OS / Arch | INSTALL | BUILD | CHECK | BUILD BIN | ||||||
| covRNA 1.9.0 Lara Urban
| malbec2 | Linux (Ubuntu 18.04.2 LTS) / x86_64 | OK | OK | OK | |||||||
| tokay2 | Windows Server 2012 R2 Standard / x64 | OK | OK | OK | [ OK ] | |||||||
| celaya2 | OS X 10.11.6 El Capitan / x86_64 | OK | OK | OK | OK | |||||||
| merida2 | OS X 10.11.6 El Capitan / x86_64 | OK | OK | OK | OK |
| Package: covRNA |
| Version: 1.9.0 |
| Command: rm -rf covRNA.buildbin-libdir && mkdir covRNA.buildbin-libdir && C:\Users\biocbuild\bbs-3.9-bioc\R\bin\R.exe CMD INSTALL --merge-multiarch --build --library=covRNA.buildbin-libdir covRNA_1.9.0.tar.gz |
| StartedAt: 2019-04-09 07:43:15 -0400 (Tue, 09 Apr 2019) |
| EndedAt: 2019-04-09 07:44:06 -0400 (Tue, 09 Apr 2019) |
| EllapsedTime: 51.7 seconds |
| RetCode: 0 |
| Status: OK |
| PackageFile: covRNA_1.9.0.zip |
| PackageFileSize: 565.8 KiB |
##############################################################################
##############################################################################
###
### Running command:
###
### rm -rf covRNA.buildbin-libdir && mkdir covRNA.buildbin-libdir && C:\Users\biocbuild\bbs-3.9-bioc\R\bin\R.exe CMD INSTALL --merge-multiarch --build --library=covRNA.buildbin-libdir covRNA_1.9.0.tar.gz
###
##############################################################################
##############################################################################
install for i386
* installing *source* package 'covRNA' ...
** R
** data
*** moving datasets to lazyload DB
** inst
** byte-compile and prepare package for lazy loading
** help
*** installing help indices
converting help for package 'covRNA'
finding HTML links ... done
Baca html
covRNA html
ord html
plot.ord html
plot.stat html
stat html
vis html
** building package indices
** installing vignettes
** testing if installed package can be loaded from temporary location
** testing if installed package can be loaded from final location
** testing if installed package keeps a record of temporary installation path
install for x64
* installing *source* package 'covRNA' ...
** testing if installed package can be loaded
* MD5 sums
packaged installation of 'covRNA' as covRNA_1.9.0.zip
* DONE (covRNA)