| Back to Multiple platform build/check report for BioC 3.9 | 
 | 
This page was generated on 2019-04-09 12:20:00 -0400 (Tue, 09 Apr 2019).
| Package 347/1703 | Hostname | OS / Arch | INSTALL | BUILD | CHECK | BUILD BIN | ||||||
| cosmiq 1.17.1 David Fischer 
 | malbec2 | Linux (Ubuntu 18.04.2 LTS) / x86_64 | OK | OK | OK |  | ||||||
| tokay2 | Windows Server 2012 R2 Standard / x64 | OK | [ OK ] | OK | OK |  | ||||||
| celaya2 | OS X 10.11.6 El Capitan / x86_64 | OK | OK | OK | OK |  | ||||||
| merida2 | OS X 10.11.6 El Capitan / x86_64 | OK | OK | OK | OK | 
| Package: cosmiq | 
| Version: 1.17.1 | 
| Command: chmod a+r cosmiq -R && C:\Users\biocbuild\bbs-3.9-bioc\R\bin\R.exe CMD build --keep-empty-dirs --no-resave-data cosmiq | 
| StartedAt: 2019-04-08 22:27:18 -0400 (Mon, 08 Apr 2019) | 
| EndedAt: 2019-04-08 22:29:25 -0400 (Mon, 08 Apr 2019) | 
| EllapsedTime: 127.9 seconds | 
| RetCode: 0 | 
| Status: OK | 
| PackageFile: cosmiq_1.17.1.tar.gz | 
| PackageFileSize: 349.3 KiB | 
############################################################################## ############################################################################## ### ### Running command: ### ### chmod a+r cosmiq -R && C:\Users\biocbuild\bbs-3.9-bioc\R\bin\R.exe CMD build --keep-empty-dirs --no-resave-data cosmiq ### ############################################################################## ############################################################################## * checking for file 'cosmiq/DESCRIPTION' ... OK * preparing 'cosmiq': * checking DESCRIPTION meta-information ... OK * cleaning src * installing the package to build vignettes * creating vignettes ... OK * cleaning src * checking for LF line-endings in source and make files and shell scripts * checking for empty or unneeded directories * building 'cosmiq_1.17.1.tar.gz'