| Back to Multiple platform build/check report for BioC 3.9 | 
 | 
This page was generated on 2019-04-09 13:34:27 -0400 (Tue, 09 Apr 2019).
| Package 346/1703 | Hostname | OS / Arch | INSTALL | BUILD | CHECK | BUILD BIN | ||||||
| coseq 1.7.2 Andrea Rau 
 | malbec2 | Linux (Ubuntu 18.04.2 LTS) / x86_64 | OK | ERROR | skipped | |||||||
| tokay2 | Windows Server 2012 R2 Standard / x64 | OK | ERROR | skipped | skipped | |||||||
| celaya2 | OS X 10.11.6 El Capitan / x86_64 | OK | ERROR | skipped | skipped | |||||||
| merida2 | OS X 10.11.6 El Capitan / x86_64 | OK | OK | OK | [ OK ] | 
| Package: coseq | 
| Version: 1.7.2 | 
| Command: rm -rf coseq.buildbin-libdir && mkdir coseq.buildbin-libdir && /Users/biocbuild/BBS/utils/build-universal.sh coseq_1.7.2.tar.gz /Library/Frameworks/R.framework/Versions/Current/Resources/bin/R coseq.buildbin-libdir | 
| StartedAt: 2019-04-09 05:04:21 -0400 (Tue, 09 Apr 2019) | 
| EndedAt: 2019-04-09 05:05:34 -0400 (Tue, 09 Apr 2019) | 
| EllapsedTime: 73.1 seconds | 
| RetCode: 0 | 
| Status: OK | 
| PackageFile: coseq_1.7.2.tgz | 
| PackageFileSize: 1.202 MiB | 
############################################################################## ############################################################################## ### ### Running command: ### ### rm -rf coseq.buildbin-libdir && mkdir coseq.buildbin-libdir && /Users/biocbuild/BBS/utils/build-universal.sh coseq_1.7.2.tar.gz /Library/Frameworks/R.framework/Versions/Current/Resources/bin/R coseq.buildbin-libdir ### ############################################################################## ############################################################################## >>>>>>> >>>>>>> INSTALLATION WITH 'R CMD INSTALL --preclean --no-multiarch --library=coseq.buildbin-libdir coseq_1.7.2.tar.gz' >>>>>>> * installing *source* package ‘coseq’ ... ** R ** data ** inst ** byte-compile and prepare package for lazy loading Creating a new generic function for ‘plot’ in package ‘coseq’ ** help *** installing help indices ** building package indices ** installing vignettes ** testing if installed package can be loaded * DONE (coseq)