| Back to Multiple platform build/check report for BioC 3.9 |
|
This page was generated on 2019-04-09 12:41:18 -0400 (Tue, 09 Apr 2019).
| Package 329/1703 | Hostname | OS / Arch | INSTALL | BUILD | CHECK | BUILD BIN | ||||||
| consensus 1.1.2 Tim Peters
| malbec2 | Linux (Ubuntu 18.04.2 LTS) / x86_64 | OK | OK | OK | |||||||
| tokay2 | Windows Server 2012 R2 Standard / x64 | OK | OK | OK | [ OK ] | |||||||
| celaya2 | OS X 10.11.6 El Capitan / x86_64 | OK | OK | OK | OK | |||||||
| merida2 | OS X 10.11.6 El Capitan / x86_64 | OK | OK | OK | OK |
| Package: consensus |
| Version: 1.1.2 |
| Command: rm -rf consensus.buildbin-libdir && mkdir consensus.buildbin-libdir && C:\Users\biocbuild\bbs-3.9-bioc\R\bin\R.exe CMD INSTALL --merge-multiarch --build --library=consensus.buildbin-libdir consensus_1.1.2.tar.gz |
| StartedAt: 2019-04-09 07:41:47 -0400 (Tue, 09 Apr 2019) |
| EndedAt: 2019-04-09 07:42:08 -0400 (Tue, 09 Apr 2019) |
| EllapsedTime: 21.3 seconds |
| RetCode: 0 |
| Status: OK |
| PackageFile: consensus_1.1.2.zip |
| PackageFileSize: 1.038 MiB |
##############################################################################
##############################################################################
###
### Running command:
###
### rm -rf consensus.buildbin-libdir && mkdir consensus.buildbin-libdir && C:\Users\biocbuild\bbs-3.9-bioc\R\bin\R.exe CMD INSTALL --merge-multiarch --build --library=consensus.buildbin-libdir consensus_1.1.2.tar.gz
###
##############################################################################
##############################################################################
install for i386
* installing *source* package 'consensus' ...
** R
** data
** inst
** byte-compile and prepare package for lazy loading
** help
*** installing help indices
converting help for package 'consensus'
finding HTML links ... done
Agilent html
ConsensusFit-class html
Huex html
MultiMeasure-class html
MultiMeasure html
RNASeq html
U133A html
consensus-internal html
consensus-package html
fitConsensus html
plotMarginals html
plotMostDiscordant html
plotOneFit html
** building package indices
** installing vignettes
** testing if installed package can be loaded from temporary location
** testing if installed package can be loaded from final location
** testing if installed package keeps a record of temporary installation path
install for x64
* installing *source* package 'consensus' ...
** testing if installed package can be loaded
* MD5 sums
packaged installation of 'consensus' as consensus_1.1.2.zip
* DONE (consensus)