| Back to Multiple platform build/check report for BioC 3.9 | 
  | 
This page was generated on 2019-04-09 12:40:43 -0400 (Tue, 09 Apr 2019).
| Package 327/1703 | Hostname | OS / Arch | INSTALL | BUILD | CHECK | BUILD BIN | ||||||
| condcomp 1.1.1 Diogo P. P. Branco 
  | malbec2 | Linux (Ubuntu 18.04.2 LTS) / x86_64 | OK | OK | OK | |||||||
| tokay2 | Windows Server 2012 R2 Standard / x64 | [ OK ] | OK | OK | OK | |||||||
| celaya2 | OS X 10.11.6 El Capitan / x86_64 | OK | OK | OK | OK | |||||||
| merida2 | OS X 10.11.6 El Capitan / x86_64 | OK | OK | OK | OK | 
| Package: condcomp | 
| Version: 1.1.1 | 
| Command: C:\cygwin\bin\curl.exe -O https://malbec2.bioconductor.org/BBS/3.9/bioc/src/contrib/condcomp_1.1.1.tar.gz && rm -rf condcomp.buildbin-libdir && mkdir condcomp.buildbin-libdir && C:\Users\biocbuild\bbs-3.9-bioc\R\bin\R.exe CMD INSTALL --merge-multiarch --build --library=condcomp.buildbin-libdir condcomp_1.1.1.tar.gz && C:\Users\biocbuild\bbs-3.9-bioc\R\bin\R.exe CMD INSTALL condcomp_1.1.1.zip && rm condcomp_1.1.1.tar.gz condcomp_1.1.1.zip | 
| StartedAt: 2019-04-08 19:36:16 -0400 (Mon, 08 Apr 2019) | 
| EndedAt: 2019-04-08 19:36:32 -0400 (Mon, 08 Apr 2019) | 
| EllapsedTime: 16.2 seconds | 
| RetCode: 0 | 
| Status: OK | 
##############################################################################
##############################################################################
###
### Running command:
###
###   C:\cygwin\bin\curl.exe -O https://malbec2.bioconductor.org/BBS/3.9/bioc/src/contrib/condcomp_1.1.1.tar.gz && rm -rf condcomp.buildbin-libdir && mkdir condcomp.buildbin-libdir && C:\Users\biocbuild\bbs-3.9-bioc\R\bin\R.exe CMD INSTALL --merge-multiarch --build --library=condcomp.buildbin-libdir condcomp_1.1.1.tar.gz && C:\Users\biocbuild\bbs-3.9-bioc\R\bin\R.exe CMD INSTALL condcomp_1.1.1.zip && rm condcomp_1.1.1.tar.gz condcomp_1.1.1.zip
###
##############################################################################
##############################################################################
  % Total    % Received % Xferd  Average Speed   Time    Time     Time  Current
                                 Dload  Upload   Total   Spent    Left  Speed
  0     0    0     0    0     0      0      0 --:--:-- --:--:-- --:--:--     0
100 21249  100 21249    0     0   333k      0 --:--:-- --:--:-- --:--:--  377k
install for i386
* installing *source* package 'condcomp' ...
** R
** byte-compile and prepare package for lazy loading
** help
*** installing help indices
  converting help for package 'condcomp'
    finding HTML links ... done
    condcomp                                html  
    condcompPlot                            html  
** building package indices
** installing vignettes
** testing if installed package can be loaded from temporary location
** testing if installed package can be loaded from final location
** testing if installed package keeps a record of temporary installation path
install for x64
* installing *source* package 'condcomp' ...
** testing if installed package can be loaded
* MD5 sums
packaged installation of 'condcomp' as condcomp_1.1.1.zip
* DONE (condcomp)
* installing to library 'C:/Users/biocbuild/bbs-3.9-bioc/R/library'
package 'condcomp' successfully unpacked and MD5 sums checked