Back to Multiple platform build/check report for BioC 3.9 |
|
This page was generated on 2019-04-09 13:11:28 -0400 (Tue, 09 Apr 2019).
Package 324/1703 | Hostname | OS / Arch | INSTALL | BUILD | CHECK | BUILD BIN | ||||||
compEpiTools 1.17.0 Kamal Kishore
| malbec2 | Linux (Ubuntu 18.04.2 LTS) / x86_64 | OK | OK | OK | |||||||
tokay2 | Windows Server 2012 R2 Standard / x64 | OK | OK | OK | OK | |||||||
celaya2 | OS X 10.11.6 El Capitan / x86_64 | OK | OK | [ OK ] | OK | |||||||
merida2 | OS X 10.11.6 El Capitan / x86_64 | OK | OK | OK | OK |
Package: compEpiTools |
Version: 1.17.0 |
Command: /Library/Frameworks/R.framework/Versions/Current/Resources/bin/R CMD check --install=check:compEpiTools.install-out.txt --library=/Library/Frameworks/R.framework/Versions/Current/Resources/library --no-vignettes --timings compEpiTools_1.17.0.tar.gz |
StartedAt: 2019-04-09 00:55:12 -0400 (Tue, 09 Apr 2019) |
EndedAt: 2019-04-09 01:05:39 -0400 (Tue, 09 Apr 2019) |
EllapsedTime: 626.7 seconds |
RetCode: 0 |
Status: OK |
CheckDir: compEpiTools.Rcheck |
Warnings: 0 |
############################################################################## ############################################################################## ### ### Running command: ### ### /Library/Frameworks/R.framework/Versions/Current/Resources/bin/R CMD check --install=check:compEpiTools.install-out.txt --library=/Library/Frameworks/R.framework/Versions/Current/Resources/library --no-vignettes --timings compEpiTools_1.17.0.tar.gz ### ############################################################################## ############################################################################## * using log directory ‘/Users/biocbuild/bbs-3.9-bioc/meat/compEpiTools.Rcheck’ * using R Under development (unstable) (2019-03-18 r76245) * using platform: x86_64-apple-darwin15.6.0 (64-bit) * using session charset: UTF-8 * using option ‘--no-vignettes’ * checking for file ‘compEpiTools/DESCRIPTION’ ... OK * checking extension type ... Package * this is package ‘compEpiTools’ version ‘1.17.0’ * checking package namespace information ... OK * checking package dependencies ... OK * checking if this is a source package ... OK * checking if there is a namespace ... OK * checking for hidden files and directories ... OK * checking for portable file names ... OK * checking for sufficient/correct file permissions ... OK * checking whether package ‘compEpiTools’ can be installed ... OK * checking installed package size ... OK * checking package directory ... OK * checking ‘build’ directory ... OK * checking DESCRIPTION meta-information ... OK * checking top-level files ... OK * checking for left-over files ... OK * checking index information ... OK * checking package subdirectories ... OK * checking R files for non-ASCII characters ... OK * checking R files for syntax errors ... OK * checking whether the package can be loaded ... OK * checking whether the package can be loaded with stated dependencies ... OK * checking whether the package can be unloaded cleanly ... OK * checking whether the namespace can be loaded with stated dependencies ... OK * checking whether the namespace can be unloaded cleanly ... OK * checking dependencies in R code ... OK * checking S3 generic/method consistency ... OK * checking replacement functions ... OK * checking foreign function calls ... OK * checking R code for possible problems ... NOTE TSS: no visible global function definition for 'end<-' TSS: no visible global function definition for 'start<-' findLncRNA: no visible global function definition for 'start<-' findLncRNA: no visible global function definition for 'end<-' findLncRNA: no visible global function definition for 'IRanges' stallingIndex : getBound: no visible global function definition for 'start<-' stallingIndex : getBound: no visible global function definition for 'end<-' stallingIndex: no visible global function definition for 'IRanges' topGOres : <anonymous>: no visible global function definition for 'ggplot' topGOres : <anonymous>: no visible global function definition for 'aes' topGOres : <anonymous>: no visible binding for global variable 'Significant' topGOres : <anonymous>: no visible binding for global variable 'P_val' topGOres : <anonymous>: no visible global function definition for 'geom_bar' topGOres : <anonymous>: no visible global function definition for 'coord_flip' topGOres : <anonymous>: no visible global function definition for 'ylab' ucsc2GRanges: no visible global function definition for 'IRanges' GR2fasta,GRanges: no visible global function definition for 'seqlengths' GR2fasta,GRanges: no visible global function definition for 'seqlengths<-' GR2fasta,GRanges: no visible global function definition for 'trim' GRangesInPromoters,GRanges: no visible global function definition for 'start<-' GRannotate,GRanges: no visible global function definition for 'start<-' GRannotate,GRanges: no visible global function definition for 'end<-' GRcoverageSummit,GRanges: no visible global function definition for 'start<-' GRcoverageSummit,GRanges: no visible global function definition for 'end<-' GRmidpoint,GRanges: no visible global function definition for 'start<-' GRmidpoint,GRanges: no visible global function definition for 'end<-' GRsetwidth,GRanges: no visible global function definition for 'start<-' GRsetwidth,GRanges: no visible global function definition for 'end<-' countOverlapsInBins,GRanges: no visible global function definition for 'IRanges' featuresLength,TxDb: no visible global function definition for 'reduce' getPromoterClass,TxDb: no visible binding for global variable 'txdb' getPromoterClass,TxDb: no visible global function definition for 'start<-' getPromoterClass,TxDb: no visible global function definition for 'stopCluster' makeGtfFromDb,TxDb: no visible global function definition for 'reduce' matchEnhancers,GRanges: no visible global function definition for 'distanceToNearest' matchEnhancers,GRanges: no visible global function definition for 'IRanges' Undefined global functions or variables: IRanges P_val Significant aes coord_flip distanceToNearest end<- geom_bar ggplot reduce seqlengths seqlengths<- start<- stopCluster trim txdb ylab * checking Rd files ... OK * checking Rd metadata ... OK * checking Rd cross-references ... OK * checking for missing documentation entries ... OK * checking for code/documentation mismatches ... OK * checking Rd \usage sections ... OK * checking Rd contents ... OK * checking for unstated dependencies in examples ... OK * checking sizes of PDF files under ‘inst/doc’ ... OK * checking files in ‘vignettes’ ... OK * checking examples ... OK Examples with CPU or elapsed time > 5s user system elapsed topGOres 49.974 4.116 54.097 makeGtfFromDb 6.836 0.796 9.354 GRannotate-methods 5.676 0.203 5.880 heatmapPlot 4.647 0.317 5.101 getPromoterClass-methods 1.054 0.041 25.174 * checking for unstated dependencies in vignettes ... OK * checking package vignettes in ‘inst/doc’ ... OK * checking running R code from vignettes ... SKIPPED * checking re-building of vignette outputs ... SKIPPED * checking PDF version of manual ... OK * DONE Status: 1 NOTE See ‘/Users/biocbuild/bbs-3.9-bioc/meat/compEpiTools.Rcheck/00check.log’ for details.
compEpiTools.Rcheck/00install.out
############################################################################## ############################################################################## ### ### Running command: ### ### /Library/Frameworks/R.framework/Versions/Current/Resources/bin/R CMD INSTALL compEpiTools ### ############################################################################## ############################################################################## * installing to library ‘/Library/Frameworks/R.framework/Versions/3.6/Resources/library’ * installing *source* package ‘compEpiTools’ ... ** using staged installation ** R ** inst ** byte-compile and prepare package for lazy loading groupGOTerms: GOBPTerm, GOMFTerm, GOCCTerm environments built. ** help *** installing help indices ** building package indices ** installing vignettes ** testing if installed package can be loaded from temporary location groupGOTerms: GOBPTerm, GOMFTerm, GOCCTerm environments built. ** testing if installed package can be loaded from final location groupGOTerms: GOBPTerm, GOMFTerm, GOCCTerm environments built. ** testing if installed package keeps a record of temporary installation path * DONE (compEpiTools)
compEpiTools.Rcheck/compEpiTools-Ex.timings
name | user | system | elapsed | |
GR2fasta-methods | 0.855 | 0.019 | 0.877 | |
GRanges2ucsc-methods | 0.011 | 0.001 | 0.012 | |
GRangesInPromoters-methods | 4.447 | 0.176 | 4.624 | |
GRannotate-methods | 5.676 | 0.203 | 5.880 | |
GRannotateSimple | 1.017 | 0.042 | 1.060 | |
GRbaseCoverage-methods | 0.106 | 0.003 | 0.109 | |
GRcoverage-methods | 0.195 | 0.004 | 0.200 | |
GRcoverageSummit-methods | 0.072 | 0.002 | 0.074 | |
GRenrichment-methods | 0.104 | 0.003 | 0.107 | |
GRmidpoint-methods | 0.029 | 0.001 | 0.030 | |
GRsetwidth | 0.034 | 0.001 | 0.036 | |
TSS | 1.986 | 0.094 | 2.080 | |
countOverlapsInBins-methods | 0.133 | 0.001 | 0.135 | |
distanceFromTSS-methods | 4.084 | 0.082 | 4.167 | |
enhancers | 0.543 | 0.022 | 0.566 | |
findLncRNA | 1.167 | 0.115 | 1.293 | |
getPromoterClass-methods | 1.054 | 0.041 | 25.174 | |
heatmapData | 1.757 | 0.062 | 1.821 | |
heatmapPlot | 4.647 | 0.317 | 5.101 | |
makeGtfFromDb | 6.836 | 0.796 | 9.354 | |
matchEnhancers | 2.717 | 0.157 | 2.874 | |
overlapOfGRanges-methods | 0.054 | 0.000 | 0.055 | |
palette2d | 0.084 | 0.003 | 0.088 | |
plotStallingIndex | 3.531 | 0.128 | 3.667 | |
simplifyGOterms | 1.286 | 0.348 | 2.000 | |
stallingIndex | 3.502 | 0.150 | 3.653 | |
topGOres | 49.974 | 4.116 | 54.097 | |
ucsc2GRanges | 0.009 | 0.000 | 0.009 | |
unionMaxScore-methods | 0.114 | 0.001 | 0.114 | |