| Back to Multiple platform build/check report for BioC 3.9 |
|
This page was generated on 2019-04-09 12:00:23 -0400 (Tue, 09 Apr 2019).
| Package 317/1703 | Hostname | OS / Arch | INSTALL | BUILD | CHECK | BUILD BIN | ||||||
| coGPS 1.27.0 Yingying Wei
| malbec2 | Linux (Ubuntu 18.04.2 LTS) / x86_64 | OK | OK | OK | |||||||
| tokay2 | Windows Server 2012 R2 Standard / x64 | OK | OK | OK | [ OK ] | |||||||
| celaya2 | OS X 10.11.6 El Capitan / x86_64 | OK | OK | OK | OK | |||||||
| merida2 | OS X 10.11.6 El Capitan / x86_64 | OK | OK | OK | OK |
| Package: coGPS |
| Version: 1.27.0 |
| Command: rm -rf coGPS.buildbin-libdir && mkdir coGPS.buildbin-libdir && C:\Users\biocbuild\bbs-3.9-bioc\R\bin\R.exe CMD INSTALL --merge-multiarch --build --library=coGPS.buildbin-libdir coGPS_1.27.0.tar.gz |
| StartedAt: 2019-04-09 07:41:01 -0400 (Tue, 09 Apr 2019) |
| EndedAt: 2019-04-09 07:41:27 -0400 (Tue, 09 Apr 2019) |
| EllapsedTime: 26.0 seconds |
| RetCode: 0 |
| Status: OK |
| PackageFile: coGPS_1.27.0.zip |
| PackageFileSize: 1.723 MiB |
##############################################################################
##############################################################################
###
### Running command:
###
### rm -rf coGPS.buildbin-libdir && mkdir coGPS.buildbin-libdir && C:\Users\biocbuild\bbs-3.9-bioc\R\bin\R.exe CMD INSTALL --merge-multiarch --build --library=coGPS.buildbin-libdir coGPS_1.27.0.tar.gz
###
##############################################################################
##############################################################################
install for i386
* installing *source* package 'coGPS' ...
** R
** data
** inst
** byte-compile and prepare package for lazy loading
** help
*** installing help indices
converting help for package 'coGPS'
finding HTML links ... done
PCOPA html
PatientSpecificGeneList html
PlotTopPCOPA html
SampleData html
coGPS-internal html
coGPS-package html
permCOPA html
** building package indices
** installing vignettes
** testing if installed package can be loaded from temporary location
** testing if installed package can be loaded from final location
** testing if installed package keeps a record of temporary installation path
install for x64
* installing *source* package 'coGPS' ...
** testing if installed package can be loaded
* MD5 sums
packaged installation of 'coGPS' as coGPS_1.27.0.zip
* DONE (coGPS)