| Back to Multiple platform build/check report for BioC 3.9 |
|
This page was generated on 2019-04-09 12:28:28 -0400 (Tue, 09 Apr 2019).
| Package 290/1703 | Hostname | OS / Arch | INSTALL | BUILD | CHECK | BUILD BIN | ||||||
| clusterSeq 1.7.0 Thomas J. Hardcastle
| malbec2 | Linux (Ubuntu 18.04.2 LTS) / x86_64 | OK | OK | OK | |||||||
| tokay2 | Windows Server 2012 R2 Standard / x64 | OK | OK | WARNINGS | [ OK ] | |||||||
| celaya2 | OS X 10.11.6 El Capitan / x86_64 | OK | OK | OK | OK | |||||||
| merida2 | OS X 10.11.6 El Capitan / x86_64 | OK | OK | OK | OK |
| Package: clusterSeq |
| Version: 1.7.0 |
| Command: rm -rf clusterSeq.buildbin-libdir && mkdir clusterSeq.buildbin-libdir && C:\Users\biocbuild\bbs-3.9-bioc\R\bin\R.exe CMD INSTALL --merge-multiarch --build --library=clusterSeq.buildbin-libdir clusterSeq_1.7.0.tar.gz |
| StartedAt: 2019-04-09 07:39:30 -0400 (Tue, 09 Apr 2019) |
| EndedAt: 2019-04-09 07:40:18 -0400 (Tue, 09 Apr 2019) |
| EllapsedTime: 47.7 seconds |
| RetCode: 0 |
| Status: OK |
| PackageFile: clusterSeq_1.7.0.zip |
| PackageFileSize: 1.045 MiB |
##############################################################################
##############################################################################
###
### Running command:
###
### rm -rf clusterSeq.buildbin-libdir && mkdir clusterSeq.buildbin-libdir && C:\Users\biocbuild\bbs-3.9-bioc\R\bin\R.exe CMD INSTALL --merge-multiarch --build --library=clusterSeq.buildbin-libdir clusterSeq_1.7.0.tar.gz
###
##############################################################################
##############################################################################
install for i386
* installing *source* package 'clusterSeq' ...
** R
** data
** inst
** byte-compile and prepare package for lazy loading
** help
*** installing help indices
converting help for package 'clusterSeq'
finding HTML links ... done
associatePosteriors html
Rd warning: C:/Users/biocbuild/bbs-3.9-bioc/tmpdir/RtmpMBQvHV/R.INSTALL1fa02b6f6194/clusterSeq/man/associatePosteriors.Rd:19: file link 'countData' in package 'baySeq' does not exist and so has been treated as a topic
Rd warning: C:/Users/biocbuild/bbs-3.9-bioc/tmpdir/RtmpMBQvHV/R.INSTALL1fa02b6f6194/clusterSeq/man/associatePosteriors.Rd:33: file link 'countData' in package 'baySeq' does not exist and so has been treated as a topic
cD.ratThymus-data html
Rd warning: C:/Users/biocbuild/bbs-3.9-bioc/tmpdir/RtmpMBQvHV/R.INSTALL1fa02b6f6194/clusterSeq/man/cD.ratThymus-data.Rd:9: file link 'countData' in package 'baySeq' does not exist and so has been treated as a topic
Rd warning: C:/Users/biocbuild/bbs-3.9-bioc/tmpdir/RtmpMBQvHV/R.INSTALL1fa02b6f6194/clusterSeq/man/cD.ratThymus-data.Rd:19: file link 'countData' in package 'baySeq' does not exist and so has been treated as a topic
Rd warning: C:/Users/biocbuild/bbs-3.9-bioc/tmpdir/RtmpMBQvHV/R.INSTALL1fa02b6f6194/clusterSeq/man/cD.ratThymus-data.Rd:17: file link 'countData' in package 'baySeq' does not exist and so has been treated as a topic
clusterSeq-package html
kCluster html
Rd warning: C:/Users/biocbuild/bbs-3.9-bioc/tmpdir/RtmpMBQvHV/R.INSTALL1fa02b6f6194/clusterSeq/man/kCluster.Rd:20: file link 'countData' in package 'baySeq' does not exist and so has been treated as a topic
Rd warning: C:/Users/biocbuild/bbs-3.9-bioc/tmpdir/RtmpMBQvHV/R.INSTALL1fa02b6f6194/clusterSeq/man/kCluster.Rd:70: file link 'countData' in package 'baySeq' does not exist and so has been treated as a topic
makeClusters html
makeClustersFF html
plotCluster html
ratThymus-data html
wallace html
** building package indices
** installing vignettes
** testing if installed package can be loaded from temporary location
** testing if installed package can be loaded from final location
** testing if installed package keeps a record of temporary installation path
install for x64
* installing *source* package 'clusterSeq' ...
** testing if installed package can be loaded
* MD5 sums
packaged installation of 'clusterSeq' as clusterSeq_1.7.0.zip
* DONE (clusterSeq)