| Back to Multiple platform build/check report for BioC 3.9 | 
 | 
This page was generated on 2019-04-09 13:00:14 -0400 (Tue, 09 Apr 2019).
| Package 283/1703 | Hostname | OS / Arch | INSTALL | BUILD | CHECK | BUILD BIN | ||||||
| clst 1.31.0 Noah Hoffman 
 | malbec2 | Linux (Ubuntu 18.04.2 LTS) / x86_64 | OK | OK | WARNINGS |  | ||||||
| tokay2 | Windows Server 2012 R2 Standard / x64 | OK | OK | WARNINGS | OK |  | ||||||
| celaya2 | OS X 10.11.6 El Capitan / x86_64 | OK | OK | WARNINGS | [ OK ] |  | ||||||
| merida2 | OS X 10.11.6 El Capitan / x86_64 | OK | OK | WARNINGS | OK | 
| Package: clst | 
| Version: 1.31.0 | 
| Command: rm -rf clst.buildbin-libdir && mkdir clst.buildbin-libdir && /Users/biocbuild/BBS/utils/build-universal.sh clst_1.31.0.tar.gz /Library/Frameworks/R.framework/Versions/Current/Resources/bin/R clst.buildbin-libdir | 
| StartedAt: 2019-04-09 06:49:48 -0400 (Tue, 09 Apr 2019) | 
| EndedAt: 2019-04-09 06:50:20 -0400 (Tue, 09 Apr 2019) | 
| EllapsedTime: 32.5 seconds | 
| RetCode: 0 | 
| Status: OK | 
| PackageFile: clst_1.31.0.tgz | 
| PackageFileSize: 1.604 MiB | 
############################################################################## ############################################################################## ### ### Running command: ### ### rm -rf clst.buildbin-libdir && mkdir clst.buildbin-libdir && /Users/biocbuild/BBS/utils/build-universal.sh clst_1.31.0.tar.gz /Library/Frameworks/R.framework/Versions/Current/Resources/bin/R clst.buildbin-libdir ### ############################################################################## ############################################################################## >>>>>>> >>>>>>> INSTALLATION WITH 'R CMD INSTALL --preclean --no-multiarch --library=clst.buildbin-libdir clst_1.31.0.tar.gz' >>>>>>> * installing *source* package ‘clst’ ... ** using staged installation ** R ** data *** moving datasets to lazyload DB ** inst ** byte-compile and prepare package for lazy loading ** help *** installing help indices ** building package indices ** installing vignettes ** testing if installed package can be loaded from temporary location ** testing if installed package can be loaded from final location ** testing if installed package keeps a record of temporary installation path * DONE (clst)