| Back to Multiple platform build/check report for BioC 3.9 |
|
This page was generated on 2019-04-09 13:27:51 -0400 (Tue, 09 Apr 2019).
| Package 279/1703 | Hostname | OS / Arch | INSTALL | BUILD | CHECK | BUILD BIN | ||||||
| clipper 1.23.0 Paolo Martini
| malbec2 | Linux (Ubuntu 18.04.2 LTS) / x86_64 | OK | OK | ERROR | |||||||
| tokay2 | Windows Server 2012 R2 Standard / x64 | OK | OK | ERROR | OK | |||||||
| celaya2 | OS X 10.11.6 El Capitan / x86_64 | OK | OK | ERROR | OK | |||||||
| merida2 | OS X 10.11.6 El Capitan / x86_64 | OK | OK | OK | [ OK ] |
| Package: clipper |
| Version: 1.23.0 |
| Command: rm -rf clipper.buildbin-libdir && mkdir clipper.buildbin-libdir && /Users/biocbuild/BBS/utils/build-universal.sh clipper_1.23.0.tar.gz /Library/Frameworks/R.framework/Versions/Current/Resources/bin/R clipper.buildbin-libdir |
| StartedAt: 2019-04-09 04:59:03 -0400 (Tue, 09 Apr 2019) |
| EndedAt: 2019-04-09 05:00:23 -0400 (Tue, 09 Apr 2019) |
| EllapsedTime: 80.1 seconds |
| RetCode: 0 |
| Status: OK |
| PackageFile: clipper_1.23.0.tgz |
| PackageFileSize: 676.6 KiB |
############################################################################## ############################################################################## ### ### Running command: ### ### rm -rf clipper.buildbin-libdir && mkdir clipper.buildbin-libdir && /Users/biocbuild/BBS/utils/build-universal.sh clipper_1.23.0.tar.gz /Library/Frameworks/R.framework/Versions/Current/Resources/bin/R clipper.buildbin-libdir ### ############################################################################## ############################################################################## >>>>>>> >>>>>>> INSTALLATION WITH 'R CMD INSTALL --preclean --no-multiarch --library=clipper.buildbin-libdir clipper_1.23.0.tar.gz' >>>>>>> * installing *source* package ‘clipper’ ... ** R ** inst ** byte-compile and prepare package for lazy loading No methods found in package ‘GenomicRanges’ for request: ‘c’ when loading ‘qpgraph’ ** help *** installing help indices ** building package indices ** installing vignettes ** testing if installed package can be loaded No methods found in package ‘GenomicRanges’ for request: ‘c’ when loading ‘qpgraph’ * DONE (clipper)