| Back to Multiple platform build/check report for BioC 3.9 |
|
This page was generated on 2019-04-09 13:37:39 -0400 (Tue, 09 Apr 2019).
| Package 272/1703 | Hostname | OS / Arch | INSTALL | BUILD | CHECK | BUILD BIN | ||||||
| cicero 1.1.4 Hannah Pliner
| malbec2 | Linux (Ubuntu 18.04.2 LTS) / x86_64 | OK | OK | ERROR | |||||||
| tokay2 | Windows Server 2012 R2 Standard / x64 | OK | OK | ERROR | OK | |||||||
| celaya2 | OS X 10.11.6 El Capitan / x86_64 | OK | OK | ERROR | OK | |||||||
| merida2 | OS X 10.11.6 El Capitan / x86_64 | OK | OK | OK | [ OK ] |
| Package: cicero |
| Version: 1.1.4 |
| Command: rm -rf cicero.buildbin-libdir && mkdir cicero.buildbin-libdir && /Users/biocbuild/BBS/utils/build-universal.sh cicero_1.1.4.tar.gz /Library/Frameworks/R.framework/Versions/Current/Resources/bin/R cicero.buildbin-libdir |
| StartedAt: 2019-04-09 04:58:30 -0400 (Tue, 09 Apr 2019) |
| EndedAt: 2019-04-09 04:59:55 -0400 (Tue, 09 Apr 2019) |
| EllapsedTime: 84.7 seconds |
| RetCode: 0 |
| Status: OK |
| PackageFile: cicero_1.1.4.tgz |
| PackageFileSize: 1.537 MiB |
############################################################################## ############################################################################## ### ### Running command: ### ### rm -rf cicero.buildbin-libdir && mkdir cicero.buildbin-libdir && /Users/biocbuild/BBS/utils/build-universal.sh cicero_1.1.4.tar.gz /Library/Frameworks/R.framework/Versions/Current/Resources/bin/R cicero.buildbin-libdir ### ############################################################################## ############################################################################## >>>>>>> >>>>>>> INSTALLATION WITH 'R CMD INSTALL --preclean --no-multiarch --library=cicero.buildbin-libdir cicero_1.1.4.tar.gz' >>>>>>> * installing *source* package ‘cicero’ ... ** R ** data ** inst ** byte-compile and prepare package for lazy loading ** help *** installing help indices ** building package indices ** installing vignettes ** testing if installed package can be loaded * DONE (cicero)