| Back to Multiple platform build/check report for BioC 3.9 | 
 | 
This page was generated on 2019-04-09 13:17:22 -0400 (Tue, 09 Apr 2019).
| Package 250/1703 | Hostname | OS / Arch | INSTALL | BUILD | CHECK | BUILD BIN | ||||||
| chimeraviz 1.9.5 Stian Lågstad 
 | malbec2 | Linux (Ubuntu 18.04.2 LTS) / x86_64 | OK | OK | OK |  | ||||||
| tokay2 | Windows Server 2012 R2 Standard / x64 | OK | OK | OK | OK |  | ||||||
| celaya2 | OS X 10.11.6 El Capitan / x86_64 | OK | OK | [ OK ] | OK |  | ||||||
| merida2 | OS X 10.11.6 El Capitan / x86_64 | OK | OK | OK | OK | 
| Package: chimeraviz | 
| Version: 1.9.5 | 
| Command: /Library/Frameworks/R.framework/Versions/Current/Resources/bin/R CMD check --install=check:chimeraviz.install-out.txt --library=/Library/Frameworks/R.framework/Versions/Current/Resources/library --no-vignettes --timings chimeraviz_1.9.5.tar.gz | 
| StartedAt: 2019-04-09 00:34:31 -0400 (Tue, 09 Apr 2019) | 
| EndedAt: 2019-04-09 00:46:19 -0400 (Tue, 09 Apr 2019) | 
| EllapsedTime: 708.3 seconds | 
| RetCode: 0 | 
| Status: OK | 
| CheckDir: chimeraviz.Rcheck | 
| Warnings: 0 | 
##############################################################################
##############################################################################
###
### Running command:
###
###   /Library/Frameworks/R.framework/Versions/Current/Resources/bin/R CMD check --install=check:chimeraviz.install-out.txt --library=/Library/Frameworks/R.framework/Versions/Current/Resources/library --no-vignettes --timings chimeraviz_1.9.5.tar.gz
###
##############################################################################
##############################################################################
* using log directory ‘/Users/biocbuild/bbs-3.9-bioc/meat/chimeraviz.Rcheck’
* using R Under development (unstable) (2019-03-18 r76245)
* using platform: x86_64-apple-darwin15.6.0 (64-bit)
* using session charset: UTF-8
* using option ‘--no-vignettes’
* checking for file ‘chimeraviz/DESCRIPTION’ ... OK
* checking extension type ... Package
* this is package ‘chimeraviz’ version ‘1.9.5’
* package encoding: UTF-8
* checking package namespace information ... OK
* checking package dependencies ... NOTE
Depends: includes the non-default packages:
  'Biostrings', 'GenomicRanges', 'IRanges', 'Gviz', 'S4Vectors',
  'ensembldb', 'AnnotationFilter', 'data.table'
Adding so many packages to the search path is excessive and importing
selectively is preferable.
* checking if this is a source package ... OK
* checking if there is a namespace ... OK
* checking for hidden files and directories ... OK
* checking for portable file names ... OK
* checking for sufficient/correct file permissions ... OK
* checking whether package ‘chimeraviz’ can be installed ... OK
* checking installed package size ... OK
* checking package directory ... OK
* checking ‘build’ directory ... OK
* checking DESCRIPTION meta-information ... OK
* checking top-level files ... OK
* checking for left-over files ... OK
* checking index information ... OK
* checking package subdirectories ... OK
* checking R files for non-ASCII characters ... OK
* checking R files for syntax errors ... OK
* checking whether the package can be loaded ... OK
* checking whether the package can be loaded with stated dependencies ... OK
* checking whether the package can be unloaded cleanly ... OK
* checking whether the namespace can be loaded with stated dependencies ... OK
* checking whether the namespace can be unloaded cleanly ... OK
* checking dependencies in R code ... OK
* checking S3 generic/method consistency ... OK
* checking replacement functions ... OK
* checking foreign function calls ... OK
* checking R code for possible problems ... NOTE
plot_fusion_transcript_with_protein_domain: no visible binding for
  global variable 'protein_domain_location'
Undefined global functions or variables:
  protein_domain_location
* checking Rd files ... OK
* checking Rd metadata ... OK
* checking Rd cross-references ... OK
* checking for missing documentation entries ... OK
* checking for code/documentation mismatches ... OK
* checking Rd \usage sections ... OK
* checking Rd contents ... OK
* checking for unstated dependencies in examples ... OK
* checking files in ‘vignettes’ ... OK
* checking examples ... OK
Examples with CPU or elapsed time > 5s
                                             user system elapsed
plot_transcripts                           27.529  1.401  29.727
plot_fusion                                24.490  0.307  24.824
plot_fusion_transcript                     21.201  0.285  21.497
plot_fusion_transcript_with_protein_domain 12.861  0.835  12.378
plot_fusion_transcripts_graph              10.179  0.100  10.304
select_transcript                           7.984  0.074   8.486
get_transcripts_ensembl_db                  7.595  0.261   7.853
create_fusion_report                        4.932  0.440   5.422
plot_fusion_reads                           4.888  0.218   5.174
* checking for unstated dependencies in ‘tests’ ... OK
* checking tests ...
  Running ‘testthat.R’
 OK
* checking for unstated dependencies in vignettes ... OK
* checking package vignettes in ‘inst/doc’ ... OK
* checking running R code from vignettes ... SKIPPED
* checking re-building of vignette outputs ... SKIPPED
* checking PDF version of manual ... OK
* DONE
Status: 2 NOTEs
See
  ‘/Users/biocbuild/bbs-3.9-bioc/meat/chimeraviz.Rcheck/00check.log’
for details.
chimeraviz.Rcheck/00install.out
############################################################################## ############################################################################## ### ### Running command: ### ### /Library/Frameworks/R.framework/Versions/Current/Resources/bin/R CMD INSTALL chimeraviz ### ############################################################################## ############################################################################## * installing to library ‘/Library/Frameworks/R.framework/Versions/3.6/Resources/library’ * installing *source* package ‘chimeraviz’ ... ** using staged installation ** R ** inst ** byte-compile and prepare package for lazy loading ** help *** installing help indices ** building package indices ** installing vignettes ** testing if installed package can be loaded from temporary location ** testing if installed package can be loaded from final location ** testing if installed package keeps a record of temporary installation path * DONE (chimeraviz)
chimeraviz.Rcheck/tests/testthat.Rout
R Under development (unstable) (2019-03-18 r76245) -- "Unsuffered Consequences"
Copyright (C) 2019 The R Foundation for Statistical Computing
Platform: x86_64-apple-darwin15.6.0 (64-bit)
R is free software and comes with ABSOLUTELY NO WARRANTY.
You are welcome to redistribute it under certain conditions.
Type 'license()' or 'licence()' for distribution details.
R is a collaborative project with many contributors.
Type 'contributors()' for more information and
'citation()' on how to cite R or R packages in publications.
Type 'demo()' for some demos, 'help()' for on-line help, or
'help.start()' for an HTML browser interface to help.
Type 'q()' to quit R.
> library(testthat)
> library(chimeraviz)
Loading required package: Biostrings
Loading required package: BiocGenerics
Loading required package: parallel
Attaching package: 'BiocGenerics'
The following objects are masked from 'package:parallel':
    clusterApply, clusterApplyLB, clusterCall, clusterEvalQ,
    clusterExport, clusterMap, parApply, parCapply, parLapply,
    parLapplyLB, parRapply, parSapply, parSapplyLB
The following objects are masked from 'package:stats':
    IQR, mad, sd, var, xtabs
The following objects are masked from 'package:base':
    Filter, Find, Map, Position, Reduce, anyDuplicated, append,
    as.data.frame, basename, cbind, colMeans, colSums, colnames,
    dirname, do.call, duplicated, eval, evalq, get, grep, grepl,
    intersect, is.unsorted, lapply, mapply, match, mget, order, paste,
    pmax, pmax.int, pmin, pmin.int, rank, rbind, rowMeans, rowSums,
    rownames, sapply, setdiff, sort, table, tapply, union, unique,
    unsplit, which, which.max, which.min
Loading required package: S4Vectors
Loading required package: stats4
Attaching package: 'S4Vectors'
The following object is masked from 'package:base':
    expand.grid
Loading required package: IRanges
Loading required package: XVector
Attaching package: 'Biostrings'
The following object is masked from 'package:base':
    strsplit
Loading required package: GenomicRanges
Loading required package: GenomeInfoDb
Loading required package: Gviz
Loading required package: grid
Loading required package: ensembldb
Loading required package: GenomicFeatures
Loading required package: AnnotationDbi
Loading required package: Biobase
Welcome to Bioconductor
    Vignettes contain introductory material; view with
    'browseVignettes()'. To cite Bioconductor, see
    'citation("Biobase")', and for packages 'citation("pkgname")'.
Loading required package: AnnotationFilter
Attaching package: 'AnnotationFilter'
The following object is masked from 'package:Gviz':
    feature
The following object is masked from 'package:testthat':
    not
Attaching package: 'ensembldb'
The following object is masked from 'package:stats':
    filter
Loading required package: data.table
Attaching package: 'data.table'
The following object is masked from 'package:GenomicRanges':
    shift
The following object is masked from 'package:IRanges':
    shift
The following objects are masked from 'package:S4Vectors':
    first, second
> 
> test_check("chimeraviz")
══ testthat results  ═══════════════════════════════════════════════════════════
OK: 171 SKIPPED: 0 FAILED: 0
Warning message:
call dbDisconnect() when finished working with a connection 
> 
> proc.time()
   user  system elapsed 
147.630   4.630 152.583 
chimeraviz.Rcheck/chimeraviz-Ex.timings
| name | user | system | elapsed | |
| add_fusion_reads_alignment | 0.992 | 0.040 | 1.035 | |
| create_fusion_report | 4.932 | 0.440 | 5.422 | |
| decide_transcript_category | 0.334 | 0.005 | 0.342 | |
| down_shift | 0.106 | 0.010 | 0.116 | |
| downstream_partner_gene | 0.142 | 0.001 | 0.144 | |
| fetch_reads_from_fastq | 0.000 | 0.000 | 0.001 | |
| fusion_spanning_reads_count | 0.080 | 0.001 | 0.081 | |
| fusion_split_reads_count | 0.081 | 0.001 | 0.082 | |
| fusion_to_data_frame | 0.080 | 0.001 | 0.081 | |
| get_ensembl_ids | 0.701 | 0.033 | 0.734 | |
| get_fusion_by_chromosome | 0.075 | 0.003 | 0.077 | |
| get_fusion_by_gene_name | 0.082 | 0.003 | 0.084 | |
| get_fusion_by_id | 0.088 | 0.003 | 0.091 | |
| get_transcripts_ensembl_db | 7.595 | 0.261 | 7.853 | |
| import_defuse | 0.209 | 0.001 | 0.210 | |
| import_ericscript | 0.217 | 0.000 | 0.219 | |
| import_fusioncatcher | 0.222 | 0.001 | 0.225 | |
| import_fusionmap | 0.180 | 0.001 | 0.182 | |
| import_infusion | 0.222 | 0.001 | 0.224 | |
| import_jaffa | 0.142 | 0.002 | 0.144 | |
| import_oncofuse | 0.140 | 0.001 | 0.142 | |
| import_prada | 0.227 | 0.001 | 0.229 | |
| import_soapfuse | 0.200 | 0.001 | 0.203 | |
| import_starfusion | 0.280 | 0.001 | 0.283 | |
| partner_gene_ensembl_id | 0.151 | 0.001 | 0.152 | |
| partner_gene_junction_sequence | 0.084 | 0.001 | 0.085 | |
| plot_circle | 1.430 | 0.104 | 1.518 | |
| plot_fusion | 24.490 | 0.307 | 24.824 | |
| plot_fusion_reads | 4.888 | 0.218 | 5.174 | |
| plot_fusion_transcript | 21.201 | 0.285 | 21.497 | |
| plot_fusion_transcript_with_protein_domain | 12.861 | 0.835 | 12.378 | |
| plot_fusion_transcripts_graph | 10.179 | 0.100 | 10.304 | |
| plot_transcripts | 27.529 | 1.401 | 29.727 | |
| select_transcript | 7.984 | 0.074 | 8.486 | |
| split_on_utr_and_add_feature | 0.597 | 0.006 | 0.622 | |
| upstream_partner_gene | 0.165 | 0.002 | 0.173 | |
| write_fusion_reference | 0.092 | 0.001 | 0.095 | |