| Back to Multiple platform build/check report for BioC 3.9 | 
 | 
This page was generated on 2019-04-09 12:58:34 -0400 (Tue, 09 Apr 2019).
| Package 243/1703 | Hostname | OS / Arch | INSTALL | BUILD | CHECK | BUILD BIN | ||||||
| charm 2.29.0 Peter Murakami 
 | malbec2 | Linux (Ubuntu 18.04.2 LTS) / x86_64 | ERROR | ERROR | skipped | |||||||
| tokay2 | Windows Server 2012 R2 Standard / x64 | ERROR | ERROR | skipped | skipped | |||||||
| celaya2 | OS X 10.11.6 El Capitan / x86_64 | ERROR | [ ERROR ] | skipped | skipped | |||||||
| merida2 | OS X 10.11.6 El Capitan / x86_64 | ERROR | ERROR | skipped | skipped | 
| Package: charm | 
| Version: 2.29.0 | 
| Command: /Library/Frameworks/R.framework/Versions/Current/Resources/bin/R CMD build --keep-empty-dirs --no-resave-data charm | 
| StartedAt: 2019-04-08 19:50:40 -0400 (Mon, 08 Apr 2019) | 
| EndedAt: 2019-04-08 19:51:03 -0400 (Mon, 08 Apr 2019) | 
| EllapsedTime: 23.3 seconds | 
| RetCode: 1 | 
| Status: ERROR | 
| PackageFile: None | 
| PackageFileSize: NA | 
##############################################################################
##############################################################################
###
### Running command:
###
###   /Library/Frameworks/R.framework/Versions/Current/Resources/bin/R CMD build --keep-empty-dirs --no-resave-data charm
###
##############################################################################
##############################################################################
* checking for file ‘charm/DESCRIPTION’ ... OK
* preparing ‘charm’:
* checking DESCRIPTION meta-information ... OK
* installing the package to build vignettes
      -----------------------------------
* installing *source* package ‘charm’ ...
** using staged installation
** R
** inst
** byte-compile and prepare package for lazy loading
Error: object ‘ebayes’ is not exported by 'namespace:limma'
Execution halted
ERROR: lazy loading failed for package ‘charm’
* removing ‘/private/tmp/Rtmp7gYPDP/Rinstf26f2e02fe6e/charm’
      -----------------------------------
ERROR: package installation failed