| Back to Multiple platform build/check report for BioC 3.9 | 
 | 
This page was generated on 2019-04-09 13:23:23 -0400 (Tue, 09 Apr 2019).
| Package 238/1703 | Hostname | OS / Arch | INSTALL | BUILD | CHECK | BUILD BIN | ||||||
| cghMCR 1.41.0 J. Zhang 
 | malbec2 | Linux (Ubuntu 18.04.2 LTS) / x86_64 | OK | OK | WARNINGS |  | ||||||
| tokay2 | Windows Server 2012 R2 Standard / x64 | OK | OK | WARNINGS | OK |  | ||||||
| celaya2 | OS X 10.11.6 El Capitan / x86_64 | OK | OK | WARNINGS | OK |  | ||||||
| merida2 | OS X 10.11.6 El Capitan / x86_64 | OK | OK | WARNINGS | [ OK ] | 
| Package: cghMCR | 
| Version: 1.41.0 | 
| Command: rm -rf cghMCR.buildbin-libdir && mkdir cghMCR.buildbin-libdir && /Users/biocbuild/BBS/utils/build-universal.sh cghMCR_1.41.0.tar.gz /Library/Frameworks/R.framework/Versions/Current/Resources/bin/R cghMCR.buildbin-libdir | 
| StartedAt: 2019-04-09 04:55:56 -0400 (Tue, 09 Apr 2019) | 
| EndedAt: 2019-04-09 04:57:15 -0400 (Tue, 09 Apr 2019) | 
| EllapsedTime: 78.5 seconds | 
| RetCode: 0 | 
| Status: OK | 
| PackageFile: cghMCR_1.41.0.tgz | 
| PackageFileSize: 36.87 MiB | 
############################################################################## ############################################################################## ### ### Running command: ### ### rm -rf cghMCR.buildbin-libdir && mkdir cghMCR.buildbin-libdir && /Users/biocbuild/BBS/utils/build-universal.sh cghMCR_1.41.0.tar.gz /Library/Frameworks/R.framework/Versions/Current/Resources/bin/R cghMCR.buildbin-libdir ### ############################################################################## ############################################################################## >>>>>>> >>>>>>> INSTALLATION WITH 'R CMD INSTALL --preclean --no-multiarch --library=cghMCR.buildbin-libdir cghMCR_1.41.0.tar.gz' >>>>>>> * installing *source* package ‘cghMCR’ ... ** R ** data ** inst ** byte-compile and prepare package for lazy loading ** help *** installing help indices ** building package indices ** installing vignettes ** testing if installed package can be loaded * DONE (cghMCR)