| Back to Multiple platform build/check report for BioC 3.9 |
|
This page was generated on 2019-04-09 13:37:35 -0400 (Tue, 09 Apr 2019).
| Package 183/1703 | Hostname | OS / Arch | INSTALL | BUILD | CHECK | BUILD BIN | ||||||
| breakpointR 1.1.2 David Porubsky
| malbec2 | Linux (Ubuntu 18.04.2 LTS) / x86_64 | OK | OK | OK | |||||||
| tokay2 | Windows Server 2012 R2 Standard / x64 | OK | OK | OK | OK | |||||||
| celaya2 | OS X 10.11.6 El Capitan / x86_64 | OK | OK | OK | OK | |||||||
| merida2 | OS X 10.11.6 El Capitan / x86_64 | OK | OK | [ OK ] | OK |
| Package: breakpointR |
| Version: 1.1.2 |
| Command: /Library/Frameworks/R.framework/Versions/Current/Resources/bin/R CMD check --install=check:breakpointR.install-out.txt --library=/Library/Frameworks/R.framework/Versions/Current/Resources/library --no-vignettes --timings breakpointR_1.1.2.tar.gz |
| StartedAt: 2019-04-08 23:35:33 -0400 (Mon, 08 Apr 2019) |
| EndedAt: 2019-04-08 23:39:42 -0400 (Mon, 08 Apr 2019) |
| EllapsedTime: 249.7 seconds |
| RetCode: 0 |
| Status: OK |
| CheckDir: breakpointR.Rcheck |
| Warnings: 0 |
##############################################################################
##############################################################################
###
### Running command:
###
### /Library/Frameworks/R.framework/Versions/Current/Resources/bin/R CMD check --install=check:breakpointR.install-out.txt --library=/Library/Frameworks/R.framework/Versions/Current/Resources/library --no-vignettes --timings breakpointR_1.1.2.tar.gz
###
##############################################################################
##############################################################################
* using log directory ‘/Users/biocbuild/bbs-3.9-bioc/meat/breakpointR.Rcheck’
* using R Under development (unstable) (2018-11-27 r75683)
* using platform: x86_64-apple-darwin15.6.0 (64-bit)
* using session charset: UTF-8
* using option ‘--no-vignettes’
* checking for file ‘breakpointR/DESCRIPTION’ ... OK
* checking extension type ... Package
* this is package ‘breakpointR’ version ‘1.1.2’
* checking package namespace information ... OK
* checking package dependencies ... OK
* checking if this is a source package ... OK
* checking if there is a namespace ... OK
* checking for hidden files and directories ... OK
* checking for portable file names ... OK
* checking for sufficient/correct file permissions ... OK
* checking whether package ‘breakpointR’ can be installed ... OK
* checking installed package size ... OK
* checking package directory ... OK
* checking ‘build’ directory ... OK
* checking DESCRIPTION meta-information ... OK
* checking top-level files ... OK
* checking for left-over files ... OK
* checking index information ... OK
* checking package subdirectories ... OK
* checking R files for non-ASCII characters ... OK
* checking R files for syntax errors ... OK
* checking whether the package can be loaded ... OK
* checking whether the package can be loaded with stated dependencies ... OK
* checking whether the package can be unloaded cleanly ... OK
* checking whether the namespace can be loaded with stated dependencies ... OK
* checking whether the namespace can be unloaded cleanly ... OK
* checking dependencies in R code ... OK
* checking S3 generic/method consistency ... OK
* checking replacement functions ... OK
* checking foreign function calls ... OK
* checking R code for possible problems ... OK
* checking Rd files ... OK
* checking Rd metadata ... OK
* checking Rd cross-references ... OK
* checking for missing documentation entries ... OK
* checking for code/documentation mismatches ... OK
* checking Rd \usage sections ... OK
* checking Rd contents ... OK
* checking for unstated dependencies in examples ... OK
* checking sizes of PDF files under ‘inst/doc’ ... OK
* checking files in ‘vignettes’ ... OK
* checking examples ... OK
Examples with CPU or elapsed time > 5s
user system elapsed
genotyping 11.763 1.673 13.548
hotspotter 7.465 0.415 7.969
* checking for unstated dependencies in ‘tests’ ... OK
* checking tests ...
Running ‘testthat.R’
OK
* checking for unstated dependencies in vignettes ... OK
* checking package vignettes in ‘inst/doc’ ... OK
* checking running R code from vignettes ... SKIPPED
* checking re-building of vignette outputs ... SKIPPED
* checking PDF version of manual ... OK
* DONE
Status: OK
breakpointR.Rcheck/00install.out
############################################################################## ############################################################################## ### ### Running command: ### ### /Library/Frameworks/R.framework/Versions/Current/Resources/bin/R CMD INSTALL breakpointR ### ############################################################################## ############################################################################## * installing to library ‘/Library/Frameworks/R.framework/Versions/3.6/Resources/library’ * installing *source* package ‘breakpointR’ ... ** R ** byte-compile and prepare package for lazy loading ** help *** installing help indices ** building package indices ** installing vignettes ** testing if installed package can be loaded * DONE (breakpointR)
breakpointR.Rcheck/tests/testthat.Rout
R Under development (unstable) (2018-11-27 r75683) -- "Unsuffered Consequences"
Copyright (C) 2018 The R Foundation for Statistical Computing
Platform: x86_64-apple-darwin15.6.0 (64-bit)
R is free software and comes with ABSOLUTELY NO WARRANTY.
You are welcome to redistribute it under certain conditions.
Type 'license()' or 'licence()' for distribution details.
R is a collaborative project with many contributors.
Type 'contributors()' for more information and
'citation()' on how to cite R or R packages in publications.
Type 'demo()' for some demos, 'help()' for on-line help, or
'help.start()' for an HTML browser interface to help.
Type 'q()' to quit R.
> library(testthat)
> library(breakpointR)
Loading required package: GenomicRanges
Loading required package: stats4
Loading required package: BiocGenerics
Loading required package: parallel
Attaching package: 'BiocGenerics'
The following objects are masked from 'package:parallel':
clusterApply, clusterApplyLB, clusterCall, clusterEvalQ,
clusterExport, clusterMap, parApply, parCapply, parLapply,
parLapplyLB, parRapply, parSapply, parSapplyLB
The following objects are masked from 'package:stats':
IQR, mad, sd, var, xtabs
The following objects are masked from 'package:base':
Filter, Find, Map, Position, Reduce, anyDuplicated, append,
as.data.frame, basename, cbind, colMeans, colSums, colnames,
dirname, do.call, duplicated, eval, evalq, get, grep, grepl,
intersect, is.unsorted, lapply, mapply, match, mget, order, paste,
pmax, pmax.int, pmin, pmin.int, rank, rbind, rowMeans, rowSums,
rownames, sapply, setdiff, sort, table, tapply, union, unique,
unsplit, which, which.max, which.min
Loading required package: S4Vectors
Attaching package: 'S4Vectors'
The following object is masked from 'package:base':
expand.grid
Loading required package: IRanges
Loading required package: GenomeInfoDb
Loading required package: cowplot
Loading required package: ggplot2
Attaching package: 'cowplot'
The following object is masked from 'package:ggplot2':
ggsave
Loading required package: breakpointRdata
>
> test_check("breakpointR")
══ testthat results ═══════════════════════════════════════════════════════════
OK: 5 SKIPPED: 0 FAILED: 0
>
> proc.time()
user system elapsed
17.914 0.915 18.970
breakpointR.Rcheck/breakpointR-Ex.timings
| name | user | system | elapsed | |
| breakSeekr | 1.541 | 0.116 | 1.669 | |
| breakpointr | 0 | 0 | 0 | |
| breakpointr2UCSC | 0.851 | 0.035 | 0.896 | |
| confidenceInterval | 0.000 | 0.000 | 0.001 | |
| confidenceInterval.binomial | 0 | 0 | 0 | |
| deltaWCalculator | 0.458 | 0.039 | 0.506 | |
| exportRegions | 2.741 | 0.085 | 2.850 | |
| genotyping | 11.763 | 1.673 | 13.548 | |
| hotspotter | 7.465 | 0.415 | 7.969 | |
| loadFromFiles | 1.510 | 0.119 | 1.657 | |
| plotBreakpoints | 3.129 | 0.161 | 3.328 | |
| plotBreakpointsPerChr | 2.575 | 0.153 | 2.762 | |
| plotHeatmap | 2.784 | 0.113 | 2.923 | |
| ranges2UCSC | 0.888 | 0.037 | 0.934 | |
| readBamFileAsGRanges | 0.216 | 0.019 | 0.237 | |
| runBreakpointr | 2.393 | 0.067 | 2.475 | |
| summarizeBreaks | 0.292 | 0.033 | 0.328 | |
| synchronizeReadDir | 4.535 | 0.375 | 4.946 | |