| Back to Multiple platform build/check report for BioC 3.9 |
|
This page was generated on 2019-04-09 12:30:29 -0400 (Tue, 09 Apr 2019).
| Package 182/1703 | Hostname | OS / Arch | INSTALL | BUILD | CHECK | BUILD BIN | ||||||
| branchpointer 1.9.0 Beth Signal
| malbec2 | Linux (Ubuntu 18.04.2 LTS) / x86_64 | OK | OK | OK | |||||||
| tokay2 | Windows Server 2012 R2 Standard / x64 | OK | OK | OK | [ OK ] | |||||||
| celaya2 | OS X 10.11.6 El Capitan / x86_64 | OK | ERROR | skipped | skipped | |||||||
| merida2 | OS X 10.11.6 El Capitan / x86_64 | OK | OK | OK | OK |
| Package: branchpointer |
| Version: 1.9.0 |
| Command: rm -rf branchpointer.buildbin-libdir && mkdir branchpointer.buildbin-libdir && C:\Users\biocbuild\bbs-3.9-bioc\R\bin\R.exe CMD INSTALL --merge-multiarch --build --library=branchpointer.buildbin-libdir branchpointer_1.9.0.tar.gz |
| StartedAt: 2019-04-09 07:32:29 -0400 (Tue, 09 Apr 2019) |
| EndedAt: 2019-04-09 07:33:48 -0400 (Tue, 09 Apr 2019) |
| EllapsedTime: 79.0 seconds |
| RetCode: 0 |
| Status: OK |
| PackageFile: branchpointer_1.9.0.zip |
| PackageFileSize: 4.312 MiB |
##############################################################################
##############################################################################
###
### Running command:
###
### rm -rf branchpointer.buildbin-libdir && mkdir branchpointer.buildbin-libdir && C:\Users\biocbuild\bbs-3.9-bioc\R\bin\R.exe CMD INSTALL --merge-multiarch --build --library=branchpointer.buildbin-libdir branchpointer_1.9.0.tar.gz
###
##############################################################################
##############################################################################
install for i386
* installing *source* package 'branchpointer' ...
** R
** inst
** byte-compile and prepare package for lazy loading
** help
*** installing help indices
converting help for package 'branchpointer'
finding HTML links ... done
exonsToIntrons html
getBranchpointSequence html
getCanonical3SS html
getExonDists html
getPPT html
getQueryLoc html
gtfToExons html
makeBranchpointWindowForExons html
makeBranchpointWindowForSNP html
plotBranchpointWindow html
plotStructure html
predictBranchpoints html
predictionsToSummary html
readQueryFile html
** building package indices
** installing vignettes
** testing if installed package can be loaded from temporary location
** testing if installed package can be loaded from final location
** testing if installed package keeps a record of temporary installation path
install for x64
* installing *source* package 'branchpointer' ...
** testing if installed package can be loaded
* MD5 sums
packaged installation of 'branchpointer' as branchpointer_1.9.0.zip
* DONE (branchpointer)