| Back to Multiple platform build/check report for BioC 3.9 |
|
This page was generated on 2019-04-09 12:42:59 -0400 (Tue, 09 Apr 2019).
| Package 80/1703 | Hostname | OS / Arch | INSTALL | BUILD | CHECK | BUILD BIN | ||||||
| artMS 1.1.12 David Jimenez-Morales
| malbec2 | Linux (Ubuntu 18.04.2 LTS) / x86_64 | OK | OK | OK | |||||||
| tokay2 | Windows Server 2012 R2 Standard / x64 | OK | OK | OK | [ OK ] | |||||||
| celaya2 | OS X 10.11.6 El Capitan / x86_64 | OK | OK | OK | OK | |||||||
| merida2 | OS X 10.11.6 El Capitan / x86_64 | OK | OK | OK | OK |
| Package: artMS |
| Version: 1.1.12 |
| Command: rm -rf artMS.buildbin-libdir && mkdir artMS.buildbin-libdir && C:\Users\biocbuild\bbs-3.9-bioc\R\bin\R.exe CMD INSTALL --merge-multiarch --build --library=artMS.buildbin-libdir artMS_1.1.12.tar.gz |
| StartedAt: 2019-04-09 07:26:39 -0400 (Tue, 09 Apr 2019) |
| EndedAt: 2019-04-09 07:27:46 -0400 (Tue, 09 Apr 2019) |
| EllapsedTime: 67.2 seconds |
| RetCode: 0 |
| Status: OK |
| PackageFile: artMS_1.1.12.zip |
| PackageFileSize: 4.083 MiB |
##############################################################################
##############################################################################
###
### Running command:
###
### rm -rf artMS.buildbin-libdir && mkdir artMS.buildbin-libdir && C:\Users\biocbuild\bbs-3.9-bioc\R\bin\R.exe CMD INSTALL --merge-multiarch --build --library=artMS.buildbin-libdir artMS_1.1.12.tar.gz
###
##############################################################################
##############################################################################
install for i386
* installing *source* package 'artMS' ...
** R
** data
*** moving datasets to lazyload DB
** inst
** byte-compile and prepare package for lazy loading
** help
*** installing help indices
converting help for package 'artMS'
finding HTML links ... done
artmsAnalysisQuantifications html
artmsAnnotateSpecie html
artmsAnnotationUniprot html
artmsAvgIntensityRT html
artmsChangeColumnName html
artmsConvertMetabolomics html
artmsDataPlots html
artmsEnrichLog2fc html
artmsEnrichProfiler html
artmsEvidenceToSAINTq html
artmsEvidenceToSaintExpress html
artmsFilterEvidenceContaminants html
artmsGeneratePhSiteExtended html
artmsIsEvidenceNewVersion html
artmsIsSpeciesSupported html
artmsMapUniprot2Entrez html
artmsMergeEvidenceAndKeys html
artmsMsstatsSummary html
artmsPhosfateOutput html
artmsPhotonOutput html
artmsPlotHeatmapQuant html
artmsProtein2SiteConversion html
artmsQualityControlEvidenceBasic html
artmsQualityControlEvidenceExtended html
artmsQualityControlMetabolomics html
artmsQualityControlSummaryExtended html
artmsQuantification html
artmsReplicatePlots html
artmsResultsWide html
artmsSILACtoLong html
artmsSpectralCounts html
artmsVolcanoPlot html
artmsWriteConfigYamlFile html
artms_config html
artms_data_corum_mito_database html
artms_data_pathogen_LPN html
artms_data_pathogen_TB html
artms_data_ph_evidence html
artms_data_ph_keys html
artms_data_ph_msstats_results html
artms_data_randomDF html
** building package indices
** installing vignettes
** testing if installed package can be loaded from temporary location
** testing if installed package can be loaded from final location
** testing if installed package keeps a record of temporary installation path
install for x64
* installing *source* package 'artMS' ...
** testing if installed package can be loaded
* MD5 sums
packaged installation of 'artMS' as artMS_1.1.12.zip
* DONE (artMS)