| Back to Multiple platform build/check report for BioC 3.9 |
|
This page was generated on 2019-04-09 12:27:54 -0400 (Tue, 09 Apr 2019).
| Package 64/1703 | Hostname | OS / Arch | INSTALL | BUILD | CHECK | BUILD BIN | ||||||
| annotatr 1.9.0 Raymond G. Cavalcante
| malbec2 | Linux (Ubuntu 18.04.2 LTS) / x86_64 | OK | OK | OK | |||||||
| tokay2 | Windows Server 2012 R2 Standard / x64 | [ OK ] | OK | OK | OK | |||||||
| celaya2 | OS X 10.11.6 El Capitan / x86_64 | OK | OK | OK | OK | |||||||
| merida2 | OS X 10.11.6 El Capitan / x86_64 | OK | OK | OK | OK |
| Package: annotatr |
| Version: 1.9.0 |
| Command: C:\cygwin\bin\curl.exe -O https://malbec2.bioconductor.org/BBS/3.9/bioc/src/contrib/annotatr_1.9.0.tar.gz && rm -rf annotatr.buildbin-libdir && mkdir annotatr.buildbin-libdir && C:\Users\biocbuild\bbs-3.9-bioc\R\bin\R.exe CMD INSTALL --merge-multiarch --build --library=annotatr.buildbin-libdir annotatr_1.9.0.tar.gz && C:\Users\biocbuild\bbs-3.9-bioc\R\bin\R.exe CMD INSTALL annotatr_1.9.0.zip && rm annotatr_1.9.0.tar.gz annotatr_1.9.0.zip |
| StartedAt: 2019-04-08 20:11:16 -0400 (Mon, 08 Apr 2019) |
| EndedAt: 2019-04-08 20:12:41 -0400 (Mon, 08 Apr 2019) |
| EllapsedTime: 84.8 seconds |
| RetCode: 0 |
| Status: OK |
##############################################################################
##############################################################################
###
### Running command:
###
### C:\cygwin\bin\curl.exe -O https://malbec2.bioconductor.org/BBS/3.9/bioc/src/contrib/annotatr_1.9.0.tar.gz && rm -rf annotatr.buildbin-libdir && mkdir annotatr.buildbin-libdir && C:\Users\biocbuild\bbs-3.9-bioc\R\bin\R.exe CMD INSTALL --merge-multiarch --build --library=annotatr.buildbin-libdir annotatr_1.9.0.tar.gz && C:\Users\biocbuild\bbs-3.9-bioc\R\bin\R.exe CMD INSTALL annotatr_1.9.0.zip && rm annotatr_1.9.0.tar.gz annotatr_1.9.0.zip
###
##############################################################################
##############################################################################
% Total % Received % Xferd Average Speed Time Time Time Current
Dload Upload Total Spent Left Speed
0 0 0 0 0 0 0 0 --:--:-- --:--:-- --:--:-- 0
100 1462k 100 1462k 0 0 19.9M 0 --:--:-- --:--:-- --:--:-- 22.3M
install for i386
* installing *source* package 'annotatr' ...
** R
** data
*** moving datasets to lazyload DB
** inst
** byte-compile and prepare package for lazy loading
** help
*** installing help indices
converting help for package 'annotatr'
finding HTML links ... done
annotate_regions html
annotations html
annotatr html
annotatr_cache html
build_ah_annots html
build_annotations html
build_cpg_annots html
build_enhancer_annots html
build_gene_annots html
build_hmm_annots html
build_lncrna_annots html
builtin_annotations html
builtin_genomes html
check_annotations html
expand_annotations html
get_cellline_from_code html
get_cellline_from_shortcut html
get_orgdb_name html
get_txdb_name html
plot_annotation html
plot_categorical html
plot_coannotations html
plot_numerical html
plot_numerical_coannotations html
randomize_regions html
read_annotations html
read_regions html
reformat_hmm_codes html
subset_order_tbl html
summarize_annotations html
summarize_categorical html
summarize_numerical html
tidy_annotations html
** building package indices
** installing vignettes
** testing if installed package can be loaded from temporary location
** testing if installed package can be loaded from final location
** testing if installed package keeps a record of temporary installation path
install for x64
* installing *source* package 'annotatr' ...
** testing if installed package can be loaded
* MD5 sums
packaged installation of 'annotatr' as annotatr_1.9.0.zip
* DONE (annotatr)
* installing to library 'C:/Users/biocbuild/bbs-3.9-bioc/R/library'
package 'annotatr' successfully unpacked and MD5 sums checked