| Back to Multiple platform build/check report for BioC 3.9 | 
 | 
This page was generated on 2019-04-09 12:27:52 -0400 (Tue, 09 Apr 2019).
| Package 50/1703 | Hostname | OS / Arch | INSTALL | BUILD | CHECK | BUILD BIN | ||||||
| anamiR 1.11.0 Ti-Tai Wang 
 | malbec2 | Linux (Ubuntu 18.04.2 LTS) / x86_64 | OK | OK | OK |  | ||||||
| tokay2 | Windows Server 2012 R2 Standard / x64 | OK | OK | OK | [ OK ] |  | ||||||
| celaya2 | OS X 10.11.6 El Capitan / x86_64 | OK | OK | OK | OK |  | ||||||
| merida2 | OS X 10.11.6 El Capitan / x86_64 | OK | OK | OK | OK | 
| Package: anamiR | 
| Version: 1.11.0 | 
| Command: rm -rf anamiR.buildbin-libdir && mkdir anamiR.buildbin-libdir && C:\Users\biocbuild\bbs-3.9-bioc\R\bin\R.exe CMD INSTALL --merge-multiarch --build --library=anamiR.buildbin-libdir anamiR_1.11.0.tar.gz | 
| StartedAt: 2019-04-09 07:25:00 -0400 (Tue, 09 Apr 2019) | 
| EndedAt: 2019-04-09 07:26:31 -0400 (Tue, 09 Apr 2019) | 
| EllapsedTime: 90.8 seconds | 
| RetCode: 0 | 
| Status: OK | 
| PackageFile: anamiR_1.11.0.zip | 
| PackageFileSize: 11.22 MiB | 
##############################################################################
##############################################################################
###
### Running command:
###
###   rm -rf anamiR.buildbin-libdir && mkdir anamiR.buildbin-libdir && C:\Users\biocbuild\bbs-3.9-bioc\R\bin\R.exe CMD INSTALL --merge-multiarch --build --library=anamiR.buildbin-libdir anamiR_1.11.0.tar.gz
###
##############################################################################
##############################################################################
install for i386
* installing *source* package 'anamiR' ...
** R
** data
*** moving datasets to lazyload DB
** inst
** byte-compile and prepare package for lazy loading
** help
*** installing help indices
  converting help for package 'anamiR'
    finding HTML links ... done
    GSEA_ana                                html  
    GSEA_res                                html  
    anamiR                                  html  
    database_support                        html  
    differExp_continuous                    html  
    differExp_discrete                      html  
    egSymb                                  html  
    enrichment                              html  
    heat_vis                                html  
    miR_converter                           html  
    mirna                                   html  
    mrna                                    html  
    msigdb.gs                               html  
    multi_Differ                            html  
    negative_cor                            html  
    normalization                           html  
    pheno.mirna                             html  
    pheno.mrna                              html  
    table_pre                               html  
** building package indices
** installing vignettes
** testing if installed package can be loaded from temporary location
** testing if installed package can be loaded from final location
** testing if installed package keeps a record of temporary installation path
install for x64
* installing *source* package 'anamiR' ...
** testing if installed package can be loaded
* MD5 sums
packaged installation of 'anamiR' as anamiR_1.11.0.zip
* DONE (anamiR)