| Back to Multiple platform build/check report for BioC 3.9 |
|
This page was generated on 2019-04-09 11:53:45 -0400 (Tue, 09 Apr 2019).
| Package 45/1703 | Hostname | OS / Arch | INSTALL | BUILD | CHECK | BUILD BIN | ||||||
| altcdfenvs 2.45.1 Laurent Gautier
| malbec2 | Linux (Ubuntu 18.04.2 LTS) / x86_64 | OK | OK | OK | |||||||
| tokay2 | Windows Server 2012 R2 Standard / x64 | OK | OK | OK | [ OK ] | |||||||
| celaya2 | OS X 10.11.6 El Capitan / x86_64 | OK | OK | OK | OK | |||||||
| merida2 | OS X 10.11.6 El Capitan / x86_64 | OK | OK | OK | OK |
| Package: altcdfenvs |
| Version: 2.45.1 |
| Command: rm -rf altcdfenvs.buildbin-libdir && mkdir altcdfenvs.buildbin-libdir && C:\Users\biocbuild\bbs-3.9-bioc\R\bin\R.exe CMD INSTALL --merge-multiarch --build --library=altcdfenvs.buildbin-libdir altcdfenvs_2.45.1.tar.gz |
| StartedAt: 2019-04-09 07:24:42 -0400 (Tue, 09 Apr 2019) |
| EndedAt: 2019-04-09 07:25:26 -0400 (Tue, 09 Apr 2019) |
| EllapsedTime: 43.7 seconds |
| RetCode: 0 |
| Status: OK |
| PackageFile: altcdfenvs_2.45.1.zip |
| PackageFileSize: 749.4 KiB |
##############################################################################
##############################################################################
###
### Running command:
###
### rm -rf altcdfenvs.buildbin-libdir && mkdir altcdfenvs.buildbin-libdir && C:\Users\biocbuild\bbs-3.9-bioc\R\bin\R.exe CMD INSTALL --merge-multiarch --build --library=altcdfenvs.buildbin-libdir altcdfenvs_2.45.1.tar.gz
###
##############################################################################
##############################################################################
install for i386
* installing *source* package 'altcdfenvs' ...
** R
** data
** inst
** byte-compile and prepare package for lazy loading
NOTE: arguments in definition for validity method for class 'AffyProbesMatch' changed from (obj) to (object)
in method for 'toHypergraph' with signature '"CdfEnvAffy"': no definition for class "CdfEnvAffy"
** help
*** installing help indices
converting help for package 'altcdfenvs'
finding HTML links ... done
AffyProbesMatch-class html
CdfEnvAffy-class html
appendCdfEnvAffy html
buildCdfEnv.biostrings html
cdfenv html
cdfenvEx html
copyCdfEnvAffy html
countduplicated html
geneNames html
getxy.probeseq html
index2xy html
indexProbes.CdfEnvAffy html
matchAffyProbes html
plot.CdfEnvAffy html
removeIndex html
toHypergraph html
unique.CdfEnvAffy html
utils.FASTA html
validAffyBatch html
** building package indices
** installing vignettes
** testing if installed package can be loaded from temporary location
** testing if installed package can be loaded from final location
** testing if installed package keeps a record of temporary installation path
install for x64
* installing *source* package 'altcdfenvs' ...
** testing if installed package can be loaded
* MD5 sums
packaged installation of 'altcdfenvs' as altcdfenvs_2.45.1.zip
* DONE (altcdfenvs)