| Back to Multiple platform build/check report for BioC 3.9 | 
  | 
This page was generated on 2019-04-09 12:17:15 -0400 (Tue, 09 Apr 2019).
| Package 44/1703 | Hostname | OS / Arch | INSTALL | BUILD | CHECK | BUILD BIN | ||||||
| alsace 1.19.0 Ron Wehrens 
  | malbec2 | Linux (Ubuntu 18.04.2 LTS) / x86_64 | OK | OK | OK | |||||||
| tokay2 | Windows Server 2012 R2 Standard / x64 | OK | OK | OK | [ OK ] | |||||||
| celaya2 | OS X 10.11.6 El Capitan / x86_64 | OK | OK | OK | OK | |||||||
| merida2 | OS X 10.11.6 El Capitan / x86_64 | OK | OK | OK | OK | 
| Package: alsace | 
| Version: 1.19.0 | 
| Command: rm -rf alsace.buildbin-libdir && mkdir alsace.buildbin-libdir && C:\Users\biocbuild\bbs-3.9-bioc\R\bin\R.exe CMD INSTALL --merge-multiarch --build --library=alsace.buildbin-libdir alsace_1.19.0.tar.gz | 
| StartedAt: 2019-04-09 07:24:38 -0400 (Tue, 09 Apr 2019) | 
| EndedAt: 2019-04-09 07:25:22 -0400 (Tue, 09 Apr 2019) | 
| EllapsedTime: 43.6 seconds | 
| RetCode: 0 | 
| Status: OK | 
| PackageFile: alsace_1.19.0.zip | 
| PackageFileSize: 1.459 MiB | 
##############################################################################
##############################################################################
###
### Running command:
###
###   rm -rf alsace.buildbin-libdir && mkdir alsace.buildbin-libdir && C:\Users\biocbuild\bbs-3.9-bioc\R\bin\R.exe CMD INSTALL --merge-multiarch --build --library=alsace.buildbin-libdir alsace_1.19.0.tar.gz
###
##############################################################################
##############################################################################
install for i386
* installing *source* package 'alsace' ...
** R
** data
** inst
** byte-compile and prepare package for lazy loading
** help
*** installing help indices
  converting help for package 'alsace'
    finding HTML links ... done
    alsace-package                          html  
    components                              html  
    correctPeaks                            html  
    correctRT                               html  
    finding level-2 HTML links ... done
    doALS                                   html  
    filterPeaks                             html  
    fitpeaks                                html  
    getAllPeaks                             html  
    getPeakTable                            html  
    opa                                     html  
    preprocess                              html  
    showALSresult                           html  
    tea                                     html  
    teaMerged                               html  
    windows                                 html  
** building package indices
** installing vignettes
** testing if installed package can be loaded from temporary location
** testing if installed package can be loaded from final location
** testing if installed package keeps a record of temporary installation path
install for x64
* installing *source* package 'alsace' ...
** testing if installed package can be loaded
* MD5 sums
packaged installation of 'alsace' as alsace_1.19.0.zip
* DONE (alsace)