| Back to Multiple platform build/check report for BioC 3.9 | 
  | 
This page was generated on 2019-04-09 12:48:02 -0400 (Tue, 09 Apr 2019).
| Package 32/1703 | Hostname | OS / Arch | INSTALL | BUILD | CHECK | BUILD BIN | ||||||
| affypdnn 1.57.0 Laurent Gautier 
  | malbec2 | Linux (Ubuntu 18.04.2 LTS) / x86_64 | OK | OK | OK | |||||||
| tokay2 | Windows Server 2012 R2 Standard / x64 | OK | OK | OK | OK | |||||||
| celaya2 | OS X 10.11.6 El Capitan / x86_64 | OK | OK | OK | [ OK ] | |||||||
| merida2 | OS X 10.11.6 El Capitan / x86_64 | OK | OK | OK | OK | 
| Package: affypdnn | 
| Version: 1.57.0 | 
| Command: rm -rf affypdnn.buildbin-libdir && mkdir affypdnn.buildbin-libdir && /Users/biocbuild/BBS/utils/build-universal.sh affypdnn_1.57.0.tar.gz /Library/Frameworks/R.framework/Versions/Current/Resources/bin/R affypdnn.buildbin-libdir | 
| StartedAt: 2019-04-09 06:38:25 -0400 (Tue, 09 Apr 2019) | 
| EndedAt: 2019-04-09 06:39:00 -0400 (Tue, 09 Apr 2019) | 
| EllapsedTime: 34.7 seconds | 
| RetCode: 0 | 
| Status: OK | 
| PackageFile: affypdnn_1.57.0.tgz | 
| PackageFileSize: 11.95 MiB | 
############################################################################## ############################################################################## ### ### Running command: ### ### rm -rf affypdnn.buildbin-libdir && mkdir affypdnn.buildbin-libdir && /Users/biocbuild/BBS/utils/build-universal.sh affypdnn_1.57.0.tar.gz /Library/Frameworks/R.framework/Versions/Current/Resources/bin/R affypdnn.buildbin-libdir ### ############################################################################## ############################################################################## >>>>>>> >>>>>>> INSTALLATION WITH 'R CMD INSTALL --preclean --no-multiarch --library=affypdnn.buildbin-libdir affypdnn_1.57.0.tar.gz' >>>>>>> * installing *source* package ‘affypdnn’ ... ** using staged installation ** R ** data ** inst ** byte-compile and prepare package for lazy loading ** help *** installing help indices ** building package indices ** installing vignettes ** testing if installed package can be loaded from temporary location registering new summary method 'pdnn'. registering new pmcorrect method 'pdnn' and 'pdnnpredict'. ** testing if installed package can be loaded from final location registering new summary method 'pdnn'. registering new pmcorrect method 'pdnn' and 'pdnnpredict'. ** testing if installed package keeps a record of temporary installation path * DONE (affypdnn)