| Back to Multiple platform build/check report for BioC 3.9 | 
 | 
This page was generated on 2019-04-09 13:22:37 -0400 (Tue, 09 Apr 2019).
| Package 30/1703 | Hostname | OS / Arch | INSTALL | BUILD | CHECK | BUILD BIN | ||||||
| affylmGUI 1.57.0 Gordon Smyth 
 | malbec2 | Linux (Ubuntu 18.04.2 LTS) / x86_64 | OK | OK | OK |  | ||||||
| tokay2 | Windows Server 2012 R2 Standard / x64 | OK | OK | OK | OK |  | ||||||
| celaya2 | OS X 10.11.6 El Capitan / x86_64 | OK | OK | OK | OK |  | ||||||
| merida2 | OS X 10.11.6 El Capitan / x86_64 | OK | OK | OK | [ OK ] | 
| Package: affylmGUI | 
| Version: 1.57.0 | 
| Command: rm -rf affylmGUI.buildbin-libdir && mkdir affylmGUI.buildbin-libdir && /Users/biocbuild/BBS/utils/build-universal.sh affylmGUI_1.57.0.tar.gz /Library/Frameworks/R.framework/Versions/Current/Resources/bin/R affylmGUI.buildbin-libdir | 
| StartedAt: 2019-04-09 04:40:12 -0400 (Tue, 09 Apr 2019) | 
| EndedAt: 2019-04-09 04:41:28 -0400 (Tue, 09 Apr 2019) | 
| EllapsedTime: 75.9 seconds | 
| RetCode: 0 | 
| Status: OK | 
| PackageFile: affylmGUI_1.57.0.tgz | 
| PackageFileSize: 2.072 MiB | 
############################################################################## ############################################################################## ### ### Running command: ### ### rm -rf affylmGUI.buildbin-libdir && mkdir affylmGUI.buildbin-libdir && /Users/biocbuild/BBS/utils/build-universal.sh affylmGUI_1.57.0.tar.gz /Library/Frameworks/R.framework/Versions/Current/Resources/bin/R affylmGUI.buildbin-libdir ### ############################################################################## ############################################################################## >>>>>>> >>>>>>> INSTALLATION WITH 'R CMD INSTALL --preclean --no-multiarch --library=affylmGUI.buildbin-libdir affylmGUI_1.57.0.tar.gz' >>>>>>> * installing *source* package ‘affylmGUI’ ... ** R ** inst ** byte-compile and prepare package for lazy loading ** help *** installing help indices ** building package indices ** installing vignettes ** testing if installed package can be loaded * DONE (affylmGUI)