| Back to Multiple platform build/check report for BioC 3.9 |
|
This page was generated on 2019-04-09 11:54:40 -0400 (Tue, 09 Apr 2019).
| Package 26/1703 | Hostname | OS / Arch | INSTALL | BUILD | CHECK | BUILD BIN | ||||||
| affycoretools 1.55.0 James W. MacDonald
| malbec2 | Linux (Ubuntu 18.04.2 LTS) / x86_64 | OK | OK | OK | |||||||
| tokay2 | Windows Server 2012 R2 Standard / x64 | OK | OK | WARNINGS | [ OK ] | |||||||
| celaya2 | OS X 10.11.6 El Capitan / x86_64 | OK | OK | OK | OK | |||||||
| merida2 | OS X 10.11.6 El Capitan / x86_64 | OK | OK | OK | OK |
| Package: affycoretools |
| Version: 1.55.0 |
| Command: rm -rf affycoretools.buildbin-libdir && mkdir affycoretools.buildbin-libdir && C:\Users\biocbuild\bbs-3.9-bioc\R\bin\R.exe CMD INSTALL --merge-multiarch --build --library=affycoretools.buildbin-libdir affycoretools_1.55.0.tar.gz |
| StartedAt: 2019-04-09 07:23:38 -0400 (Tue, 09 Apr 2019) |
| EndedAt: 2019-04-09 07:25:03 -0400 (Tue, 09 Apr 2019) |
| EllapsedTime: 85.4 seconds |
| RetCode: 0 |
| Status: OK |
| PackageFile: affycoretools_1.55.0.zip |
| PackageFileSize: 598.1 KiB |
##############################################################################
##############################################################################
###
### Running command:
###
### rm -rf affycoretools.buildbin-libdir && mkdir affycoretools.buildbin-libdir && C:\Users\biocbuild\bbs-3.9-bioc\R\bin\R.exe CMD INSTALL --merge-multiarch --build --library=affycoretools.buildbin-libdir affycoretools_1.55.0.tar.gz
###
##############################################################################
##############################################################################
install for i386
* installing *source* package 'affycoretools' ...
** R
** inst
** byte-compile and prepare package for lazy loading
** help
*** installing help indices
converting help for package 'affycoretools'
finding HTML links ... done
affycoretools-defunct html
affycoretools html
affystart html
annotateEset html
Rd warning: C:/Users/biocbuild/bbs-3.9-bioc/tmpdir/Rtmp84GQ7X/R.INSTALLdcc2014abc/affycoretools/man/annotateEset.Rd:47: file link 'columns' in package 'AnnotationDbi' does not exist and so has been treated as a topic
Rd warning: C:/Users/biocbuild/bbs-3.9-bioc/tmpdir/Rtmp84GQ7X/R.INSTALLdcc2014abc/affycoretools/man/annotateEset.Rd:50: file link 'mapIds' in package 'AnnotationDbi' does not exist and so has been treated as a topic
Rd warning: C:/Users/biocbuild/bbs-3.9-bioc/tmpdir/Rtmp84GQ7X/R.INSTALLdcc2014abc/affycoretools/man/annotateEset.Rd:55: file link 'rma' in package 'oligo' does not exist and so has been treated as a topic
dataAndHeatmapPage html
entrezLinks html
fixHeaderAndGo html
geneSetPage html
finding level-2 HTML links ... done
getCols html
getMainProbes html
gsHeatmap html
intNames html
make.cl html
makeGoGeneTable html
makeGoTable html
makeHmap html
makeImages html
makeIndices html
makeVenn html
Rd warning: C:/Users/biocbuild/bbs-3.9-bioc/tmpdir/Rtmp84GQ7X/R.INSTALLdcc2014abc/affycoretools/man/makeVenn.Rd:72: file link 'glmQLFit' in package 'edgeR' does not exist and so has been treated as a topic
maplot html
mirna2mrna html
outputRomer html
pca.legend html
plotDeg html
plotPCA html
runRomer html
tableFilt html
venn4Way html
vennCounts2 html
vennInLine html
vennPage html
vennSelect2 html
writeFit html
Rd warning: C:/Users/biocbuild/bbs-3.9-bioc/tmpdir/Rtmp84GQ7X/R.INSTALLdcc2014abc/affycoretools/man/writeFit.Rd:35: file link 'write.fit' in package 'limma' does not exist and so has been treated as a topic
** building package indices
** installing vignettes
** testing if installed package can be loaded from temporary location
** testing if installed package can be loaded from final location
** testing if installed package keeps a record of temporary installation path
install for x64
* installing *source* package 'affycoretools' ...
** testing if installed package can be loaded
* MD5 sums
packaged installation of 'affycoretools' as affycoretools_1.55.0.zip
* DONE (affycoretools)