| Back to Multiple platform build/check report for BioC 3.9 | 
 | 
This page was generated on 2019-04-09 13:24:34 -0400 (Tue, 09 Apr 2019).
| Package 25/1703 | Hostname | OS / Arch | INSTALL | BUILD | CHECK | BUILD BIN | ||||||
| affyContam 1.41.0 V. Carey 
 | malbec2 | Linux (Ubuntu 18.04.2 LTS) / x86_64 | OK | OK | OK |  | ||||||
| tokay2 | Windows Server 2012 R2 Standard / x64 | OK | OK | OK | OK |  | ||||||
| celaya2 | OS X 10.11.6 El Capitan / x86_64 | OK | OK | OK | OK |  | ||||||
| merida2 | OS X 10.11.6 El Capitan / x86_64 | OK | OK | OK | [ OK ] | 
| Package: affyContam | 
| Version: 1.41.0 | 
| Command: rm -rf affyContam.buildbin-libdir && mkdir affyContam.buildbin-libdir && /Users/biocbuild/BBS/utils/build-universal.sh affyContam_1.41.0.tar.gz /Library/Frameworks/R.framework/Versions/Current/Resources/bin/R affyContam.buildbin-libdir | 
| StartedAt: 2019-04-09 04:39:51 -0400 (Tue, 09 Apr 2019) | 
| EndedAt: 2019-04-09 04:41:06 -0400 (Tue, 09 Apr 2019) | 
| EllapsedTime: 74.9 seconds | 
| RetCode: 0 | 
| Status: OK | 
| PackageFile: affyContam_1.41.0.tgz | 
| PackageFileSize: 232.1 KiB | 
##############################################################################
##############################################################################
###
### Running command:
###
###   rm -rf affyContam.buildbin-libdir && mkdir affyContam.buildbin-libdir && /Users/biocbuild/BBS/utils/build-universal.sh affyContam_1.41.0.tar.gz /Library/Frameworks/R.framework/Versions/Current/Resources/bin/R affyContam.buildbin-libdir
###
##############################################################################
##############################################################################
>>>>>>> 
>>>>>>> INSTALLATION WITH 'R CMD INSTALL --preclean --no-multiarch --library=affyContam.buildbin-libdir affyContam_1.41.0.tar.gz'
>>>>>>> 
* installing *source* package ‘affyContam’ ...
** R
** inst
** byte-compile and prepare package for lazy loading
     Package   
[1,] "affydata"
     LibPath                                                         
[1,] "/Library/Frameworks/R.framework/Versions/3.6/Resources/library"
     Item       Title                        
[1,] "Dilution" "AffyBatch instance Dilution"
** help
*** installing help indices
** building package indices
** installing vignettes
** testing if installed package can be loaded
     Package   
[1,] "affydata"
     LibPath                                                         
[1,] "/Library/Frameworks/R.framework/Versions/3.6/Resources/library"
     Item       Title                        
[1,] "Dilution" "AffyBatch instance Dilution"
* DONE (affyContam)