| Back to Multiple platform build/check report for BioC 3.9 |
|
This page was generated on 2019-04-09 13:37:58 -0400 (Tue, 09 Apr 2019).
| Package 9/1703 | Hostname | OS / Arch | INSTALL | BUILD | CHECK | BUILD BIN | ||||||
| abseqR 1.1.0 JiaHong Fong
| malbec2 | Linux (Ubuntu 18.04.2 LTS) / x86_64 | OK | OK | OK | |||||||
| tokay2 | Windows Server 2012 R2 Standard / x64 | OK | OK | OK | OK | |||||||
| celaya2 | OS X 10.11.6 El Capitan / x86_64 | OK | OK | OK | OK | |||||||
| merida2 | OS X 10.11.6 El Capitan / x86_64 | OK | OK | OK | [ OK ] |
| Package: abseqR |
| Version: 1.1.0 |
| Command: rm -rf abseqR.buildbin-libdir && mkdir abseqR.buildbin-libdir && /Users/biocbuild/BBS/utils/build-universal.sh abseqR_1.1.0.tar.gz /Library/Frameworks/R.framework/Versions/Current/Resources/bin/R abseqR.buildbin-libdir |
| StartedAt: 2019-04-09 04:39:17 -0400 (Tue, 09 Apr 2019) |
| EndedAt: 2019-04-09 04:40:16 -0400 (Tue, 09 Apr 2019) |
| EllapsedTime: 59.1 seconds |
| RetCode: 0 |
| Status: OK |
| PackageFile: abseqR_1.1.0.tgz |
| PackageFileSize: 2.958 MiB |
############################################################################## ############################################################################## ### ### Running command: ### ### rm -rf abseqR.buildbin-libdir && mkdir abseqR.buildbin-libdir && /Users/biocbuild/BBS/utils/build-universal.sh abseqR_1.1.0.tar.gz /Library/Frameworks/R.framework/Versions/Current/Resources/bin/R abseqR.buildbin-libdir ### ############################################################################## ############################################################################## >>>>>>> >>>>>>> INSTALLATION WITH 'R CMD INSTALL --preclean --no-multiarch --library=abseqR.buildbin-libdir abseqR_1.1.0.tar.gz' >>>>>>> * installing *source* package ‘abseqR’ ... ** R ** inst ** byte-compile and prepare package for lazy loading ** help *** installing help indices *** copying figures ** building package indices ** installing vignettes ** testing if installed package can be loaded * DONE (abseqR)