| Back to Multiple platform build/check report for BioC 3.9 | 
 | 
This page was generated on 2019-04-09 13:25:49 -0400 (Tue, 09 Apr 2019).
| Package 1/1703 | Hostname | OS / Arch | INSTALL | BUILD | CHECK | BUILD BIN | ||||||
| a4 1.31.0 Tobias Verbeke 
 | malbec2 | Linux (Ubuntu 18.04.2 LTS) / x86_64 | OK | OK | OK |  | ||||||
| tokay2 | Windows Server 2012 R2 Standard / x64 | OK | OK | OK | OK |  | ||||||
| celaya2 | OS X 10.11.6 El Capitan / x86_64 | OK | OK | OK | OK |  | ||||||
| merida2 | OS X 10.11.6 El Capitan / x86_64 | OK | OK | OK | [ OK ] | 
| Package: a4 | 
| Version: 1.31.0 | 
| Command: rm -rf a4.buildbin-libdir && mkdir a4.buildbin-libdir && /Users/biocbuild/BBS/utils/build-universal.sh a4_1.31.0.tar.gz /Library/Frameworks/R.framework/Versions/Current/Resources/bin/R a4.buildbin-libdir | 
| StartedAt: 2019-04-09 04:39:17 -0400 (Tue, 09 Apr 2019) | 
| EndedAt: 2019-04-09 04:39:42 -0400 (Tue, 09 Apr 2019) | 
| EllapsedTime: 24.8 seconds | 
| RetCode: 0 | 
| Status: OK | 
| PackageFile: a4_1.31.0.tgz | 
| PackageFileSize: 942.5 KiB | 
############################################################################## ############################################################################## ### ### Running command: ### ### rm -rf a4.buildbin-libdir && mkdir a4.buildbin-libdir && /Users/biocbuild/BBS/utils/build-universal.sh a4_1.31.0.tar.gz /Library/Frameworks/R.framework/Versions/Current/Resources/bin/R a4.buildbin-libdir ### ############################################################################## ############################################################################## >>>>>>> >>>>>>> INSTALLATION WITH 'R CMD INSTALL --preclean --no-multiarch --library=a4.buildbin-libdir a4_1.31.0.tar.gz' >>>>>>> * installing *source* package ‘a4’ ... ** R ** inst ** byte-compile and prepare package for lazy loading ** help No man pages found in package ‘a4’ *** installing help indices ** building package indices ** installing vignettes ** testing if installed package can be loaded * DONE (a4)