| Back to Multiple platform build/check report for BioC 3.9 |
|
This page was generated on 2019-04-09 12:24:29 -0400 (Tue, 09 Apr 2019).
| Package 1689/1703 | Hostname | OS / Arch | INSTALL | BUILD | CHECK | BUILD BIN | ||||||
| XBSeq 1.15.1 Yuanhang Liu
| malbec2 | Linux (Ubuntu 18.04.2 LTS) / x86_64 | OK | OK | OK | |||||||
| tokay2 | Windows Server 2012 R2 Standard / x64 | OK | [ OK ] | OK | OK | |||||||
| celaya2 | OS X 10.11.6 El Capitan / x86_64 | OK | OK | OK | OK | |||||||
| merida2 | OS X 10.11.6 El Capitan / x86_64 | OK | OK | OK | OK |
| Package: XBSeq |
| Version: 1.15.1 |
| Command: chmod a+r XBSeq -R && C:\Users\biocbuild\bbs-3.9-bioc\R\bin\R.exe CMD build --keep-empty-dirs --no-resave-data XBSeq |
| StartedAt: 2019-04-08 22:53:44 -0400 (Mon, 08 Apr 2019) |
| EndedAt: 2019-04-08 22:57:48 -0400 (Mon, 08 Apr 2019) |
| EllapsedTime: 244.0 seconds |
| RetCode: 0 |
| Status: OK |
| PackageFile: XBSeq_1.15.1.tar.gz |
| PackageFileSize: 1004 KiB |
##############################################################################
##############################################################################
###
### Running command:
###
### chmod a+r XBSeq -R && C:\Users\biocbuild\bbs-3.9-bioc\R\bin\R.exe CMD build --keep-empty-dirs --no-resave-data XBSeq
###
##############################################################################
##############################################################################
* checking for file 'XBSeq/DESCRIPTION' ... OK
* preparing 'XBSeq':
* checking DESCRIPTION meta-information ... OK
* installing the package to build vignettes
* creating vignettes ... OK
Warning: 'inst/doc' file
'XBSeq.html'
ignored as vignettes have been rebuilt.
Run R CMD build with --no-build-vignettes to prevent rebuilding.
* checking for LF line-endings in source and make files and shell scripts
* checking for empty or unneeded directories
* looking to see if a 'data/datalist' file should be added
* building 'XBSeq_1.15.1.tar.gz'