| Back to Multiple platform build/check report for BioC 3.9 |
|
This page was generated on 2019-04-09 13:01:34 -0400 (Tue, 09 Apr 2019).
| Package 1669/1703 | Hostname | OS / Arch | INSTALL | BUILD | CHECK | BUILD BIN | ||||||
| VariantAnnotation 1.29.25 Valerie Obenchain
| malbec2 | Linux (Ubuntu 18.04.2 LTS) / x86_64 | OK | OK | OK | |||||||
| tokay2 | Windows Server 2012 R2 Standard / x64 | OK | ERROR | skipped | skipped | |||||||
| celaya2 | OS X 10.11.6 El Capitan / x86_64 | [ OK ] | OK | OK | OK | |||||||
| merida2 | OS X 10.11.6 El Capitan / x86_64 | OK | OK | OK | OK |
| Package: VariantAnnotation |
| Version: 1.29.25 |
| Command: /Library/Frameworks/R.framework/Versions/Current/Resources/bin/R CMD INSTALL VariantAnnotation |
| StartedAt: 2019-04-08 18:53:20 -0400 (Mon, 08 Apr 2019) |
| EndedAt: 2019-04-08 18:54:49 -0400 (Mon, 08 Apr 2019) |
| EllapsedTime: 89.0 seconds |
| RetCode: 0 |
| Status: OK |
##############################################################################
##############################################################################
###
### Running command:
###
### /Library/Frameworks/R.framework/Versions/Current/Resources/bin/R CMD INSTALL VariantAnnotation
###
##############################################################################
##############################################################################
* installing to library ‘/Library/Frameworks/R.framework/Versions/3.6/Resources/library’
* installing *source* package ‘VariantAnnotation’ ...
** using staged installation
** libs
clang -I"/Library/Frameworks/R.framework/Resources/include" -DNDEBUG `echo 'Rhtslib::pkgconfig("PKG_CPPFLAGS")'| "/Library/Frameworks/R.framework/Resources/bin/R" --vanilla --slave` -I"/Library/Frameworks/R.framework/Versions/3.6/Resources/library/S4Vectors/include" -I"/Library/Frameworks/R.framework/Versions/3.6/Resources/library/IRanges/include" -I"/Library/Frameworks/R.framework/Versions/3.6/Resources/library/XVector/include" -I"/Library/Frameworks/R.framework/Versions/3.6/Resources/library/Biostrings/include" -I"/Library/Frameworks/R.framework/Versions/3.6/Resources/library/Rhtslib/include" -I/usr/local/include -fPIC -Wall -g -O2 -c Biostrings_stubs.c -o Biostrings_stubs.o
clang -I"/Library/Frameworks/R.framework/Resources/include" -DNDEBUG `echo 'Rhtslib::pkgconfig("PKG_CPPFLAGS")'| "/Library/Frameworks/R.framework/Resources/bin/R" --vanilla --slave` -I"/Library/Frameworks/R.framework/Versions/3.6/Resources/library/S4Vectors/include" -I"/Library/Frameworks/R.framework/Versions/3.6/Resources/library/IRanges/include" -I"/Library/Frameworks/R.framework/Versions/3.6/Resources/library/XVector/include" -I"/Library/Frameworks/R.framework/Versions/3.6/Resources/library/Biostrings/include" -I"/Library/Frameworks/R.framework/Versions/3.6/Resources/library/Rhtslib/include" -I/usr/local/include -fPIC -Wall -g -O2 -c IRanges_stubs.c -o IRanges_stubs.o
clang -I"/Library/Frameworks/R.framework/Resources/include" -DNDEBUG `echo 'Rhtslib::pkgconfig("PKG_CPPFLAGS")'| "/Library/Frameworks/R.framework/Resources/bin/R" --vanilla --slave` -I"/Library/Frameworks/R.framework/Versions/3.6/Resources/library/S4Vectors/include" -I"/Library/Frameworks/R.framework/Versions/3.6/Resources/library/IRanges/include" -I"/Library/Frameworks/R.framework/Versions/3.6/Resources/library/XVector/include" -I"/Library/Frameworks/R.framework/Versions/3.6/Resources/library/Biostrings/include" -I"/Library/Frameworks/R.framework/Versions/3.6/Resources/library/Rhtslib/include" -I/usr/local/include -fPIC -Wall -g -O2 -c R_init_VariantAnnotation.c -o R_init_VariantAnnotation.o
clang -I"/Library/Frameworks/R.framework/Resources/include" -DNDEBUG `echo 'Rhtslib::pkgconfig("PKG_CPPFLAGS")'| "/Library/Frameworks/R.framework/Resources/bin/R" --vanilla --slave` -I"/Library/Frameworks/R.framework/Versions/3.6/Resources/library/S4Vectors/include" -I"/Library/Frameworks/R.framework/Versions/3.6/Resources/library/IRanges/include" -I"/Library/Frameworks/R.framework/Versions/3.6/Resources/library/XVector/include" -I"/Library/Frameworks/R.framework/Versions/3.6/Resources/library/Biostrings/include" -I"/Library/Frameworks/R.framework/Versions/3.6/Resources/library/Rhtslib/include" -I/usr/local/include -fPIC -Wall -g -O2 -c XVector_stubs.c -o XVector_stubs.o
clang -I"/Library/Frameworks/R.framework/Resources/include" -DNDEBUG `echo 'Rhtslib::pkgconfig("PKG_CPPFLAGS")'| "/Library/Frameworks/R.framework/Resources/bin/R" --vanilla --slave` -I"/Library/Frameworks/R.framework/Versions/3.6/Resources/library/S4Vectors/include" -I"/Library/Frameworks/R.framework/Versions/3.6/Resources/library/IRanges/include" -I"/Library/Frameworks/R.framework/Versions/3.6/Resources/library/XVector/include" -I"/Library/Frameworks/R.framework/Versions/3.6/Resources/library/Biostrings/include" -I"/Library/Frameworks/R.framework/Versions/3.6/Resources/library/Rhtslib/include" -I/usr/local/include -fPIC -Wall -g -O2 -c dna_hash.c -o dna_hash.o
clang -I"/Library/Frameworks/R.framework/Resources/include" -DNDEBUG `echo 'Rhtslib::pkgconfig("PKG_CPPFLAGS")'| "/Library/Frameworks/R.framework/Resources/bin/R" --vanilla --slave` -I"/Library/Frameworks/R.framework/Versions/3.6/Resources/library/S4Vectors/include" -I"/Library/Frameworks/R.framework/Versions/3.6/Resources/library/IRanges/include" -I"/Library/Frameworks/R.framework/Versions/3.6/Resources/library/XVector/include" -I"/Library/Frameworks/R.framework/Versions/3.6/Resources/library/Biostrings/include" -I"/Library/Frameworks/R.framework/Versions/3.6/Resources/library/Rhtslib/include" -I/usr/local/include -fPIC -Wall -g -O2 -c rle.c -o rle.o
clang -I"/Library/Frameworks/R.framework/Resources/include" -DNDEBUG `echo 'Rhtslib::pkgconfig("PKG_CPPFLAGS")'| "/Library/Frameworks/R.framework/Resources/bin/R" --vanilla --slave` -I"/Library/Frameworks/R.framework/Versions/3.6/Resources/library/S4Vectors/include" -I"/Library/Frameworks/R.framework/Versions/3.6/Resources/library/IRanges/include" -I"/Library/Frameworks/R.framework/Versions/3.6/Resources/library/XVector/include" -I"/Library/Frameworks/R.framework/Versions/3.6/Resources/library/Biostrings/include" -I"/Library/Frameworks/R.framework/Versions/3.6/Resources/library/Rhtslib/include" -I/usr/local/include -fPIC -Wall -g -O2 -c strhash.c -o strhash.o
clang -I"/Library/Frameworks/R.framework/Resources/include" -DNDEBUG `echo 'Rhtslib::pkgconfig("PKG_CPPFLAGS")'| "/Library/Frameworks/R.framework/Resources/bin/R" --vanilla --slave` -I"/Library/Frameworks/R.framework/Versions/3.6/Resources/library/S4Vectors/include" -I"/Library/Frameworks/R.framework/Versions/3.6/Resources/library/IRanges/include" -I"/Library/Frameworks/R.framework/Versions/3.6/Resources/library/XVector/include" -I"/Library/Frameworks/R.framework/Versions/3.6/Resources/library/Biostrings/include" -I"/Library/Frameworks/R.framework/Versions/3.6/Resources/library/Rhtslib/include" -I/usr/local/include -fPIC -Wall -g -O2 -c utilities.c -o utilities.o
clang -I"/Library/Frameworks/R.framework/Resources/include" -DNDEBUG `echo 'Rhtslib::pkgconfig("PKG_CPPFLAGS")'| "/Library/Frameworks/R.framework/Resources/bin/R" --vanilla --slave` -I"/Library/Frameworks/R.framework/Versions/3.6/Resources/library/S4Vectors/include" -I"/Library/Frameworks/R.framework/Versions/3.6/Resources/library/IRanges/include" -I"/Library/Frameworks/R.framework/Versions/3.6/Resources/library/XVector/include" -I"/Library/Frameworks/R.framework/Versions/3.6/Resources/library/Biostrings/include" -I"/Library/Frameworks/R.framework/Versions/3.6/Resources/library/Rhtslib/include" -I/usr/local/include -fPIC -Wall -g -O2 -c vcffile.c -o vcffile.o
clang -I"/Library/Frameworks/R.framework/Resources/include" -DNDEBUG `echo 'Rhtslib::pkgconfig("PKG_CPPFLAGS")'| "/Library/Frameworks/R.framework/Resources/bin/R" --vanilla --slave` -I"/Library/Frameworks/R.framework/Versions/3.6/Resources/library/S4Vectors/include" -I"/Library/Frameworks/R.framework/Versions/3.6/Resources/library/IRanges/include" -I"/Library/Frameworks/R.framework/Versions/3.6/Resources/library/XVector/include" -I"/Library/Frameworks/R.framework/Versions/3.6/Resources/library/Biostrings/include" -I"/Library/Frameworks/R.framework/Versions/3.6/Resources/library/Rhtslib/include" -I/usr/local/include -fPIC -Wall -g -O2 -c vcftype.c -o vcftype.o
clang -I"/Library/Frameworks/R.framework/Resources/include" -DNDEBUG `echo 'Rhtslib::pkgconfig("PKG_CPPFLAGS")'| "/Library/Frameworks/R.framework/Resources/bin/R" --vanilla --slave` -I"/Library/Frameworks/R.framework/Versions/3.6/Resources/library/S4Vectors/include" -I"/Library/Frameworks/R.framework/Versions/3.6/Resources/library/IRanges/include" -I"/Library/Frameworks/R.framework/Versions/3.6/Resources/library/XVector/include" -I"/Library/Frameworks/R.framework/Versions/3.6/Resources/library/Biostrings/include" -I"/Library/Frameworks/R.framework/Versions/3.6/Resources/library/Rhtslib/include" -I/usr/local/include -fPIC -Wall -g -O2 -c writevcf.c -o writevcf.o
clang -dynamiclib -Wl,-headerpad_max_install_names -undefined dynamic_lookup -single_module -multiply_defined suppress -L/Library/Frameworks/R.framework/Resources/lib -L/usr/local/lib -o VariantAnnotation.so Biostrings_stubs.o IRanges_stubs.o R_init_VariantAnnotation.o XVector_stubs.o dna_hash.o rle.o strhash.o utilities.o vcffile.o vcftype.o writevcf.o /Library/Frameworks/R.framework/Versions/3.6/Resources/library/Rhtslib/usrlib/libhts.a -F/Library/Frameworks/R.framework/.. -framework R -Wl,-framework -Wl,CoreFoundation
installing to /Library/Frameworks/R.framework/Versions/3.6/Resources/library/00LOCK-VariantAnnotation/00new/VariantAnnotation/libs
** R
** inst
** byte-compile and prepare package for lazy loading
Creating a new generic function for ‘tabulate’ in package ‘VariantAnnotation’
** help
*** installing help indices
** building package indices
** installing vignettes
** testing if installed package can be loaded from temporary location
** checking absolute paths in shared objects and dynamic libraries
** testing if installed package can be loaded from final location
** testing if installed package keeps a record of temporary installation path
* DONE (VariantAnnotation)