| Back to Multiple platform build/check report for BioC 3.9 |
|
This page was generated on 2019-04-09 13:36:59 -0400 (Tue, 09 Apr 2019).
| Package 1658/1703 | Hostname | OS / Arch | INSTALL | BUILD | CHECK | BUILD BIN | ||||||
| TxRegInfra 1.3.6 VJ Carey
| malbec2 | Linux (Ubuntu 18.04.2 LTS) / x86_64 | OK | OK | OK | |||||||
| tokay2 | Windows Server 2012 R2 Standard / x64 | OK | OK | OK | OK | |||||||
| celaya2 | OS X 10.11.6 El Capitan / x86_64 | OK | OK | OK | OK | |||||||
| merida2 | OS X 10.11.6 El Capitan / x86_64 | OK | OK | OK | [ OK ] |
| Package: TxRegInfra |
| Version: 1.3.6 |
| Command: rm -rf TxRegInfra.buildbin-libdir && mkdir TxRegInfra.buildbin-libdir && /Users/biocbuild/BBS/utils/build-universal.sh TxRegInfra_1.3.6.tar.gz /Library/Frameworks/R.framework/Versions/Current/Resources/bin/R TxRegInfra.buildbin-libdir |
| StartedAt: 2019-04-09 06:43:07 -0400 (Tue, 09 Apr 2019) |
| EndedAt: 2019-04-09 06:44:22 -0400 (Tue, 09 Apr 2019) |
| EllapsedTime: 75.3 seconds |
| RetCode: 0 |
| Status: OK |
| PackageFile: TxRegInfra_1.3.6.tgz |
| PackageFileSize: 716.7 KiB |
############################################################################## ############################################################################## ### ### Running command: ### ### rm -rf TxRegInfra.buildbin-libdir && mkdir TxRegInfra.buildbin-libdir && /Users/biocbuild/BBS/utils/build-universal.sh TxRegInfra_1.3.6.tar.gz /Library/Frameworks/R.framework/Versions/Current/Resources/bin/R TxRegInfra.buildbin-libdir ### ############################################################################## ############################################################################## >>>>>>> >>>>>>> INSTALLATION WITH 'R CMD INSTALL --preclean --no-multiarch --library=TxRegInfra.buildbin-libdir TxRegInfra_1.3.6.tar.gz' >>>>>>> * installing *source* package ‘TxRegInfra’ ... ** R ** data *** moving datasets to lazyload DB ** inst ** byte-compile and prepare package for lazy loading ** help *** installing help indices ** building package indices ** installing vignettes ** testing if installed package can be loaded * DONE (TxRegInfra)