| Back to Multiple platform build/check report for BioC 3.9 | 
 | 
This page was generated on 2019-04-09 11:58:46 -0400 (Tue, 09 Apr 2019).
| Package 1651/1703 | Hostname | OS / Arch | INSTALL | BUILD | CHECK | BUILD BIN | ||||||
| TurboNorm 1.31.0 Maarten van Iterson 
 | malbec2 | Linux (Ubuntu 18.04.2 LTS) / x86_64 | OK | OK | OK |  | ||||||
| tokay2 | Windows Server 2012 R2 Standard / x64 | [ OK ] | OK | OK | OK |  | ||||||
| celaya2 | OS X 10.11.6 El Capitan / x86_64 | OK | OK | OK | OK |  | ||||||
| merida2 | OS X 10.11.6 El Capitan / x86_64 | OK | OK | OK | OK | 
| Package: TurboNorm | 
| Version: 1.31.0 | 
| Command: C:\cygwin\bin\curl.exe -O https://malbec2.bioconductor.org/BBS/3.9/bioc/src/contrib/TurboNorm_1.31.0.tar.gz && rm -rf TurboNorm.buildbin-libdir && mkdir TurboNorm.buildbin-libdir && C:\Users\biocbuild\bbs-3.9-bioc\R\bin\R.exe CMD INSTALL --merge-multiarch --build --library=TurboNorm.buildbin-libdir TurboNorm_1.31.0.tar.gz && C:\Users\biocbuild\bbs-3.9-bioc\R\bin\R.exe CMD INSTALL TurboNorm_1.31.0.zip && rm TurboNorm_1.31.0.tar.gz TurboNorm_1.31.0.zip | 
| StartedAt: 2019-04-08 19:16:24 -0400 (Mon, 08 Apr 2019) | 
| EndedAt: 2019-04-08 19:16:53 -0400 (Mon, 08 Apr 2019) | 
| EllapsedTime: 28.2 seconds | 
| RetCode: 0 | 
| Status: OK | 
##############################################################################
##############################################################################
###
### Running command:
###
###   C:\cygwin\bin\curl.exe -O https://malbec2.bioconductor.org/BBS/3.9/bioc/src/contrib/TurboNorm_1.31.0.tar.gz && rm -rf TurboNorm.buildbin-libdir && mkdir TurboNorm.buildbin-libdir && C:\Users\biocbuild\bbs-3.9-bioc\R\bin\R.exe CMD INSTALL --merge-multiarch --build --library=TurboNorm.buildbin-libdir TurboNorm_1.31.0.tar.gz && C:\Users\biocbuild\bbs-3.9-bioc\R\bin\R.exe CMD INSTALL TurboNorm_1.31.0.zip && rm TurboNorm_1.31.0.tar.gz TurboNorm_1.31.0.zip
###
##############################################################################
##############################################################################
  % Total    % Received % Xferd  Average Speed   Time    Time     Time  Current
                                 Dload  Upload   Total   Spent    Left  Speed
  0     0    0     0    0     0      0      0 --:--:-- --:--:-- --:--:--     0
100  241k  100  241k    0     0  3833k      0 --:--:-- --:--:-- --:--:-- 4316k
install for i386
* installing *source* package 'TurboNorm' ...
** libs
C:/Rtools/mingw_32/bin/gcc  -I"C:/Users/BIOCBU˜1/BBS-3˜1.9-B/R/include" -DNDEBUG     -I"C:/extsoft/include"     -O3 -Wall  -std=gnu99 -mtune=generic -c Rinit.c -o Rinit.o
Rinit.c:12:1: warning: missing braces around initializer [-Wmissing-braces]
 };
 ^
Rinit.c:12:1: warning: (near initialization for 'cMethods[2]') [-Wmissing-braces]
C:/Rtools/mingw_32/bin/gcc  -I"C:/Users/BIOCBU˜1/BBS-3˜1.9-B/R/include" -DNDEBUG     -I"C:/extsoft/include"     -O3 -Wall  -std=gnu99 -mtune=generic -c binners.c -o binners.o
C:/Rtools/mingw_32/bin/gcc -shared -s -static-libgcc -o TurboNorm.dll tmp.def Rinit.o binners.o -LC:/extsoft/lib/i386 -LC:/extsoft/lib -LC:/Users/BIOCBU˜1/BBS-3˜1.9-B/R/bin/i386 -lR
installing to C:/Users/biocbuild/bbs-3.9-bioc/meat/TurboNorm.buildbin-libdir/00LOCK-TurboNorm/00new/TurboNorm/libs/i386
** R
** data
** inst
** byte-compile and prepare package for lazy loading
** help
*** installing help indices
  converting help for package 'TurboNorm'
    finding HTML links ... done
    methylation                             html  
    normalize.pspline                       html  
    panel.pspline                           html  
    pspline                                 html  
    turbonorm-package                       html  
    turbotrend                              html  
** building package indices
** installing vignettes
** testing if installed package can be loaded from temporary location
** testing if installed package can be loaded from final location
** testing if installed package keeps a record of temporary installation path
install for x64
* installing *source* package 'TurboNorm' ...
** libs
C:/Rtools/mingw_64/bin/gcc  -I"C:/Users/BIOCBU˜1/BBS-3˜1.9-B/R/include" -DNDEBUG     -I"C:/extsoft/include"     -O2 -Wall  -std=gnu99 -mtune=generic -c Rinit.c -o Rinit.o
Rinit.c:12:1: warning: missing braces around initializer [-Wmissing-braces]
 };
 ^
Rinit.c:12:1: warning: (near initialization for 'cMethods[2]') [-Wmissing-braces]
C:/Rtools/mingw_64/bin/gcc  -I"C:/Users/BIOCBU˜1/BBS-3˜1.9-B/R/include" -DNDEBUG     -I"C:/extsoft/include"     -O2 -Wall  -std=gnu99 -mtune=generic -c binners.c -o binners.o
C:/Rtools/mingw_64/bin/gcc -shared -s -static-libgcc -o TurboNorm.dll tmp.def Rinit.o binners.o -LC:/extsoft/lib/x64 -LC:/extsoft/lib -LC:/Users/BIOCBU˜1/BBS-3˜1.9-B/R/bin/x64 -lR
installing to C:/Users/biocbuild/bbs-3.9-bioc/meat/TurboNorm.buildbin-libdir/TurboNorm/libs/x64
** testing if installed package can be loaded
* MD5 sums
packaged installation of 'TurboNorm' as TurboNorm_1.31.0.zip
* DONE (TurboNorm)
* installing to library 'C:/Users/biocbuild/bbs-3.9-bioc/R/library'
package 'TurboNorm' successfully unpacked and MD5 sums checked