| Back to Multiple platform build/check report for BioC 3.9 |
|
This page was generated on 2019-04-09 12:36:03 -0400 (Tue, 09 Apr 2019).
| Package 1637/1703 | Hostname | OS / Arch | INSTALL | BUILD | CHECK | BUILD BIN | ||||||
| Trendy 1.5.6 Rhonda Bacher
| malbec2 | Linux (Ubuntu 18.04.2 LTS) / x86_64 | OK | OK | WARNINGS | |||||||
| tokay2 | Windows Server 2012 R2 Standard / x64 | OK | OK | WARNINGS | [ OK ] | |||||||
| celaya2 | OS X 10.11.6 El Capitan / x86_64 | OK | OK | WARNINGS | OK | |||||||
| merida2 | OS X 10.11.6 El Capitan / x86_64 | OK | OK | WARNINGS | OK |
| Package: Trendy |
| Version: 1.5.6 |
| Command: rm -rf Trendy.buildbin-libdir && mkdir Trendy.buildbin-libdir && C:\Users\biocbuild\bbs-3.9-bioc\R\bin\R.exe CMD INSTALL --merge-multiarch --build --library=Trendy.buildbin-libdir Trendy_1.5.6.tar.gz |
| StartedAt: 2019-04-09 09:08:34 -0400 (Tue, 09 Apr 2019) |
| EndedAt: 2019-04-09 09:09:17 -0400 (Tue, 09 Apr 2019) |
| EllapsedTime: 43.2 seconds |
| RetCode: 0 |
| Status: OK |
| PackageFile: Trendy_1.5.6.zip |
| PackageFileSize: 674.7 KiB |
##############################################################################
##############################################################################
###
### Running command:
###
### rm -rf Trendy.buildbin-libdir && mkdir Trendy.buildbin-libdir && C:\Users\biocbuild\bbs-3.9-bioc\R\bin\R.exe CMD INSTALL --merge-multiarch --build --library=Trendy.buildbin-libdir Trendy_1.5.6.tar.gz
###
##############################################################################
##############################################################################
install for i386
* installing *source* package 'Trendy' ...
** R
** data
*** moving datasets to lazyload DB
** inst
** byte-compile and prepare package for lazy loading
** help
*** installing help indices
converting help for package 'Trendy'
finding HTML links ... done
breakpointDist html
extractPattern html
fitSegBIC html
formatFunc html
formatResults html
getCounts html
plotFeature html
results html
topTrendy html
trendHeatmap html
trendy html
trendyExampleData html
trendyShiny html
** building package indices
** installing vignettes
** testing if installed package can be loaded from temporary location
** testing if installed package can be loaded from final location
** testing if installed package keeps a record of temporary installation path
install for x64
* installing *source* package 'Trendy' ...
** testing if installed package can be loaded
* MD5 sums
packaged installation of 'Trendy' as Trendy_1.5.6.zip
* DONE (Trendy)