| Back to Multiple platform build/check report for BioC 3.9 | 
 | 
This page was generated on 2019-04-09 12:37:45 -0400 (Tue, 09 Apr 2019).
| Package 1615/1703 | Hostname | OS / Arch | INSTALL | BUILD | CHECK | BUILD BIN | ||||||
| TissueEnrich 1.3.1 Ashish Jain 
 | malbec2 | Linux (Ubuntu 18.04.2 LTS) / x86_64 | OK | OK | OK |  | ||||||
| tokay2 | Windows Server 2012 R2 Standard / x64 | OK | OK | OK | [ OK ] |  | ||||||
| celaya2 | OS X 10.11.6 El Capitan / x86_64 | OK | OK | OK | OK |  | ||||||
| merida2 | OS X 10.11.6 El Capitan / x86_64 | OK | OK | OK | OK | 
| Package: TissueEnrich | 
| Version: 1.3.1 | 
| Command: rm -rf TissueEnrich.buildbin-libdir && mkdir TissueEnrich.buildbin-libdir && C:\Users\biocbuild\bbs-3.9-bioc\R\bin\R.exe CMD INSTALL --merge-multiarch --build --library=TissueEnrich.buildbin-libdir TissueEnrich_1.3.1.tar.gz | 
| StartedAt: 2019-04-09 09:07:06 -0400 (Tue, 09 Apr 2019) | 
| EndedAt: 2019-04-09 09:07:46 -0400 (Tue, 09 Apr 2019) | 
| EllapsedTime: 40.1 seconds | 
| RetCode: 0 | 
| Status: OK | 
| PackageFile: TissueEnrich_1.3.1.zip | 
| PackageFileSize: 3.332 MiB | 
##############################################################################
##############################################################################
###
### Running command:
###
###   rm -rf TissueEnrich.buildbin-libdir && mkdir TissueEnrich.buildbin-libdir && C:\Users\biocbuild\bbs-3.9-bioc\R\bin\R.exe CMD INSTALL --merge-multiarch --build --library=TissueEnrich.buildbin-libdir TissueEnrich_1.3.1.tar.gz
###
##############################################################################
##############################################################################
install for i386
* installing *source* package 'TissueEnrich' ...
** R
** inst
** byte-compile and prepare package for lazy loading
** help
*** installing help indices
  converting help for package 'TissueEnrich'
    finding HTML links ... done
    teEnrichment                            html  
    teEnrichmentCustom                      html  
    teGeneRetrieval                         html  
** building package indices
** installing vignettes
** testing if installed package can be loaded from temporary location
** testing if installed package can be loaded from final location
** testing if installed package keeps a record of temporary installation path
install for x64
* installing *source* package 'TissueEnrich' ...
** testing if installed package can be loaded
* MD5 sums
packaged installation of 'TissueEnrich' as TissueEnrich_1.3.1.zip
* DONE (TissueEnrich)