| Back to Multiple platform build/check report for BioC 3.9 |
|
This page was generated on 2019-04-09 13:24:46 -0400 (Tue, 09 Apr 2019).
| Package 1593/1703 | Hostname | OS / Arch | INSTALL | BUILD | CHECK | BUILD BIN | ||||||
| TargetSearch 1.39.2 Alvaro Cuadros-Inostroza
| malbec2 | Linux (Ubuntu 18.04.2 LTS) / x86_64 | OK | OK | OK | |||||||
| tokay2 | Windows Server 2012 R2 Standard / x64 | OK | OK | OK | OK | |||||||
| celaya2 | OS X 10.11.6 El Capitan / x86_64 | OK | OK | OK | OK | |||||||
| merida2 | OS X 10.11.6 El Capitan / x86_64 | OK | OK | [ OK ] | OK |
| Package: TargetSearch |
| Version: 1.39.2 |
| Command: /Library/Frameworks/R.framework/Versions/Current/Resources/bin/R CMD check --install=check:TargetSearch.install-out.txt --library=/Library/Frameworks/R.framework/Versions/Current/Resources/library --no-vignettes --timings TargetSearch_1.39.2.tar.gz |
| StartedAt: 2019-04-09 04:03:51 -0400 (Tue, 09 Apr 2019) |
| EndedAt: 2019-04-09 04:05:02 -0400 (Tue, 09 Apr 2019) |
| EllapsedTime: 71.3 seconds |
| RetCode: 0 |
| Status: OK |
| CheckDir: TargetSearch.Rcheck |
| Warnings: 0 |
##############################################################################
##############################################################################
###
### Running command:
###
### /Library/Frameworks/R.framework/Versions/Current/Resources/bin/R CMD check --install=check:TargetSearch.install-out.txt --library=/Library/Frameworks/R.framework/Versions/Current/Resources/library --no-vignettes --timings TargetSearch_1.39.2.tar.gz
###
##############################################################################
##############################################################################
* using log directory ‘/Users/biocbuild/bbs-3.9-bioc/meat/TargetSearch.Rcheck’
* using R Under development (unstable) (2018-11-27 r75683)
* using platform: x86_64-apple-darwin15.6.0 (64-bit)
* using session charset: UTF-8
* using option ‘--no-vignettes’
* checking for file ‘TargetSearch/DESCRIPTION’ ... OK
* checking extension type ... Package
* this is package ‘TargetSearch’ version ‘1.39.2’
* checking package namespace information ... OK
* checking package dependencies ... OK
* checking if this is a source package ... OK
* checking if there is a namespace ... OK
* checking for hidden files and directories ... OK
* checking for portable file names ... OK
* checking for sufficient/correct file permissions ... OK
* checking whether package ‘TargetSearch’ can be installed ... OK
* checking installed package size ... OK
* checking package directory ... OK
* checking ‘build’ directory ... OK
* checking DESCRIPTION meta-information ... OK
* checking top-level files ... OK
* checking for left-over files ... OK
* checking index information ... OK
* checking package subdirectories ... OK
* checking R files for non-ASCII characters ... OK
* checking R files for syntax errors ... OK
* checking whether the package can be loaded ... OK
* checking whether the package can be loaded with stated dependencies ... OK
* checking whether the package can be unloaded cleanly ... OK
* checking whether the namespace can be loaded with stated dependencies ... OK
* checking whether the namespace can be unloaded cleanly ... OK
* checking dependencies in R code ... OK
* checking S3 generic/method consistency ... OK
* checking replacement functions ... OK
* checking foreign function calls ... OK
* checking R code for possible problems ... OK
* checking Rd files ... OK
* checking Rd metadata ... OK
* checking Rd cross-references ... OK
* checking for missing documentation entries ... OK
* checking for code/documentation mismatches ... OK
* checking Rd \usage sections ... OK
* checking Rd contents ... OK
* checking for unstated dependencies in examples ... OK
* checking contents of ‘data’ directory ... OK
* checking data for non-ASCII characters ... OK
* checking data for ASCII and uncompressed saves ... OK
* checking line endings in C/C++/Fortran sources/headers ... OK
* checking compiled code ... NOTE
Note: information on .o files is not available
* checking sizes of PDF files under ‘inst/doc’ ... OK
* checking installed files from ‘inst/doc’ ... OK
* checking files in ‘vignettes’ ... OK
* checking examples ... OK
Examples with CPU or elapsed time > 5s
user system elapsed
RIcorrect 8.342 0.61 9.129
* checking for unstated dependencies in vignettes ... OK
* checking package vignettes in ‘inst/doc’ ... OK
* checking running R code from vignettes ... SKIPPED
* checking re-building of vignette outputs ... SKIPPED
* checking PDF version of manual ... OK
* DONE
Status: 1 NOTE
See
‘/Users/biocbuild/bbs-3.9-bioc/meat/TargetSearch.Rcheck/00check.log’
for details.
TargetSearch.Rcheck/00install.out
############################################################################## ############################################################################## ### ### Running command: ### ### /Library/Frameworks/R.framework/Versions/Current/Resources/bin/R CMD INSTALL TargetSearch ### ############################################################################## ############################################################################## * installing to library ‘/Library/Frameworks/R.framework/Versions/3.6/Resources/library’ * installing *source* package ‘TargetSearch’ ... ** libs clang -I"/Library/Frameworks/R.framework/Resources/include" -DNDEBUG -I/usr/local/include -fPIC -Wall -g -O2 -c Rinit.c -o Rinit.o clang -I"/Library/Frameworks/R.framework/Resources/include" -DNDEBUG -I/usr/local/include -fPIC -Wall -g -O2 -c detection.c -o detection.o clang -I"/Library/Frameworks/R.framework/Resources/include" -DNDEBUG -I/usr/local/include -fPIC -Wall -g -O2 -c file.c -o file.o clang -I"/Library/Frameworks/R.framework/Resources/include" -DNDEBUG -I/usr/local/include -fPIC -Wall -g -O2 -c find_peaks.c -o find_peaks.o clang -I"/Library/Frameworks/R.framework/Resources/include" -DNDEBUG -I/usr/local/include -fPIC -Wall -g -O2 -c getLine.c -o getLine.o clang -I"/Library/Frameworks/R.framework/Resources/include" -DNDEBUG -I/usr/local/include -fPIC -Wall -g -O2 -c hpf.c -o hpf.o clang -I"/Library/Frameworks/R.framework/Resources/include" -DNDEBUG -I/usr/local/include -fPIC -Wall -g -O2 -c matrix.c -o matrix.o clang -I"/Library/Frameworks/R.framework/Resources/include" -DNDEBUG -I/usr/local/include -fPIC -Wall -g -O2 -c ncdf.c -o ncdf.o clang -I"/Library/Frameworks/R.framework/Resources/include" -DNDEBUG -I/usr/local/include -fPIC -Wall -g -O2 -c peak.c -o peak.o clang -I"/Library/Frameworks/R.framework/Resources/include" -DNDEBUG -I/usr/local/include -fPIC -Wall -g -O2 -c utils.c -o utils.o clang -dynamiclib -Wl,-headerpad_max_install_names -undefined dynamic_lookup -single_module -multiply_defined suppress -L/Library/Frameworks/R.framework/Resources/lib -L/usr/local/lib -o TargetSearch.so Rinit.o detection.o file.o find_peaks.o getLine.o hpf.o matrix.o ncdf.o peak.o utils.o -F/Library/Frameworks/R.framework/.. -framework R -Wl,-framework -Wl,CoreFoundation installing to /Library/Frameworks/R.framework/Versions/3.6/Resources/library/TargetSearch/libs ** R ** data ** inst ** byte-compile and prepare package for lazy loading ** help *** installing help indices ** building package indices ** installing vignettes ‘RICorrection.Rnw’ ‘TargetSearch.Rnw’ ** testing if installed package can be loaded * DONE (TargetSearch)
TargetSearch.Rcheck/TargetSearch-Ex.timings
| name | user | system | elapsed | |
| FAMEoutliers | 0.062 | 0.010 | 0.073 | |
| FindAllPeaks | 1.093 | 0.045 | 1.149 | |
| FindPeaks | 0.382 | 0.012 | 0.399 | |
| ImportFameSettings | 0.012 | 0.001 | 0.013 | |
| ImportLibrary | 0.034 | 0.002 | 0.036 | |
| ImportSamples | 0.006 | 0.001 | 0.007 | |
| NetCDFPeakFinding | 0.180 | 0.035 | 0.219 | |
| Profile | 1.583 | 0.064 | 1.658 | |
| ProfileCleanUp | 1.319 | 0.043 | 1.368 | |
| RIcorrect | 8.342 | 0.610 | 9.129 | |
| TSExample | 2.814 | 0.218 | 3.055 | |
| checkRimLim | 0.167 | 0.016 | 0.184 | |
| fixRI | 0.958 | 0.063 | 1.043 | |
| medianRILib | 0.771 | 0.025 | 0.808 | |
| peakFind | 0.407 | 0.014 | 0.424 | |
| plotFAME | 0.022 | 0.003 | 0.026 | |
| plotPeak | 0.217 | 0.018 | 0.237 | |
| plotPeakRI | 1.136 | 0.040 | 1.194 | |
| plotPeakSimple | 0.339 | 0.028 | 0.375 | |
| plotRIdev | 0.684 | 0.043 | 0.734 | |
| plotSpectra | 0.426 | 0.017 | 0.445 | |
| quantMatrix | 1.333 | 0.060 | 1.401 | |
| ri2rt | 0.008 | 0.001 | 0.008 | |
| riMatrix | 0.766 | 0.050 | 0.822 | |
| rt2ri | 0.004 | 0.000 | 0.005 | |
| sampleRI | 0.791 | 0.024 | 0.821 | |
| tsLib-class | 0.035 | 0.004 | 0.037 | |
| tsMSdata-class | 0.001 | 0.000 | 0.001 | |
| tsProfile-class | 0.001 | 0.000 | 0.001 | |
| tsRim-class | 0.002 | 0.001 | 0.003 | |
| tsSample-class | 0.022 | 0.004 | 0.024 | |
| writeLibText | 0.034 | 0.002 | 0.036 | |