| Back to Multiple platform build/check report for BioC 3.9 |
|
This page was generated on 2019-04-09 12:06:53 -0400 (Tue, 09 Apr 2019).
| Package 1592/1703 | Hostname | OS / Arch | INSTALL | BUILD | CHECK | BUILD BIN | ||||||
| TargetScore 1.21.0 Yue Li
| malbec2 | Linux (Ubuntu 18.04.2 LTS) / x86_64 | OK | OK | OK | |||||||
| tokay2 | Windows Server 2012 R2 Standard / x64 | [ OK ] | OK | WARNINGS | OK | |||||||
| celaya2 | OS X 10.11.6 El Capitan / x86_64 | OK | OK | OK | OK | |||||||
| merida2 | OS X 10.11.6 El Capitan / x86_64 | OK | OK | OK | OK |
| Package: TargetScore |
| Version: 1.21.0 |
| Command: C:\cygwin\bin\curl.exe -O https://malbec2.bioconductor.org/BBS/3.9/bioc/src/contrib/TargetScore_1.21.0.tar.gz && rm -rf TargetScore.buildbin-libdir && mkdir TargetScore.buildbin-libdir && C:\Users\biocbuild\bbs-3.9-bioc\R\bin\R.exe CMD INSTALL --merge-multiarch --build --library=TargetScore.buildbin-libdir TargetScore_1.21.0.tar.gz && C:\Users\biocbuild\bbs-3.9-bioc\R\bin\R.exe CMD INSTALL TargetScore_1.21.0.zip && rm TargetScore_1.21.0.tar.gz TargetScore_1.21.0.zip |
| StartedAt: 2019-04-08 18:48:50 -0400 (Mon, 08 Apr 2019) |
| EndedAt: 2019-04-08 18:49:33 -0400 (Mon, 08 Apr 2019) |
| EllapsedTime: 42.6 seconds |
| RetCode: 0 |
| Status: OK |
##############################################################################
##############################################################################
###
### Running command:
###
### C:\cygwin\bin\curl.exe -O https://malbec2.bioconductor.org/BBS/3.9/bioc/src/contrib/TargetScore_1.21.0.tar.gz && rm -rf TargetScore.buildbin-libdir && mkdir TargetScore.buildbin-libdir && C:\Users\biocbuild\bbs-3.9-bioc\R\bin\R.exe CMD INSTALL --merge-multiarch --build --library=TargetScore.buildbin-libdir TargetScore_1.21.0.tar.gz && C:\Users\biocbuild\bbs-3.9-bioc\R\bin\R.exe CMD INSTALL TargetScore_1.21.0.zip && rm TargetScore_1.21.0.tar.gz TargetScore_1.21.0.zip
###
##############################################################################
##############################################################################
% Total % Received % Xferd Average Speed Time Time Time Current
Dload Upload Total Spent Left Speed
0 0 0 0 0 0 0 0 --:--:-- --:--:-- --:--:-- 0
100 420k 100 420k 0 0 6873k 0 --:--:-- --:--:-- --:--:-- 7932k
install for i386
* installing *source* package 'TargetScore' ...
** R
** inst
** byte-compile and prepare package for lazy loading
** help
*** installing help indices
converting help for package 'TargetScore'
finding HTML links ... done
TargetScore-package html
bsxfun.se html
dot.ext html
getTargetScores html
initialization html
logmvgamma html
Rd warning: C:/Users/biocbuild/bbs-3.9-bioc/tmpdir/Rtmp00Wx0U/R.INSTALLfd45ef72d50/TargetScore/man/logmvgamma.Rd:44: file link 'lgamma' in package 'base' does not exist and so has been treated as a topic
logsumexp html
sort_components html
targetScore html
vbgmm html
vbound html
vexp html
vmax html
** building package indices
** installing vignettes
** testing if installed package can be loaded from temporary location
** testing if installed package can be loaded from final location
** testing if installed package keeps a record of temporary installation path
install for x64
* installing *source* package 'TargetScore' ...
** testing if installed package can be loaded
* MD5 sums
packaged installation of 'TargetScore' as TargetScore_1.21.0.zip
* DONE (TargetScore)
* installing to library 'C:/Users/biocbuild/bbs-3.9-bioc/R/library'
package 'TargetScore' successfully unpacked and MD5 sums checked