| Back to Multiple platform build/check report for BioC 3.9 | 
  | 
This page was generated on 2019-04-09 12:31:06 -0400 (Tue, 09 Apr 2019).
| Package 1648/1703 | Hostname | OS / Arch | INSTALL | BUILD | CHECK | BUILD BIN | ||||||
| TSRchitect 1.9.0 R. Taylor Raborn 
  | malbec2 | Linux (Ubuntu 18.04.2 LTS) / x86_64 | OK | OK | OK | |||||||
| tokay2 | Windows Server 2012 R2 Standard / x64 | OK | OK | WARNINGS | [ OK ] | |||||||
| celaya2 | OS X 10.11.6 El Capitan / x86_64 | OK | OK | OK | OK | |||||||
| merida2 | OS X 10.11.6 El Capitan / x86_64 | OK | OK | OK | OK | 
| Package: TSRchitect | 
| Version: 1.9.0 | 
| Command: rm -rf TSRchitect.buildbin-libdir && mkdir TSRchitect.buildbin-libdir && C:\Users\biocbuild\bbs-3.9-bioc\R\bin\R.exe CMD INSTALL --merge-multiarch --build --library=TSRchitect.buildbin-libdir TSRchitect_1.9.0.tar.gz | 
| StartedAt: 2019-04-09 09:09:17 -0400 (Tue, 09 Apr 2019) | 
| EndedAt: 2019-04-09 09:10:09 -0400 (Tue, 09 Apr 2019) | 
| EllapsedTime: 52.1 seconds | 
| RetCode: 0 | 
| Status: OK | 
| PackageFile: TSRchitect_1.9.0.zip | 
| PackageFileSize: 2.286 MiB | 
##############################################################################
##############################################################################
###
### Running command:
###
###   rm -rf TSRchitect.buildbin-libdir && mkdir TSRchitect.buildbin-libdir && C:\Users\biocbuild\bbs-3.9-bioc\R\bin\R.exe CMD INSTALL --merge-multiarch --build --library=TSRchitect.buildbin-libdir TSRchitect_1.9.0.tar.gz
###
##############################################################################
##############################################################################
install for i386
* installing *source* package 'TSRchitect' ...
** R
** inst
** byte-compile and prepare package for lazy loading
** help
*** installing help indices
  converting help for package 'TSRchitect'
    finding HTML links ... done
    TSRchitectUsersGuide                    html  
    addAnnotationToTSR-methods              html  
    finding level-2 HTML links ... done
    addTagCountsToTSR-methods               html  
    bedToTSS-methods                        html  
    cDNAtoBED-methods                       html  
    createSummarizedExperiment-methods      html  
    detTSR-methods                          html  
    determineTSR-methods                    html  
    getBamData-methods                      html  
    getFileNames-methods                    html  
    getTSRdata-methods                      html  
    getTSScountData-methods                 html  
    getTSStagData-methods                   html  
    getTitle-methods                        html  
    importAnnotationExternal-methods        html  
Rd warning: C:/Users/biocbuild/bbs-3.9-bioc/tmpdir/RtmpGgIsim/R.INSTALL8cc1e8b4a43/TSRchitect/man/importAnnotationExternal-methods.Rd:37: file link 'import.bed' in package 'rtracklayer' does not exist and so has been treated as a topic
Rd warning: C:/Users/biocbuild/bbs-3.9-bioc/tmpdir/RtmpGgIsim/R.INSTALL8cc1e8b4a43/TSRchitect/man/importAnnotationExternal-methods.Rd:38: file link 'import.gff' in package 'rtracklayer' does not exist and so has been treated as a topic
Rd warning: C:/Users/biocbuild/bbs-3.9-bioc/tmpdir/RtmpGgIsim/R.INSTALL8cc1e8b4a43/TSRchitect/man/importAnnotationExternal-methods.Rd:39: file link 'import.gff3' in package 'rtracklayer' does not exist and so has been treated as a topic
    importAnnotationHub-methods             html  
Rd warning: C:/Users/biocbuild/bbs-3.9-bioc/tmpdir/RtmpGgIsim/R.INSTALL8cc1e8b4a43/TSRchitect/man/importAnnotationHub-methods.Rd:44: file link 'AnnotationHub' in package 'AnnotationHub' does not exist and so has been treated as a topic
    inputToTSS-methods                      html  
    loadTSSobj-methods                      html  
    makeGRangesFromTSR-methods              html  
    mergeSampleData-methods                 html  
    processTSS-methods                      html  
    tsrCluster                              html  
    tssObject                               html  
    writeTSR-methods                        html  
** building package indices
** installing vignettes
** testing if installed package can be loaded from temporary location
** testing if installed package can be loaded from final location
** testing if installed package keeps a record of temporary installation path
install for x64
* installing *source* package 'TSRchitect' ...
** testing if installed package can be loaded
* MD5 sums
packaged installation of 'TSRchitect' as TSRchitect_1.9.0.zip
* DONE (TSRchitect)