| Back to Multiple platform build/check report for BioC 3.9 | 
 | 
This page was generated on 2019-04-09 12:23:44 -0400 (Tue, 09 Apr 2019).
| Package 1626/1703 | Hostname | OS / Arch | INSTALL | BUILD | CHECK | BUILD BIN | ||||||
| TPP 3.11.1 Dorothee Childs 
 | malbec2 | Linux (Ubuntu 18.04.2 LTS) / x86_64 | OK | OK | OK |  | ||||||
| tokay2 | Windows Server 2012 R2 Standard / x64 | OK | OK | OK | [ OK ] |  | ||||||
| celaya2 | OS X 10.11.6 El Capitan / x86_64 | OK | OK | OK | OK |  | ||||||
| merida2 | OS X 10.11.6 El Capitan / x86_64 | OK | OK | OK | OK | 
| Package: TPP | 
| Version: 3.11.1 | 
| Command: rm -rf TPP.buildbin-libdir && mkdir TPP.buildbin-libdir && C:\Users\biocbuild\bbs-3.9-bioc\R\bin\R.exe CMD INSTALL --merge-multiarch --build --library=TPP.buildbin-libdir TPP_3.11.1.tar.gz | 
| StartedAt: 2019-04-09 09:07:50 -0400 (Tue, 09 Apr 2019) | 
| EndedAt: 2019-04-09 09:08:38 -0400 (Tue, 09 Apr 2019) | 
| EllapsedTime: 47.7 seconds | 
| RetCode: 0 | 
| Status: OK | 
| PackageFile: TPP_3.11.1.zip | 
| PackageFileSize: 8.952 MiB | 
##############################################################################
##############################################################################
###
### Running command:
###
###   rm -rf TPP.buildbin-libdir && mkdir TPP.buildbin-libdir && C:\Users\biocbuild\bbs-3.9-bioc\R\bin\R.exe CMD INSTALL --merge-multiarch --build --library=TPP.buildbin-libdir TPP_3.11.1.tar.gz
###
##############################################################################
##############################################################################
install for i386
* installing *source* package 'TPP' ...
** R
** data
** inst
** byte-compile and prepare package for lazy loading
** help
*** installing help indices
  converting help for package 'TPP'
    finding HTML links ... done
    TPP-deprecated                          html  
    TPP                                     html  
    TPPTR_reference_results_HepG2           html  
    analyze2DTPP                            html  
    finding level-2 HTML links ... done
    analyzeTPPCCR                           html  
    analyzeTPPTR                            html  
    hdacCCR_config                          html  
    hdacCCR_data                            html  
    hdacCCR_smallExample                    html  
    hdacTR_config                           html  
    hdacTR_data                             html  
    hdacTR_resultsTable_smallExample        html  
    hdacTR_smallExample                     html  
    panobinostat_2DTPP_config               html  
    panobinostat_2DTPP_data                 html  
    panobinostat_2DTPP_smallExample         html  
    resultTable                             html  
    tpp2dAddAdditionalInfo                  html  
    tpp2dCalcFractAbundance                 html  
    tpp2dComputeFoldChanges                 html  
    tpp2dCreateDRplots                      html  
    tpp2dCreateReport                       html  
    tpp2dCreateTPPTRreference               html  
    tpp2dCurveFit                           html  
    tpp2dExport                             html  
    tpp2dExportPlots                        html  
    tpp2dImport                             html  
    tpp2dMerge2dRef                         html  
    tpp2dNormalize                          html  
    tpp2dPlotQChist                         html  
    tpp2dPlotQCpEC50                        html  
    tpp2dSplineFitAndTest                   html  
    tpp2dSplinePlot                         html  
    tpp2dTRReferenceObject                  html  
    tppDefaultTheme                         html  
    tppExport                               html  
    tppQCPlotsCorrelateExperiments          html  
    tppRefData                              html  
    tppccrCurveFit                          html  
    tppccrImport                            html  
    tppccrNormalize                         html  
    tppccrNormalizeToReference              html  
    tppccrPlotCurves                        html  
    tppccrResultTable                       html  
    tppccrTransform                         html  
    tpptrAnalyzeMeltingCurves               html  
    tpptrCurveFit                           html  
    tpptrDefaultNormReqs                    html  
    tpptrFTest                              html  
    tpptrFitSplines                         html  
    tpptrImport                             html  
    tpptrNormalize                          html  
    tpptrPlotSplines                        html  
    tpptrSplineFitAndTest                   html  
    tpptrTidyUpESets                        html  
** building package indices
** installing vignettes
** testing if installed package can be loaded from temporary location
** testing if installed package can be loaded from final location
** testing if installed package keeps a record of temporary installation path
install for x64
* installing *source* package 'TPP' ...
** testing if installed package can be loaded
* MD5 sums
packaged installation of 'TPP' as TPP_3.11.1.zip
* DONE (TPP)