| Back to Multiple platform build/check report for BioC 3.9 |
|
This page was generated on 2019-04-09 13:31:14 -0400 (Tue, 09 Apr 2019).
| Package 1614/1703 | Hostname | OS / Arch | INSTALL | BUILD | CHECK | BUILD BIN | ||||||
| TIN 1.15.0 Bjarne Johannessen
| malbec2 | Linux (Ubuntu 18.04.2 LTS) / x86_64 | OK | OK | OK | |||||||
| tokay2 | Windows Server 2012 R2 Standard / x64 | OK | OK | OK | OK | |||||||
| celaya2 | OS X 10.11.6 El Capitan / x86_64 | OK | OK | OK | OK | |||||||
| merida2 | OS X 10.11.6 El Capitan / x86_64 | OK | OK | OK | [ OK ] |
| Package: TIN |
| Version: 1.15.0 |
| Command: rm -rf TIN.buildbin-libdir && mkdir TIN.buildbin-libdir && /Users/biocbuild/BBS/utils/build-universal.sh TIN_1.15.0.tar.gz /Library/Frameworks/R.framework/Versions/Current/Resources/bin/R TIN.buildbin-libdir |
| StartedAt: 2019-04-09 06:39:55 -0400 (Tue, 09 Apr 2019) |
| EndedAt: 2019-04-09 06:41:11 -0400 (Tue, 09 Apr 2019) |
| EllapsedTime: 76.4 seconds |
| RetCode: 0 |
| Status: OK |
| PackageFile: TIN_1.15.0.tgz |
| PackageFileSize: 4.573 MiB |
##############################################################################
##############################################################################
###
### Running command:
###
### rm -rf TIN.buildbin-libdir && mkdir TIN.buildbin-libdir && /Users/biocbuild/BBS/utils/build-universal.sh TIN_1.15.0.tar.gz /Library/Frameworks/R.framework/Versions/Current/Resources/bin/R TIN.buildbin-libdir
###
##############################################################################
##############################################################################
>>>>>>>
>>>>>>> INSTALLATION WITH 'R CMD INSTALL --preclean --no-multiarch --library=TIN.buildbin-libdir TIN_1.15.0.tar.gz'
>>>>>>>
* installing *source* package ‘TIN’ ...
** R
** data
** inst
** byte-compile and prepare package for lazy loading
The following object is masked _by_ package:aroma.affymetrix:
writeCdf
The following object is masked from package:R.utils:
findFiles
** help
*** installing help indices
** building package indices
** installing vignettes
** testing if installed package can be loaded
The following object is masked _by_ package:aroma.affymetrix:
writeCdf
The following object is masked from package:R.utils:
findFiles
* DONE (TIN)