| Back to Multiple platform build/check report for BioC 3.9 |
|
This page was generated on 2019-04-09 12:38:13 -0400 (Tue, 09 Apr 2019).
| Package 1608/1703 | Hostname | OS / Arch | INSTALL | BUILD | CHECK | BUILD BIN | ||||||
| TFutils 1.3.4 Shweta Gopaulakrishnan
| malbec2 | Linux (Ubuntu 18.04.2 LTS) / x86_64 | OK | OK | WARNINGS | |||||||
| tokay2 | Windows Server 2012 R2 Standard / x64 | OK | OK | WARNINGS | [ OK ] | |||||||
| celaya2 | OS X 10.11.6 El Capitan / x86_64 | OK | OK | WARNINGS | OK | |||||||
| merida2 | OS X 10.11.6 El Capitan / x86_64 | OK | OK | OK | OK |
| Package: TFutils |
| Version: 1.3.4 |
| Command: rm -rf TFutils.buildbin-libdir && mkdir TFutils.buildbin-libdir && C:\Users\biocbuild\bbs-3.9-bioc\R\bin\R.exe CMD INSTALL --merge-multiarch --build --library=TFutils.buildbin-libdir TFutils_1.3.4.tar.gz |
| StartedAt: 2019-04-09 09:06:09 -0400 (Tue, 09 Apr 2019) |
| EndedAt: 2019-04-09 09:07:14 -0400 (Tue, 09 Apr 2019) |
| EllapsedTime: 65.1 seconds |
| RetCode: 0 |
| Status: OK |
| PackageFile: TFutils_1.3.4.zip |
| PackageFileSize: 2.215 MiB |
##############################################################################
##############################################################################
###
### Running command:
###
### rm -rf TFutils.buildbin-libdir && mkdir TFutils.buildbin-libdir && C:\Users\biocbuild\bbs-3.9-bioc\R\bin\R.exe CMD INSTALL --merge-multiarch --build --library=TFutils.buildbin-libdir TFutils_1.3.4.tar.gz
###
##############################################################################
##############################################################################
install for i386
* installing *source* package 'TFutils' ...
** R
** data
*** moving datasets to lazyload DB
** inst
** byte-compile and prepare package for lazy loading
Warning: in method for 'importFIMO' with signature '"TabixFile","GRanges"': no definition for classes "TabixFile", "GRanges"
** help
*** installing help indices
converting help for package 'TFutils'
finding HTML links ... done
HGNCmap html
TFCatalog-class html
TFCatalog html
TFtargs html
URL_s3_tf html
cisbpTFcat html
directHitsInCISBP html
encode690 html
fimo16 html
fimoMap html
genemodForGviz html
genemodelDF html
grabTab html
gwascat_hg19_chr17 html
hocomoco.mono html
hocomoco.mono.sep2018 html
importFIMO html
importFIMO_local_split html
metadata_tf html
named_tf html
setupHIZE html
show-TFCatalog-method html
tfhash html
tftColl html
tftCollMap html
topTraitsOfTargets html
** building package indices
** installing vignettes
** testing if installed package can be loaded from temporary location
** testing if installed package can be loaded from final location
** testing if installed package keeps a record of temporary installation path
install for x64
* installing *source* package 'TFutils' ...
** testing if installed package can be loaded
* MD5 sums
packaged installation of 'TFutils' as TFutils_1.3.4.zip
* DONE (TFutils)