| Back to Multiple platform build/check report for BioC 3.9 |
|
This page was generated on 2019-04-09 13:31:56 -0400 (Tue, 09 Apr 2019).
| Package 1596/1703 | Hostname | OS / Arch | INSTALL | BUILD | CHECK | BUILD BIN | ||||||
| TCGAbiolinks 2.11.5 Antonio Colaprico
| malbec2 | Linux (Ubuntu 18.04.2 LTS) / x86_64 | OK | OK | WARNINGS | |||||||
| tokay2 | Windows Server 2012 R2 Standard / x64 | OK | OK | WARNINGS | OK | |||||||
| celaya2 | OS X 10.11.6 El Capitan / x86_64 | OK | OK | WARNINGS | OK | |||||||
| merida2 | OS X 10.11.6 El Capitan / x86_64 | OK | OK | WARNINGS | [ OK ] |
| Package: TCGAbiolinks |
| Version: 2.11.5 |
| Command: rm -rf TCGAbiolinks.buildbin-libdir && mkdir TCGAbiolinks.buildbin-libdir && /Users/biocbuild/BBS/utils/build-universal.sh TCGAbiolinks_2.11.5.tar.gz /Library/Frameworks/R.framework/Versions/Current/Resources/bin/R TCGAbiolinks.buildbin-libdir |
| StartedAt: 2019-04-09 06:38:17 -0400 (Tue, 09 Apr 2019) |
| EndedAt: 2019-04-09 06:39:48 -0400 (Tue, 09 Apr 2019) |
| EllapsedTime: 91.3 seconds |
| RetCode: 0 |
| Status: OK |
| PackageFile: TCGAbiolinks_2.11.5.tgz |
| PackageFileSize: 61.68 MiB |
############################################################################## ############################################################################## ### ### Running command: ### ### rm -rf TCGAbiolinks.buildbin-libdir && mkdir TCGAbiolinks.buildbin-libdir && /Users/biocbuild/BBS/utils/build-universal.sh TCGAbiolinks_2.11.5.tar.gz /Library/Frameworks/R.framework/Versions/Current/Resources/bin/R TCGAbiolinks.buildbin-libdir ### ############################################################################## ############################################################################## >>>>>>> >>>>>>> INSTALLATION WITH 'R CMD INSTALL --preclean --no-multiarch --library=TCGAbiolinks.buildbin-libdir TCGAbiolinks_2.11.5.tar.gz' >>>>>>> * installing *source* package ‘TCGAbiolinks’ ... ** R ** data *** moving datasets to lazyload DB ** inst ** byte-compile and prepare package for lazy loading ** help *** installing help indices ** building package indices ** installing vignettes ** testing if installed package can be loaded * DONE (TCGAbiolinks)