| Back to Multiple platform build/check report for BioC 3.9 | 
 | 
This page was generated on 2019-04-09 13:26:02 -0400 (Tue, 09 Apr 2019).
| Package 1568/1703 | Hostname | OS / Arch | INSTALL | BUILD | CHECK | BUILD BIN | ||||||
| Streamer 1.29.1 Martin Morgan 
 | malbec2 | Linux (Ubuntu 18.04.2 LTS) / x86_64 | OK | OK | OK |  | ||||||
| tokay2 | Windows Server 2012 R2 Standard / x64 | OK | OK | OK | OK |  | ||||||
| celaya2 | OS X 10.11.6 El Capitan / x86_64 | OK | OK | OK | OK |  | ||||||
| merida2 | OS X 10.11.6 El Capitan / x86_64 | OK | OK | OK | [ OK ] | 
| Package: Streamer | 
| Version: 1.29.1 | 
| Command: rm -rf Streamer.buildbin-libdir && mkdir Streamer.buildbin-libdir && /Users/biocbuild/BBS/utils/build-universal.sh Streamer_1.29.1.tar.gz /Library/Frameworks/R.framework/Versions/Current/Resources/bin/R Streamer.buildbin-libdir | 
| StartedAt: 2019-04-09 06:36:02 -0400 (Tue, 09 Apr 2019) | 
| EndedAt: 2019-04-09 06:37:18 -0400 (Tue, 09 Apr 2019) | 
| EllapsedTime: 76.4 seconds | 
| RetCode: 0 | 
| Status: OK | 
| PackageFile: Streamer_1.29.1.tgz | 
| PackageFileSize: 525.1 KiB | 
############################################################################## ############################################################################## ### ### Running command: ### ### rm -rf Streamer.buildbin-libdir && mkdir Streamer.buildbin-libdir && /Users/biocbuild/BBS/utils/build-universal.sh Streamer_1.29.1.tar.gz /Library/Frameworks/R.framework/Versions/Current/Resources/bin/R Streamer.buildbin-libdir ### ############################################################################## ############################################################################## >>>>>>> >>>>>>> INSTALLATION WITH 'R CMD INSTALL --preclean --no-multiarch --library=Streamer.buildbin-libdir Streamer_1.29.1.tar.gz' >>>>>>> * installing *source* package ‘Streamer’ ... ** libs clang -I"/Library/Frameworks/R.framework/Resources/include" -DNDEBUG -I/usr/local/include -fPIC -Wall -g -O2 -c R_init_Streamer.c -o R_init_Streamer.o clang -I"/Library/Frameworks/R.framework/Resources/include" -DNDEBUG -I/usr/local/include -fPIC -Wall -g -O2 -c raw_input.c -o raw_input.o clang -dynamiclib -Wl,-headerpad_max_install_names -undefined dynamic_lookup -single_module -multiply_defined suppress -L/Library/Frameworks/R.framework/Resources/lib -L/usr/local/lib -o Streamer.so R_init_Streamer.o raw_input.o -F/Library/Frameworks/R.framework/.. -framework R -Wl,-framework -Wl,CoreFoundation installing to /Users/biocbuild/bbs-3.9-bioc/meat/Streamer.buildbin-libdir/Streamer/libs ** R ** inst ** byte-compile and prepare package for lazy loading ** help *** installing help indices ** building package indices ** installing vignettes ** testing if installed package can be loaded * DONE (Streamer) >>>>>>> >>>>>>> FIXING LINKS FOR Streamer.buildbin-libdir/Streamer/libs//Streamer.so >>>>>>> install_name_tool -change "/usr/local/lib/libgcc_s.1.dylib" "/Library/Frameworks/R.framework/Versions/3.6/Resources/lib/libgcc_s.1.dylib" "Streamer.buildbin-libdir/Streamer/libs//Streamer.so" install_name_tool -change "/usr/local/lib/libgfortran.3.dylib" "/Library/Frameworks/R.framework/Versions/3.6/Resources/lib/libgfortran.3.dylib" "Streamer.buildbin-libdir/Streamer/libs//Streamer.so" install_name_tool -change "/usr/local/lib/libreadline.5.2.dylib" "/Library/Frameworks/R.framework/Versions/3.6/Resources/lib/libreadline.5.2.dylib" "Streamer.buildbin-libdir/Streamer/libs//Streamer.so" install_name_tool -change "/usr/local/lib/libreadline.dylib" "/Library/Frameworks/R.framework/Versions/3.6/Resources/lib/libreadline.dylib" "Streamer.buildbin-libdir/Streamer/libs//Streamer.so" install_name_tool -change "/usr/local/lib/libquadmath.0.dylib" "/Library/Frameworks/R.framework/Versions/3.6/Resources/lib/libquadmath.0.dylib" "Streamer.buildbin-libdir/Streamer/libs//Streamer.so"