| Back to Multiple platform build/check report for BioC 3.9 |
|
This page was generated on 2019-04-09 13:38:38 -0400 (Tue, 09 Apr 2019).
| Package 1530/1703 | Hostname | OS / Arch | INSTALL | BUILD | CHECK | BUILD BIN | ||||||
| SpatialCPie 0.99.101 Joseph Bergenstraahle
| malbec2 | Linux (Ubuntu 18.04.2 LTS) / x86_64 | OK | OK | OK | |||||||
| tokay2 | Windows Server 2012 R2 Standard / x64 | OK | OK | OK | OK | |||||||
| celaya2 | OS X 10.11.6 El Capitan / x86_64 | ERROR | ERROR | skipped | skipped | |||||||
| merida2 | OS X 10.11.6 El Capitan / x86_64 | ERROR | [ ERROR ] | skipped | skipped |
| Package: SpatialCPie |
| Version: 0.99.101 |
| Command: /Library/Frameworks/R.framework/Versions/Current/Resources/bin/R CMD build --keep-empty-dirs --no-resave-data SpatialCPie |
| StartedAt: 2019-04-08 22:46:43 -0400 (Mon, 08 Apr 2019) |
| EndedAt: 2019-04-08 22:46:53 -0400 (Mon, 08 Apr 2019) |
| EllapsedTime: 9.9 seconds |
| RetCode: 1 |
| Status: ERROR |
| PackageFile: None |
| PackageFileSize: NA |
##############################################################################
##############################################################################
###
### Running command:
###
### /Library/Frameworks/R.framework/Versions/Current/Resources/bin/R CMD build --keep-empty-dirs --no-resave-data SpatialCPie
###
##############################################################################
##############################################################################
* checking for file ‘SpatialCPie/DESCRIPTION’ ... OK
* preparing ‘SpatialCPie’:
* checking DESCRIPTION meta-information ... OK
* installing the package to build vignettes
-----------------------------------
* installing *source* package ‘SpatialCPie’ ...
** R
** inst
** byte-compile and prepare package for lazy loading
Error in dyn.load(file, DLLpath = DLLpath, ...) :
unable to load shared object '/Library/Frameworks/R.framework/Versions/3.6/Resources/library/gdtools/libs/gdtools.so':
dlopen(/Library/Frameworks/R.framework/Versions/3.6/Resources/library/gdtools/libs/gdtools.so, 6): Symbol not found: _FT_Done_Face
Referenced from: /Library/Frameworks/R.framework/Versions/3.6/Resources/library/gdtools/libs/gdtools.so
Expected in: flat namespace
in /Library/Frameworks/R.framework/Versions/3.6/Resources/library/gdtools/libs/gdtools.so
ERROR: lazy loading failed for package ‘SpatialCPie’
* removing ‘/private/tmp/RtmpOlblmy/Rinst38a176f9e73c/SpatialCPie’
-----------------------------------
ERROR: package installation failed