| Back to Multiple platform build/check report for BioC 3.9 |
|
This page was generated on 2019-04-09 12:02:13 -0400 (Tue, 09 Apr 2019).
| Package 1460/1703 | Hostname | OS / Arch | INSTALL | BUILD | CHECK | BUILD BIN | ||||||
| SeqArray 1.23.9 Xiuwen Zheng
| malbec2 | Linux (Ubuntu 18.04.2 LTS) / x86_64 | OK | OK | OK | |||||||
| tokay2 | Windows Server 2012 R2 Standard / x64 | OK | OK | OK | [ OK ] | |||||||
| celaya2 | OS X 10.11.6 El Capitan / x86_64 | OK | OK | OK | OK | |||||||
| merida2 | OS X 10.11.6 El Capitan / x86_64 | OK | OK | OK | OK |
| Package: SeqArray |
| Version: 1.23.9 |
| Command: rm -rf SeqArray.buildbin-libdir && mkdir SeqArray.buildbin-libdir && C:\Users\biocbuild\bbs-3.9-bioc\R\bin\R.exe CMD INSTALL --merge-multiarch --build --library=SeqArray.buildbin-libdir SeqArray_1.23.9.tar.gz |
| StartedAt: 2019-04-09 08:56:53 -0400 (Tue, 09 Apr 2019) |
| EndedAt: 2019-04-09 08:58:15 -0400 (Tue, 09 Apr 2019) |
| EllapsedTime: 81.6 seconds |
| RetCode: 0 |
| Status: OK |
| PackageFile: SeqArray_1.23.9.zip |
| PackageFileSize: 3.748 MiB |
##############################################################################
##############################################################################
###
### Running command:
###
### rm -rf SeqArray.buildbin-libdir && mkdir SeqArray.buildbin-libdir && C:\Users\biocbuild\bbs-3.9-bioc\R\bin\R.exe CMD INSTALL --merge-multiarch --build --library=SeqArray.buildbin-libdir SeqArray_1.23.9.tar.gz
###
##############################################################################
##############################################################################
install for i386
* installing *source* package 'SeqArray' ...
** libs
C:/Rtools/mingw_32/bin/g++ -I"C:/Users/BIOCBU˜1/BBS-3˜1.9-B/R/include" -DNDEBUG -DUSING_R -I"C:/Users/biocbuild/bbs-3.9-bioc/R/library/gdsfmt/include" -I"C:/extsoft/include" -O2 -Wall -mtune=generic -c ConvGDS2VCF.cpp -o ConvGDS2VCF.o
C:/Rtools/mingw_32/bin/g++ -I"C:/Users/BIOCBU˜1/BBS-3˜1.9-B/R/include" -DNDEBUG -DUSING_R -I"C:/Users/biocbuild/bbs-3.9-bioc/R/library/gdsfmt/include" -I"C:/extsoft/include" -O2 -Wall -mtune=generic -c ConvToGDS.cpp -o ConvToGDS.o
C:/Rtools/mingw_32/bin/g++ -I"C:/Users/BIOCBU˜1/BBS-3˜1.9-B/R/include" -DNDEBUG -DUSING_R -I"C:/Users/biocbuild/bbs-3.9-bioc/R/library/gdsfmt/include" -I"C:/extsoft/include" -O2 -Wall -mtune=generic -c ConvVCF2GDS.cpp -o ConvVCF2GDS.o
C:/Rtools/mingw_32/bin/g++ -I"C:/Users/BIOCBU˜1/BBS-3˜1.9-B/R/include" -DNDEBUG -DUSING_R -I"C:/Users/biocbuild/bbs-3.9-bioc/R/library/gdsfmt/include" -I"C:/extsoft/include" -O2 -Wall -mtune=generic -c FileMerge.cpp -o FileMerge.o
C:/Rtools/mingw_32/bin/g++ -I"C:/Users/BIOCBU˜1/BBS-3˜1.9-B/R/include" -DNDEBUG -DUSING_R -I"C:/Users/biocbuild/bbs-3.9-bioc/R/library/gdsfmt/include" -I"C:/extsoft/include" -O2 -Wall -mtune=generic -c GetData.cpp -o GetData.o
C:/Rtools/mingw_32/bin/g++ -I"C:/Users/BIOCBU˜1/BBS-3˜1.9-B/R/include" -DNDEBUG -DUSING_R -I"C:/Users/biocbuild/bbs-3.9-bioc/R/library/gdsfmt/include" -I"C:/extsoft/include" -O2 -Wall -mtune=generic -c Index.cpp -o Index.o
C:/Rtools/mingw_32/bin/g++ -I"C:/Users/BIOCBU˜1/BBS-3˜1.9-B/R/include" -DNDEBUG -DUSING_R -I"C:/Users/biocbuild/bbs-3.9-bioc/R/library/gdsfmt/include" -I"C:/extsoft/include" -O2 -Wall -mtune=generic -c LinkSNPRelate.cpp -o LinkSNPRelate.o
C:/Rtools/mingw_32/bin/g++ -I"C:/Users/BIOCBU˜1/BBS-3˜1.9-B/R/include" -DNDEBUG -DUSING_R -I"C:/Users/biocbuild/bbs-3.9-bioc/R/library/gdsfmt/include" -I"C:/extsoft/include" -O2 -Wall -mtune=generic -c Methods.cpp -o Methods.o
C:/Rtools/mingw_32/bin/gcc -I"C:/Users/BIOCBU˜1/BBS-3˜1.9-B/R/include" -DNDEBUG -DUSING_R -I"C:/Users/biocbuild/bbs-3.9-bioc/R/library/gdsfmt/include" -I"C:/extsoft/include" -O3 -Wall -std=gnu99 -mtune=generic -c R_SeqArray.c -o R_SeqArray.o
C:/Rtools/mingw_32/bin/g++ -I"C:/Users/BIOCBU˜1/BBS-3˜1.9-B/R/include" -DNDEBUG -DUSING_R -I"C:/Users/biocbuild/bbs-3.9-bioc/R/library/gdsfmt/include" -I"C:/extsoft/include" -O2 -Wall -mtune=generic -c ReadBySample.cpp -o ReadBySample.o
C:/Rtools/mingw_32/bin/g++ -I"C:/Users/BIOCBU˜1/BBS-3˜1.9-B/R/include" -DNDEBUG -DUSING_R -I"C:/Users/biocbuild/bbs-3.9-bioc/R/library/gdsfmt/include" -I"C:/extsoft/include" -O2 -Wall -mtune=generic -c ReadByVariant.cpp -o ReadByVariant.o
C:/Rtools/mingw_32/bin/g++ -I"C:/Users/BIOCBU˜1/BBS-3˜1.9-B/R/include" -DNDEBUG -DUSING_R -I"C:/Users/biocbuild/bbs-3.9-bioc/R/library/gdsfmt/include" -I"C:/extsoft/include" -O2 -Wall -mtune=generic -c SeqArray.cpp -o SeqArray.o
C:/Rtools/mingw_32/bin/g++ -I"C:/Users/BIOCBU˜1/BBS-3˜1.9-B/R/include" -DNDEBUG -DUSING_R -I"C:/Users/biocbuild/bbs-3.9-bioc/R/library/gdsfmt/include" -I"C:/extsoft/include" -O2 -Wall -mtune=generic -c pkg_test.cpp -o pkg_test.o
C:/Rtools/mingw_32/bin/gcc -I"C:/Users/BIOCBU˜1/BBS-3˜1.9-B/R/include" -DNDEBUG -DUSING_R -I"C:/Users/biocbuild/bbs-3.9-bioc/R/library/gdsfmt/include" -I"C:/extsoft/include" -O3 -Wall -std=gnu99 -mtune=generic -c samtools_ext.c -o samtools_ext.o
C:/Rtools/mingw_32/bin/gcc -I"C:/Users/BIOCBU˜1/BBS-3˜1.9-B/R/include" -DNDEBUG -DUSING_R -I"C:/Users/biocbuild/bbs-3.9-bioc/R/library/gdsfmt/include" -I"C:/extsoft/include" -O3 -Wall -std=gnu99 -mtune=generic -c vectorization.c -o vectorization.o
C:/Rtools/mingw_32/bin/g++ -shared -s -static-libgcc -o SeqArray.dll tmp.def ConvGDS2VCF.o ConvToGDS.o ConvVCF2GDS.o FileMerge.o GetData.o Index.o LinkSNPRelate.o Methods.o R_SeqArray.o ReadBySample.o ReadByVariant.o SeqArray.o pkg_test.o samtools_ext.o vectorization.o -LC:/extsoft/lib/i386 -LC:/extsoft/lib -LC:/Users/BIOCBU˜1/BBS-3˜1.9-B/R/bin/i386 -lR
installing to C:/Users/biocbuild/bbs-3.9-bioc/meat/SeqArray.buildbin-libdir/00LOCK-SeqArray/00new/SeqArray/libs/i386
** R
** data
** inst
** byte-compile and prepare package for lazy loading
** help
*** installing help indices
converting help for package 'SeqArray'
finding HTML links ... done
KG_P1_SampData html
SeqArray-package html
SeqVarGDSClass-class html
finding level-2 HTML links ... done
seqAlleleFreq html
seqApply html
seqAsVCF html
seqBED2GDS html
seqBlockApply html
seqCheck html
seqClose html
seqDelete html
seqDigest html
seqExampleFileName html
seqExport html
seqGDS2SNP html
seqGDS2VCF html
seqGetData html
seqGetFilter html
seqMerge html
seqMissing html
seqNumAllele html
seqOpen html
seqOptimize html
seqParallel html
seqParallelSetup html
seqRecompress html
seqResetVariantID html
seqSNP2GDS html
seqSetFilter html
seqSetFilterCond html
seqStorageOption html
seqSummary html
seqSystem html
seqTranspose html
seqVCF2GDS html
seqVCF_Header html
seqVCF_SampID html
** building package indices
** installing vignettes
** testing if installed package can be loaded from temporary location
** testing if installed package can be loaded from final location
** testing if installed package keeps a record of temporary installation path
install for x64
* installing *source* package 'SeqArray' ...
** libs
C:/Rtools/mingw_64/bin/g++ -I"C:/Users/BIOCBU˜1/BBS-3˜1.9-B/R/include" -DNDEBUG -DUSING_R -I"C:/Users/biocbuild/bbs-3.9-bioc/R/library/gdsfmt/include" -I"C:/extsoft/include" -O2 -Wall -mtune=generic -c ConvGDS2VCF.cpp -o ConvGDS2VCF.o
C:/Rtools/mingw_64/bin/g++ -I"C:/Users/BIOCBU˜1/BBS-3˜1.9-B/R/include" -DNDEBUG -DUSING_R -I"C:/Users/biocbuild/bbs-3.9-bioc/R/library/gdsfmt/include" -I"C:/extsoft/include" -O2 -Wall -mtune=generic -c ConvToGDS.cpp -o ConvToGDS.o
C:/Rtools/mingw_64/bin/g++ -I"C:/Users/BIOCBU˜1/BBS-3˜1.9-B/R/include" -DNDEBUG -DUSING_R -I"C:/Users/biocbuild/bbs-3.9-bioc/R/library/gdsfmt/include" -I"C:/extsoft/include" -O2 -Wall -mtune=generic -c ConvVCF2GDS.cpp -o ConvVCF2GDS.o
C:/Rtools/mingw_64/bin/g++ -I"C:/Users/BIOCBU˜1/BBS-3˜1.9-B/R/include" -DNDEBUG -DUSING_R -I"C:/Users/biocbuild/bbs-3.9-bioc/R/library/gdsfmt/include" -I"C:/extsoft/include" -O2 -Wall -mtune=generic -c FileMerge.cpp -o FileMerge.o
C:/Rtools/mingw_64/bin/g++ -I"C:/Users/BIOCBU˜1/BBS-3˜1.9-B/R/include" -DNDEBUG -DUSING_R -I"C:/Users/biocbuild/bbs-3.9-bioc/R/library/gdsfmt/include" -I"C:/extsoft/include" -O2 -Wall -mtune=generic -c GetData.cpp -o GetData.o
C:/Rtools/mingw_64/bin/g++ -I"C:/Users/BIOCBU˜1/BBS-3˜1.9-B/R/include" -DNDEBUG -DUSING_R -I"C:/Users/biocbuild/bbs-3.9-bioc/R/library/gdsfmt/include" -I"C:/extsoft/include" -O2 -Wall -mtune=generic -c Index.cpp -o Index.o
C:/Rtools/mingw_64/bin/g++ -I"C:/Users/BIOCBU˜1/BBS-3˜1.9-B/R/include" -DNDEBUG -DUSING_R -I"C:/Users/biocbuild/bbs-3.9-bioc/R/library/gdsfmt/include" -I"C:/extsoft/include" -O2 -Wall -mtune=generic -c LinkSNPRelate.cpp -o LinkSNPRelate.o
C:/Rtools/mingw_64/bin/g++ -I"C:/Users/BIOCBU˜1/BBS-3˜1.9-B/R/include" -DNDEBUG -DUSING_R -I"C:/Users/biocbuild/bbs-3.9-bioc/R/library/gdsfmt/include" -I"C:/extsoft/include" -O2 -Wall -mtune=generic -c Methods.cpp -o Methods.o
C:/Rtools/mingw_64/bin/gcc -I"C:/Users/BIOCBU˜1/BBS-3˜1.9-B/R/include" -DNDEBUG -DUSING_R -I"C:/Users/biocbuild/bbs-3.9-bioc/R/library/gdsfmt/include" -I"C:/extsoft/include" -O2 -Wall -std=gnu99 -mtune=generic -c R_SeqArray.c -o R_SeqArray.o
C:/Rtools/mingw_64/bin/g++ -I"C:/Users/BIOCBU˜1/BBS-3˜1.9-B/R/include" -DNDEBUG -DUSING_R -I"C:/Users/biocbuild/bbs-3.9-bioc/R/library/gdsfmt/include" -I"C:/extsoft/include" -O2 -Wall -mtune=generic -c ReadBySample.cpp -o ReadBySample.o
C:/Rtools/mingw_64/bin/g++ -I"C:/Users/BIOCBU˜1/BBS-3˜1.9-B/R/include" -DNDEBUG -DUSING_R -I"C:/Users/biocbuild/bbs-3.9-bioc/R/library/gdsfmt/include" -I"C:/extsoft/include" -O2 -Wall -mtune=generic -c ReadByVariant.cpp -o ReadByVariant.o
C:/Rtools/mingw_64/bin/g++ -I"C:/Users/BIOCBU˜1/BBS-3˜1.9-B/R/include" -DNDEBUG -DUSING_R -I"C:/Users/biocbuild/bbs-3.9-bioc/R/library/gdsfmt/include" -I"C:/extsoft/include" -O2 -Wall -mtune=generic -c SeqArray.cpp -o SeqArray.o
C:/Rtools/mingw_64/bin/g++ -I"C:/Users/BIOCBU˜1/BBS-3˜1.9-B/R/include" -DNDEBUG -DUSING_R -I"C:/Users/biocbuild/bbs-3.9-bioc/R/library/gdsfmt/include" -I"C:/extsoft/include" -O2 -Wall -mtune=generic -c pkg_test.cpp -o pkg_test.o
C:/Rtools/mingw_64/bin/gcc -I"C:/Users/BIOCBU˜1/BBS-3˜1.9-B/R/include" -DNDEBUG -DUSING_R -I"C:/Users/biocbuild/bbs-3.9-bioc/R/library/gdsfmt/include" -I"C:/extsoft/include" -O2 -Wall -std=gnu99 -mtune=generic -c samtools_ext.c -o samtools_ext.o
C:/Rtools/mingw_64/bin/gcc -I"C:/Users/BIOCBU˜1/BBS-3˜1.9-B/R/include" -DNDEBUG -DUSING_R -I"C:/Users/biocbuild/bbs-3.9-bioc/R/library/gdsfmt/include" -I"C:/extsoft/include" -O2 -Wall -std=gnu99 -mtune=generic -c vectorization.c -o vectorization.o
C:/Rtools/mingw_64/bin/g++ -shared -s -static-libgcc -o SeqArray.dll tmp.def ConvGDS2VCF.o ConvToGDS.o ConvVCF2GDS.o FileMerge.o GetData.o Index.o LinkSNPRelate.o Methods.o R_SeqArray.o ReadBySample.o ReadByVariant.o SeqArray.o pkg_test.o samtools_ext.o vectorization.o -LC:/extsoft/lib/x64 -LC:/extsoft/lib -LC:/Users/BIOCBU˜1/BBS-3˜1.9-B/R/bin/x64 -lR
installing to C:/Users/biocbuild/bbs-3.9-bioc/meat/SeqArray.buildbin-libdir/SeqArray/libs/x64
** testing if installed package can be loaded
* MD5 sums
packaged installation of 'SeqArray' as SeqArray_1.23.9.zip
* DONE (SeqArray)